{"text_format":"1","workbook":"xlsx","n_sheets":7,"sheets":["Форма 4","Базовые цены за единицу без нач","Базовые цены за единицу","Базовые цены с учетом расхода","Начисления","Определители","Базовые концовки"],"not_rendered":{"charts":0,"images":0,"macros":1,"external_links":1,"defined_names":0,"comments":0,"pivot_tables":0},"unopened":[],"bounds":{"document_bytes":16777216,"sheet_cells":100000,"rows_first":2000,"rows_last":500,"rows_between":2000,"halvings":0,"cell_chars":16384,"cell_head_chars":4096},"cells_cut":0,"cells_raw":0,"read":"whole","date_system":"1900"}

{"sheet":"Форма 4","index":0,"n_rows":2134,"n_cols":18,"rows_kept":2134,"cut":false,"hidden":false,"merged":[[2034,1,2034,8],[2,0,2,3],[2,5,2,8],[3,0,3,1],[3,5,3,6],[4,0,4,3],[4,5,4,8],[5,0,5,3],[5,5,5,8],[16,0,16,9],[18,0,20,0],[18,1,20,1],[18,2,20,2],[12,2,12,9],[13,0,13,9],[14,0,14,9],[15,0,15,9],[18,5,18,7],[18,3,18,4],[19,5,20,5],[18,8,18,9],[19,8,19,9],[6,5,6,8],[7,0,7,3],[7,5,7,8],[8,0,8,3],[8,5,8,8],[6,0,6,3],[11,2,11,9],[19,6,20,6],[26,13,27,13],[26,5,27,5],[22,1,22,8],[24,1,25,9],[26,0,27,0],[26,1,27,1],[26,2,27,2],[26,6,27,6],[154,0,155,0],[154,1,155,1],[154,2,155,2],[98,2,99,2],[116,0,117,0],[80,0,81,0],[80,1,81,1],[135,0,136,0],[135,1,136,1],[135,2,136,2],[80,13,81,13],[44,6,45,6],[44,13,45,13],[62,5,63,5],[62,0,63,0],[62,1,63,1],[62,2,63,2],[44,0,45,0],[44,1,45,1],[44,2,45,2],[62,13,63,13],[80,2,81,2],[116,2,117,2],[116,6,117,6],[98,5,99,5],[44,5,45,5],[116,5,117,5],[98,6,99,6],[98,13,99,13],[62,6,63,6],[98,0,99,0],[98,1,99,1],[116,1,117,1],[80,6,81,6],[80,5,81,5],[118,1,118,9],[116,13,117,13],[333,13,334,13],[333,5,334,5],[253,8,254,8],[172,6,173,6],[172,13,173,13],[172,8,173,8],[154,13,155,13],[154,6,155,6],[135,6,136,6],[253,2,254,2],[253,5,254,5],[253,6,254,6],[253,13,254,13],[135,13,136,13],[135,5,136,5],[154,5,155,5],[251,6,252,6],[251,13,252,13],[251,8,252,8],[204,5,205,5],[204,6,205,6],[204,2,205,2],[204,13,205,13],[204,8,205,8],[351,5,352,5],[370,0,371,0],[251,17,252,17],[253,17,254,17],[172,2,173,2],[172,5,173,5],[172,17,173,17],[204,17,205,17],[251,2,252,2],[251,5,252,5],[333,0,334,0],[333,1,334,1],[333,2,334,2],[333,6,334,6],[370,6,371,6],[351,0,352,0],[351,1,352,1],[351,2,352,2],[351,6,352,6],[370,5,371,5],[331,1,332,9],[370,1,371,1],[370,2,371,2],[467,17,468,17],[388,13,389,13],[388,8,389,8],[351,13,352,13],[370,13,371,13],[420,13,421,13],[420,8,421,8],[549,13,550,13],[549,5,550,5],[469,17,470,17],[467,8,468,8],[467,5,468,5],[547,1,548,9],[388,17,389,17],[420,2,421,2],[420,5,421,5],[420,6,421,6],[388,5,389,5],[388,6,389,6],[420,17,421,17],[388,2,389,2],[469,2,470,2],[469,5,470,5],[469,6,470,6],[469,13,470,13],[469,8,470,8],[467,2,468,2],[467,13,468,13],[467,6,468,6],[568,2,569,2],[568,6,569,6],[549,0,550,0],[549,1,550,1],[549,2,550,2],[549,6,550,6],[645,13,646,13],[645,5,646,5],[645,0,646,0],[568,13,569,13],[568,5,569,5],[587,13,588,13],[587,5,588,5],[587,6,588,6],[568,0,569,0],[568,1,569,1],[587,0,588,0],[587,1,588,1],[587,2,588,2],[606,0,607,0],[606,1,607,1],[606,2,607,2],[665,0,666,0],[625,1,626,1],[625,2,626,2],[628,1,628,9],[648,1,648,9],[665,1,666,1],[645,1,646,1],[645,2,646,2],[625,6,626,6],[625,0,626,0],[606,13,607,13],[625,13,626,13],[625,5,626,5],[741,13,742,13],[741,5,742,5],[704,13,705,13],[722,13,723,13],[606,6,607,6],[606,5,607,5],[645,6,646,6],[759,6,760,6],[665,13,666,13],[684,13,685,13],[665,2,666,2],[665,6,666,6],[665,5,666,5],[759,13,760,13],[687,1,687,9],[797,17,798,17],[829,13,830,13],[829,17,830,17],[684,0,685,0],[684,1,685,1],[684,2,685,2],[684,6,685,6],[684,5,685,5],[778,13,779,13],[759,2,760,2],[704,0,705,0],[704,1,705,1],[704,2,705,2],[704,6,705,6],[704,5,705,5],[722,0,723,0],[722,1,723,1],[722,2,723,2],[722,6,723,6],[722,5,723,5],[878,17,879,17],[741,0,742,0],[741,1,742,1],[741,2,742,2],[741,6,742,6],[829,2,830,2],[759,5,760,5],[778,5,779,5],[797,2,798,2],[876,17,877,17],[878,5,879,5],[876,2,877,2],[876,5,877,5],[958,5,959,5],[961,1,961,9],[958,1,959,1],[958,2,959,2],[958,6,959,6],[876,6,877,6],[878,13,879,13],[878,8,879,8],[878,6,879,6],[956,1,957,9],[829,5,830,5],[797,5,798,5],[797,6,798,6],[829,8,830,8],[829,6,830,6],[878,2,879,2],[778,0,779,0],[778,1,779,1],[759,0,760,0],[759,1,760,1],[778,6,779,6],[876,13,877,13],[876,8,877,8],[778,2,779,2],[797,13,798,13],[797,8,798,8],[1059,5,1060,5],[1059,6,1060,6],[1039,5,1040,5],[982,1,982,9],[999,0,1000,0],[999,1,1000,1],[958,0,959,0],[978,6,979,6],[981,1,981,9],[978,1,979,1],[1039,13,1040,13],[978,2,979,2],[999,13,1000,13],[999,5,1000,5],[999,6,1000,6],[999,2,1000,2],[958,13,959,13],[1022,1,1022,9],[978,13,979,13],[978,5,979,5],[1002,1,1002,9],[978,0,979,0],[1059,17,1060,17],[1091,2,1092,2],[1091,5,1092,5],[1091,6,1092,6],[1091,13,1092,13],[1039,6,1040,6],[1019,13,1020,13],[1059,13,1060,13],[1091,17,1092,17],[1019,0,1020,0],[1019,1,1020,1],[1019,2,1020,2],[1019,6,1020,6],[1019,5,1020,5],[1039,1,1040,1],[1039,2,1040,2],[1039,0,1040,0],[1042,1,1042,9],[1297,0,1298,0],[1297,1,1298,1],[1297,2,1298,2],[1297,6,1298,6],[1258,1,1259,1],[1258,2,1259,2],[1258,6,1259,6],[1238,0,1239,0],[1238,1,1239,1],[1238,2,1239,2],[1238,6,1239,6],[1218,13,1219,13],[1218,5,1219,5],[1218,6,1219,6],[1218,0,1219,0],[1238,13,1239,13],[1238,5,1239,5],[1059,8,1060,8],[1241,1,1241,9],[1221,1,1221,9],[1218,1,1219,1],[1218,2,1219,2],[1216,1,1217,9],[1091,8,1092,8],[1059,2,1060,2],[1337,13,1338,13],[1337,5,1338,5],[1300,1,1300,9],[1317,13,1318,13],[1320,1,1320,9],[1317,6,1318,6],[1317,5,1318,5],[1278,6,1279,6],[1278,13,1279,13],[1278,5,1279,5],[1258,0,1259,0],[1317,0,1318,0],[1317,1,1318,1],[1317,2,1318,2],[1280,1,1280,9],[1297,13,1298,13],[1297,5,1298,5],[1337,0,1338,0],[1337,1,1338,1],[1337,2,1338,2],[1337,6,1338,6],[1258,13,1259,13],[1258,5,1259,5],[1261,1,1261,9],[1278,0,1279,0],[1278,1,1279,1],[1278,2,1279,2],[1356,13,1357,13],[1356,5,1357,5],[1359,1,1359,9],[1376,13,1377,13],[1339,1,1339,9],[1356,0,1357,0],[1356,1,1357,1],[1356,2,1357,2],[1356,6,1357,6],[1376,0,1377,0],[1376,1,1377,1],[1376,2,1377,2],[1376,6,1377,6],[1376,5,1377,5],[1395,2,1396,2],[1395,5,1396,5],[1395,6,1396,6],[1395,13,1396,13],[1395,17,1396,17],[1427,5,1428,5],[1427,6,1428,6],[1427,13,1428,13],[1427,17,1428,17],[1395,8,1396,8],[1427,2,1428,2],[1427,8,1428,8],[1552,1,1553,9],[1554,13,1555,13],[1554,0,1555,0],[1554,1,1555,1],[1554,2,1555,2],[1554,6,1555,6],[1554,5,1555,5],[1729,13,1730,13],[1729,5,1730,5],[1748,0,1749,0],[1748,1,1749,1],[1748,2,1749,2],[1748,6,1749,6],[1731,1,1731,9],[1787,0,1788,0],[1727,1,1728,9],[1729,0,1730,0],[1729,1,1730,1],[1729,2,1730,2],[1729,6,1730,6],[1767,0,1768,0],[1767,1,1768,1],[1767,2,1768,2],[1767,6,1768,6],[1767,13,1768,13],[1767,5,1768,5],[1787,1,1788,1],[1787,2,1788,2],[1787,6,1788,6],[1748,13,1749,13],[1748,5,1749,5],[1787,13,1788,13],[1787,5,1788,5],[1770,1,1770,9],[1837,17,1838,17],[1805,2,1806,2],[1805,5,1806,5],[1805,6,1806,6],[1805,13,1806,13],[1805,8,1806,8],[1805,17,1806,17],[1837,2,1838,2],[1837,5,1838,5],[1837,6,1838,6],[1962,17,1963,17],[1994,2,1995,2],[1994,5,1995,5],[1994,6,1995,6],[1994,13,1995,13],[1994,8,1995,8],[1994,17,1995,17],[1962,2,1963,2],[1962,5,1963,5],[1962,6,1963,6],[1962,13,1963,13],[1962,8,1963,8],[1837,13,1838,13],[1837,8,1838,8],[2043,5,2044,5],[2043,6,2044,6],[2132,2,2132,9],[2133,2,2133,11],[2129,2,2129,9],[2130,2,2130,11],[2043,17,2044,17],[2045,2,2046,2],[2045,5,2046,5],[2045,6,2046,6],[2045,13,2046,13],[2045,8,2046,8],[2045,17,2046,17],[2043,2,2044,2],[2043,13,2044,13],[2043,8,2044,8]]}
["< 9 * 13 * 64 >",null,null,"ПК РИК (вер.1.3.170208) тел./факс (495) 347-33-01",null,null,null,null,null,"Форма 4"]
[]
["«СОГЛАСОВАНО»",null,null,null,null,"«УТВЕРЖДАЮ»"]
["Смета на сумму:",null,{"$f":"H4","v":2393004.9462119997},"руб.",null,"Смета на сумму:",null,{"$f":"F2128","v":2393004.9462119997},"руб."]
[]
[]
["________________ /______________________ /",null,null,null,null,"________________ /______________________ /"]
[]
["«______»____________________ 20___г.",null,null,null,null,"«______»____________________ 20___г."]
[]
[]
[null,"Стройка: ","Новокузнецк,Центральный район",null,null,null,null,null,null,null,null,null,null,null,null,"Эталон с изм. 2014 г."]
[null,"Объект: ","Благоустройство 2017",null,null,null,null,null,null,null,null,null,null,null,null,null,"Благоустройство 2017"]
["ЛОКАЛЬНАЯ СМЕТА № 64",null,null,null,null,null,null,null,null,null,null,null,null,null,null,null,null,"ЛОКАЛЬНАЯ СМЕТА № 64"]
["(Локальный сметный расчет)",null,null,null,null,null,null,null,null,null,null,null,null,null,null,null,null,"(Локальный сметный расчет)"]
["на ремонт придомовой территории по адресу: ул. Кирова,97 С)",null,null,null,null,null,null,null,null,null,null,null,null,null,null,null,null,"на Кирова,97 .Собственники"]
["Составлена в базисных ценах на 01.01.2000."]
[]
["№ поз","Шифр и № позиции норматива, Наименование работ и затрат, Единица измерения","Количе-ство","Стоим. ед., руб.",null,"Общая стоимость, руб.",null,null,"Затр. труда рабочих, не зан. обсл. машин, чел-ч"]
[null,null,null,"всего","экс. маш.","всего","оплата труда осн. раб.","экс. маш.","обслуж. машины"]
[null,null,null,"оплата труда осн. раб.","в т.ч. опл. труда мех.",null,null,"в т.ч. опл. труда мех.","на ед.","всего"]
[1,2,3,4,5,6,7,8,9,10]
[null,"Заготовительно-складские расходы 2%, транспортные расходы 10,3%"]
[]
[null,"Раздел 1.  Валка деревьев"]
[]
["1.","Е68-3-3\nВалка деревьев в городских условиях ( береза, ) диаметром до 300 мм, 1 складочный м3 кряжей",1.08,{"$f":"'Базовые цены за единицу'!B9","v":43.86},{"$f":"'Базовые цены за единицу'!D9","v":13.95},{"$f":"'Базовые цены с учетом расхода'!B9","v":47},{"$f":"'Базовые цены с учетом расхода'!C9","v":32},{"$f":"'Базовые цены с учетом расхода'!D9","v":15},2.97,{"$f":"'Базовые цены с учетом расхода'!I9","v":3.2075999999999998},"sum","IsZPR",null,{"$f":"'Базовые цены с учетом расхода'!F9","v":0}]
[null,null,null,{"$f":"'Базовые цены за единицу'!C9","v":29.91},{"$f":"'Базовые цены за единицу'!E9","v":0},null,null,{"$f":"'Базовые цены с учетом расхода'!E9","v":0},null,{"$f":"'Базовые цены с учетом расхода'!K9","v":0},"sum_b","IsZPM"]
[null,"Зарплата рабочих",null,null,null,32]
[null,"Эксплуатация машин",null,null,null,15]
[null,"в т.ч. зарплата машинистов"]
[null,"Материалы"]
[null,"в т.ч. Вспомогательные материалы от стоимости материалов"]
[null,"в т.ч. Вспомогательные ненормируемые материалы",null,null,null,null,null,null,null,null,"NenormMatOtZPR","IsMater"]
[null,"в т.ч. Ненормированная з.п. рабочих"]
[null,"в т.ч. Ненормированная стоимость эксплуатации машин"]
[null,"в т.ч. Ненормированная оплата механизаторов"]
[null,"Накладные расходы",104,null,null,{"$f":"IF('Базовые цены с учетом расхода'!N9>0,'Базовые цены с учетом расхода'!N9,IF('Базовые цены с учетом расхода'!N9<0,'Базовые цены с учетом расхода'!N9,\"\"))","v":33},null,null,null,null,null,"Nakl"]
[null,"НР от ЗПР",104,null,null,{"$f":"IF('Базовые цены с учетом расхода'!P9>0,'Базовые цены с учетом расхода'!P9,IF('Базовые цены с учетом расхода'!P9<0,'Базовые цены с учетом расхода'!P9,\"\"))","v":34},null,null,null,null,null,"Nakl_ZPR"]
[null,"НР от ЗПМ",null,null,null,{"$f":"IF('Базовые цены с учетом расхода'!Q9>0,'Базовые цены с учетом расхода'!Q9,IF('Базовые цены с учетом расхода'!Q9<0,'Базовые цены с учетом расхода'!Q9,\"\"))","v":""},null,null,null,null,null,"Nakl_ZPM"]
[null,"Сметная прибыль",60,null,null,{"$f":"IF('Базовые цены с учетом расхода'!O9>0,'Базовые цены с учетом расхода'!O9,IF('Базовые цены с учетом расхода'!O9<0,'Базовые цены с учетом расхода'!O9,\"\"))","v":19},null,null,null,null,null,"Plan"]
[null,"СП от ЗПР",60,null,null,{"$f":"IF('Базовые цены с учетом расхода'!R9>0,'Базовые цены с учетом расхода'!R9,IF('Базовые цены с учетом расхода'!R9<0,'Базовые цены с учетом расхода'!R9,\"\"))","v":19},null,null,null,null,null,"Plan_ZPR"]
[null,"СП от ЗПМ",null,null,null,{"$f":"IF('Базовые цены с учетом расхода'!S9>0,'Базовые цены с учетом расхода'!S9,IF('Базовые цены с учетом расхода'!S9<0,'Базовые цены с учетом расхода'!S9,\"\"))","v":""},null,null,null,null,null,"Plan_ZPM"]
[]
["2.","Е68-3-4\nВалка деревьев в городских условиях (ель, пихта, береза, лиственница, ольха) диаметром более 300 мм, 1 складочный м3 кряжей",8.6300000000000008,{"$f":"'Базовые цены за единицу'!B10","v":90.13},{"$f":"'Базовые цены за единицу'!D10","v":28.6},{"$f":"'Базовые цены с учетом расхода'!B10","v":778},{"$f":"'Базовые цены с учетом расхода'!C10","v":531},{"$f":"'Базовые цены с учетом расхода'!D10","v":247},6.11,{"$f":"'Базовые цены с учетом расхода'!I10","v":52.729300000000002},"sum","IsZPR",null,{"$f":"'Базовые цены с учетом расхода'!F10","v":0}]
[null,null,null,{"$f":"'Базовые цены за единицу'!C10","v":61.53},{"$f":"'Базовые цены за единицу'!E10","v":0},null,null,{"$f":"'Базовые цены с учетом расхода'!E10","v":0},null,{"$f":"'Базовые цены с учетом расхода'!K10","v":0},"sum_b","IsZPM"]
[null,"Зарплата рабочих",null,null,null,531]
[null,"Эксплуатация машин",null,null,null,247]
[null,"в т.ч. зарплата машинистов"]
[null,"Материалы"]
[null,"в т.ч. Вспомогательные материалы от стоимости материалов"]
[null,"в т.ч. Вспомогательные ненормируемые материалы",null,null,null,null,null,null,null,null,"NenormMatOtZPR","IsMater"]
[null,"в т.ч. Ненормированная з.п. рабочих"]
[null,"в т.ч. Ненормированная стоимость эксплуатации машин"]
[null,"в т.ч. Ненормированная оплата механизаторов"]
[null,"Накладные расходы",104,null,null,{"$f":"IF('Базовые цены с учетом расхода'!N10>0,'Базовые цены с учетом расхода'!N10,IF('Базовые цены с учетом расхода'!N10<0,'Базовые цены с учетом расхода'!N10,\"\"))","v":552},null,null,null,null,null,"Nakl"]
[null,"НР от ЗПР",104,null,null,{"$f":"IF('Базовые цены с учетом расхода'!P10>0,'Базовые цены с учетом расхода'!P10,IF('Базовые цены с учетом расхода'!P10<0,'Базовые цены с учетом расхода'!P10,\"\"))","v":552},null,null,null,null,null,"Nakl_ZPR"]
[null,"НР от ЗПМ",null,null,null,{"$f":"IF('Базовые цены с учетом расхода'!Q10>0,'Базовые цены с учетом расхода'!Q10,IF('Базовые цены с учетом расхода'!Q10<0,'Базовые цены с учетом расхода'!Q10,\"\"))","v":""},null,null,null,null,null,"Nakl_ZPM"]
[null,"Сметная прибыль",60,null,null,{"$f":"IF('Базовые цены с учетом расхода'!O10>0,'Базовые цены с учетом расхода'!O10,IF('Базовые цены с учетом расхода'!O10<0,'Базовые цены с учетом расхода'!O10,\"\"))","v":319},null,null,null,null,null,"Plan"]
[null,"СП от ЗПР",60,null,null,{"$f":"IF('Базовые цены с учетом расхода'!R10>0,'Базовые цены с учетом расхода'!R10,IF('Базовые цены с учетом расхода'!R10<0,'Базовые цены с учетом расхода'!R10,\"\"))","v":319},null,null,null,null,null,"Plan_ZPR"]
[null,"СП от ЗПМ",null,null,null,{"$f":"IF('Базовые цены с учетом расхода'!S10>0,'Базовые цены с учетом расхода'!S10,IF('Базовые цены с учетом расхода'!S10<0,'Базовые цены с учетом расхода'!S10,\"\"))","v":""},null,null,null,null,null,"Plan_ZPM"]
[]
["3.","Е01-02-105-02\nКорчевка пней в грунтах естественного залегания корчевателями-собирателями на тракторе мощностью 79 кВт (108 л.с.) с перемещением пней до 5 м, диаметр пней до 32 см, 100 пней",0.02,{"$f":"'Базовые цены за единицу'!B11","v":670.64},{"$f":"'Базовые цены за единицу'!D11","v":670.64},{"$f":"'Базовые цены с учетом расхода'!B11","v":13},{"$f":"'Базовые цены с учетом расхода'!C11","v":0},{"$f":"'Базовые цены с учетом расхода'!D11","v":13},null,{"$f":"'Базовые цены с учетом расхода'!I11","v":0},"sum","IsZPR",null,{"$f":"'Базовые цены с учетом расхода'!F11","v":0}]
[null,null,null,{"$f":"'Базовые цены за единицу'!C11","v":0},{"$f":"'Базовые цены за единицу'!E11","v":71.62},null,null,{"$f":"'Базовые цены с учетом расхода'!E11","v":1},4.1399999999999997,{"$f":"'Базовые цены с учетом расхода'!K11","v":8.2799999999999999E-2},"sum_b","IsZPM"]
[null,"Зарплата рабочих"]
[null,"Эксплуатация машин",null,null,null,13]
[null,"в т.ч. зарплата машинистов",null,null,null,1]
[null,"Материалы"]
[null,"в т.ч. Вспомогательные материалы от стоимости материалов"]
[null,"в т.ч. Вспомогательные ненормируемые материалы",null,null,null,null,null,null,null,null,"NenormMatOtZPR","IsMater"]
[null,"в т.ч. Ненормированная з.п. рабочих"]
[null,"в т.ч. Ненормированная стоимость эксплуатации машин"]
[null,"в т.ч. Ненормированная оплата механизаторов"]
[null,"Накладные расходы",80,null,null,{"$f":"IF('Базовые цены с учетом расхода'!N11>0,'Базовые цены с учетом расхода'!N11,IF('Базовые цены с учетом расхода'!N11<0,'Базовые цены с учетом расхода'!N11,\"\"))","v":1},null,null,null,null,null,"Nakl"]
[null,"НР от ЗПР",null,null,null,{"$f":"IF('Базовые цены с учетом расхода'!P11>0,'Базовые цены с учетом расхода'!P11,IF('Базовые цены с учетом расхода'!P11<0,'Базовые цены с учетом расхода'!P11,\"\"))","v":""},null,null,null,null,null,"Nakl_ZPR"]
[null,"НР от ЗПМ",80,null,null,{"$f":"IF('Базовые цены с учетом расхода'!Q11>0,'Базовые цены с учетом расхода'!Q11,IF('Базовые цены с учетом расхода'!Q11<0,'Базовые цены с учетом расхода'!Q11,\"\"))","v":1},null,null,null,null,null,"Nakl_ZPM"]
[null,"Сметная прибыль",38,null,null,{"$f":"IF('Базовые цены с учетом расхода'!O11>0,'Базовые цены с учетом расхода'!O11,IF('Базовые цены с учетом расхода'!O11<0,'Базовые цены с учетом расхода'!O11,\"\"))","v":""},null,null,null,null,null,"Plan"]
[null,"СП от ЗПР",null,null,null,{"$f":"IF('Базовые цены с учетом расхода'!R11>0,'Базовые цены с учетом расхода'!R11,IF('Базовые цены с учетом расхода'!R11<0,'Базовые цены с учетом расхода'!R11,\"\"))","v":""},null,null,null,null,null,"Plan_ZPR"]
[null,"СП от ЗПМ",38,null,null,{"$f":"IF('Базовые цены с учетом расхода'!S11>0,'Базовые цены с учетом расхода'!S11,IF('Базовые цены с учетом расхода'!S11<0,'Базовые цены с учетом расхода'!S11,\"\"))","v":1},null,null,null,null,null,"Plan_ZPM"]
[]
["4.","Е01-02-105-03\nКорчевка пней в грунтах естественного залегания корчевателями-собирателями на тракторе мощностью 79 кВт (108 л.с.) с перемещением пней до 5 м, диаметр пней свыше 32 см, 100 пней",0.06,{"$f":"'Базовые цены за единицу'!B12","v":1086.95},{"$f":"'Базовые цены за единицу'!D12","v":1086.95},{"$f":"'Базовые цены с учетом расхода'!B12","v":65},{"$f":"'Базовые цены с учетом расхода'!C12","v":0},{"$f":"'Базовые цены с учетом расхода'!D12","v":65},null,{"$f":"'Базовые цены с учетом расхода'!I12","v":0},"sum","IsZPR",null,{"$f":"'Базовые цены с учетом расхода'!F12","v":0}]
[null,null,null,{"$f":"'Базовые цены за единицу'!C12","v":0},{"$f":"'Базовые цены за единицу'!E12","v":116.08},null,null,{"$f":"'Базовые цены с учетом расхода'!E12","v":7},6.71,{"$f":"'Базовые цены с учетом расхода'!K12","v":0.40260000000000001},"sum_b","IsZPM"]
[null,"Зарплата рабочих"]
[null,"Эксплуатация машин",null,null,null,65]
[null,"в т.ч. зарплата машинистов",null,null,null,7]
[null,"Материалы"]
[null,"в т.ч. Вспомогательные материалы от стоимости материалов"]
[null,"в т.ч. Вспомогательные ненормируемые материалы",null,null,null,null,null,null,null,null,"NenormMatOtZPR","IsMater"]
[null,"в т.ч. Ненормированная з.п. рабочих"]
[null,"в т.ч. Ненормированная стоимость эксплуатации машин"]
[null,"в т.ч. Ненормированная оплата механизаторов"]
[null,"Накладные расходы",80,null,null,{"$f":"IF('Базовые цены с учетом расхода'!N12>0,'Базовые цены с учетом расхода'!N12,IF('Базовые цены с учетом расхода'!N12<0,'Базовые цены с учетом расхода'!N12,\"\"))","v":6},null,null,null,null,null,"Nakl"]
[null,"НР от ЗПР",null,null,null,{"$f":"IF('Базовые цены с учетом расхода'!P12>0,'Базовые цены с учетом расхода'!P12,IF('Базовые цены с учетом расхода'!P12<0,'Базовые цены с учетом расхода'!P12,\"\"))","v":""},null,null,null,null,null,"Nakl_ZPR"]
[null,"НР от ЗПМ",80,null,null,{"$f":"IF('Базовые цены с учетом расхода'!Q12>0,'Базовые цены с учетом расхода'!Q12,IF('Базовые цены с учетом расхода'!Q12<0,'Базовые цены с учетом расхода'!Q12,\"\"))","v":6},null,null,null,null,null,"Nakl_ZPM"]
[null,"Сметная прибыль",38,null,null,{"$f":"IF('Базовые цены с учетом расхода'!O12>0,'Базовые цены с учетом расхода'!O12,IF('Базовые цены с учетом расхода'!O12<0,'Базовые цены с учетом расхода'!O12,\"\"))","v":3},null,null,null,null,null,"Plan"]
[null,"СП от ЗПР",null,null,null,{"$f":"IF('Базовые цены с учетом расхода'!R12>0,'Базовые цены с учетом расхода'!R12,IF('Базовые цены с учетом расхода'!R12<0,'Базовые цены с учетом расхода'!R12,\"\"))","v":""},null,null,null,null,null,"Plan_ZPR"]
[null,"СП от ЗПМ",38,null,null,{"$f":"IF('Базовые цены с учетом расхода'!S12>0,'Базовые цены с учетом расхода'!S12,IF('Базовые цены с учетом расхода'!S12<0,'Базовые цены с учетом расхода'!S12,\"\"))","v":3},null,null,null,null,null,"Plan_ZPM"]
[]
["5.","Е01-02-107-01\nЗасыпка ям подкоренных бульдозерами мощностью 79 (108) кВт (л.с.) под проезжей частью, 100 ям",0.08,{"$f":"'Базовые цены за единицу'!B13","v":295.39999999999998},{"$f":"'Базовые цены за единицу'!D13","v":295.39999999999998},{"$f":"'Базовые цены с учетом расхода'!B13","v":24},{"$f":"'Базовые цены с учетом расхода'!C13","v":0},{"$f":"'Базовые цены с учетом расхода'!D13","v":24},null,{"$f":"'Базовые цены с учетом расхода'!I13","v":0},"sum","IsZPR",null,{"$f":"'Базовые цены с учетом расхода'!F13","v":0}]
[null,null,null,{"$f":"'Базовые цены за единицу'!C13","v":0},{"$f":"'Базовые цены за единицу'!E13","v":37.770000000000003},null,null,{"$f":"'Базовые цены с учетом расхода'!E13","v":3},2.33,{"$f":"'Базовые цены с учетом расхода'!K13","v":0.18640000000000001},"sum_b","IsZPM"]
[null,"Зарплата рабочих"]
[null,"Эксплуатация машин",null,null,null,24]
[null,"в т.ч. зарплата машинистов",null,null,null,3]
[null,"Материалы"]
[null,"в т.ч. Вспомогательные материалы от стоимости материалов"]
[null,"в т.ч. Вспомогательные ненормируемые материалы",null,null,null,null,null,null,null,null,"NenormMatOtZPR","IsMater"]
[null,"в т.ч. Ненормированная з.п. рабочих"]
[null,"в т.ч. Ненормированная стоимость эксплуатации машин"]
[null,"в т.ч. Ненормированная оплата механизаторов"]
[null,"Накладные расходы",80,null,null,{"$f":"IF('Базовые цены с учетом расхода'!N13>0,'Базовые цены с учетом расхода'!N13,IF('Базовые цены с учетом расхода'!N13<0,'Базовые цены с учетом расхода'!N13,\"\"))","v":2},null,null,null,null,null,"Nakl"]
[null,"НР от ЗПР",null,null,null,{"$f":"IF('Базовые цены с учетом расхода'!P13>0,'Базовые цены с учетом расхода'!P13,IF('Базовые цены с учетом расхода'!P13<0,'Базовые цены с учетом расхода'!P13,\"\"))","v":""},null,null,null,null,null,"Nakl_ZPR"]
[null,"НР от ЗПМ",80,null,null,{"$f":"IF('Базовые цены с учетом расхода'!Q13>0,'Базовые цены с учетом расхода'!Q13,IF('Базовые цены с учетом расхода'!Q13<0,'Базовые цены с учетом расхода'!Q13,\"\"))","v":2},null,null,null,null,null,"Nakl_ZPM"]
[null,"Сметная прибыль",38,null,null,{"$f":"IF('Базовые цены с учетом расхода'!O13>0,'Базовые цены с учетом расхода'!O13,IF('Базовые цены с учетом расхода'!O13<0,'Базовые цены с учетом расхода'!O13,\"\"))","v":1},null,null,null,null,null,"Plan"]
[null,"СП от ЗПР",null,null,null,{"$f":"IF('Базовые цены с учетом расхода'!R13>0,'Базовые цены с учетом расхода'!R13,IF('Базовые цены с учетом расхода'!R13<0,'Базовые цены с учетом расхода'!R13,\"\"))","v":""},null,null,null,null,null,"Plan_ZPR"]
[null,"СП от ЗПМ",38,null,null,{"$f":"IF('Базовые цены с учетом расхода'!S13>0,'Базовые цены с учетом расхода'!S13,IF('Базовые цены с учетом расхода'!S13<0,'Базовые цены с учетом расхода'!S13,\"\"))","v":1},null,null,null,null,null,"Plan_ZPM"]
[]
["6.","С Прайс \"СГМК\".\nЩебень из доменного шлака фр. 40-70 т.ч. прил. 27.2 (363,79*1,02*1,103), м3",1.5,{"$f":"'Базовые цены за единицу'!B14","v":64.760000000000005},{"$f":"'Базовые цены за единицу'!D14","v":0},{"$f":"'Базовые цены с учетом расхода'!B14","v":97},{"$f":"'Базовые цены с учетом расхода'!C14","v":0},{"$f":"'Базовые цены с учетом расхода'!D14","v":0},null,{"$f":"'Базовые цены с учетом расхода'!I14","v":0},"sum","IsZPR",null,{"$f":"'Базовые цены с учетом расхода'!F14","v":97}]
[null,null,null,{"$f":"'Базовые цены за единицу'!C14","v":0},{"$f":"'Базовые цены за единицу'!E14","v":0},null,null,{"$f":"'Базовые цены с учетом расхода'!E14","v":0},null,{"$f":"'Базовые цены с учетом расхода'!K14","v":0},"sum_b","IsZPM"]
[null,"   Поправки: М: =363.79*1.103*1.02/6.32"]
[null,"Зарплата рабочих"]
[null,"Эксплуатация машин"]
[null,"в т.ч. зарплата машинистов"]
[null,"Материалы",null,null,null,97]
[null,"в т.ч. Вспомогательные материалы от стоимости материалов"]
[null,"в т.ч. Вспомогательные ненормируемые материалы",null,null,null,null,null,null,null,null,"NenormMatOtZPR","IsMater"]
[null,"в т.ч. Ненормированная з.п. рабочих"]
[null,"в т.ч. Ненормированная стоимость эксплуатации машин"]
[null,"в т.ч. Ненормированная оплата механизаторов"]
[null,"Накладные расходы",null,null,null,{"$f":"IF('Базовые цены с учетом расхода'!N14>0,'Базовые цены с учетом расхода'!N14,IF('Базовые цены с учетом расхода'!N14<0,'Базовые цены с учетом расхода'!N14,\"\"))","v":""},null,null,null,null,null,"Nakl"]
[null,"НР от ЗПР",null,null,null,{"$f":"IF('Базовые цены с учетом расхода'!P14>0,'Базовые цены с учетом расхода'!P14,IF('Базовые цены с учетом расхода'!P14<0,'Базовые цены с учетом расхода'!P14,\"\"))","v":""},null,null,null,null,null,"Nakl_ZPR"]
[null,"НР от ЗПМ",null,null,null,{"$f":"IF('Базовые цены с учетом расхода'!Q14>0,'Базовые цены с учетом расхода'!Q14,IF('Базовые цены с учетом расхода'!Q14<0,'Базовые цены с учетом расхода'!Q14,\"\"))","v":""},null,null,null,null,null,"Nakl_ZPM"]
[null,"Сметная прибыль",null,null,null,{"$f":"IF('Базовые цены с учетом расхода'!O14>0,'Базовые цены с учетом расхода'!O14,IF('Базовые цены с учетом расхода'!O14<0,'Базовые цены с учетом расхода'!O14,\"\"))","v":""},null,null,null,null,null,"Plan"]
[null,"СП от ЗПР",null,null,null,{"$f":"IF('Базовые цены с учетом расхода'!R14>0,'Базовые цены с учетом расхода'!R14,IF('Базовые цены с учетом расхода'!R14<0,'Базовые цены с учетом расхода'!R14,\"\"))","v":""},null,null,null,null,null,"Plan_ZPR"]
[null,"СП от ЗПМ",null,null,null,{"$f":"IF('Базовые цены с учетом расхода'!S14>0,'Базовые цены с учетом расхода'!S14,IF('Базовые цены с учетом расхода'!S14<0,'Базовые цены с учетом расхода'!S14,\"\"))","v":""},null,null,null,null,null,"Plan_ZPM"]
[]
["7.","Т01-01-01-045\nПогрузка при автомобильных перевозках прочих материалов, деталей (с использованием погрузчика), 1 т груза",6.81,{"$f":"'Базовые цены за единицу'!B15","v":18.98},{"$f":"'Базовые цены за единицу'!D15","v":9.73},{"$f":"'Базовые цены с учетом расхода'!B15","v":129},{"$f":"'Базовые цены с учетом расхода'!C15","v":18},{"$f":"'Базовые цены с учетом расхода'!D15","v":66},0.28899999999999998,{"$f":"'Базовые цены с учетом расхода'!I15","v":1.9680899999999999},"sum","IsZPR",null,{"$f":"'Базовые цены с учетом расхода'!F15","v":0}]
[null,null,null,{"$f":"'Базовые цены за единицу'!C15","v":2.71},{"$f":"'Базовые цены за единицу'!E15","v":1.38},null,null,{"$f":"'Базовые цены с учетом расхода'!E15","v":9},0.114,{"$f":"'Базовые цены с учетом расхода'!K15","v":0.77634000000000003},"sum_b","IsZPM"]
[null,{"$f":"IF(ROUND(((1.08+0.16+8.63+1.3)*0.61)/1,2)=C136,\"Объем: (1,08+0,16+8,63+1,3)*0,61\",\"\")","v":"Объем: (1,08+0,16+8,63+1,3)*0,61"}]
[null,"Зарплата рабочих",null,null,null,18]
[null,"Эксплуатация машин",null,null,null,66]
[null,"в т.ч. зарплата машинистов",null,null,null,9]
[null,"Материалы"]
[null,"в т.ч. Вспомогательные материалы от стоимости материалов"]
[null,"в т.ч. Вспомогательные ненормируемые материалы",null,null,null,null,null,null,null,null,"NenormMatOtZPR","IsMater"]
[null,"в т.ч. Ненормированная з.п. рабочих"]
[null,"в т.ч. Ненормированная стоимость эксплуатации машин"]
[null,"в т.ч. Ненормированная оплата механизаторов"]
[null,"в т.ч. Накладные расходы",100,null,null,{"$f":"IF('Базовые цены с учетом расхода'!AF15>0,'Базовые цены с учетом расхода'!AF15,IF('Базовые цены с учетом расхода'!AF15<0,'Базовые цены с учетом расхода'!AF15,\"\"))","v":28},null,null,null,null,null,"Nakl"]
[null,"НР от ЗПР",100,null,null,{"$f":"IF('Базовые цены с учетом расхода'!P15>0,'Базовые цены с учетом расхода'!P15,IF('Базовые цены с учетом расхода'!P15<0,'Базовые цены с учетом расхода'!P15,\"\"))","v":18},null,null,null,null,null,"Nakl_ZPR"]
[null,"НР от ЗПМ",100,null,null,{"$f":"IF('Базовые цены с учетом расхода'!Q15>0,'Базовые цены с учетом расхода'!Q15,IF('Базовые цены с учетом расхода'!Q15<0,'Базовые цены с учетом расхода'!Q15,\"\"))","v":9},null,null,null,null,null,"Nakl_ZPM"]
[null,"в т.ч. Сметная прибыль",60,null,null,{"$f":"IF('Базовые цены с учетом расхода'!AG15>0,'Базовые цены с учетом расхода'!AG15,IF('Базовые цены с учетом расхода'!AG15<0,'Базовые цены с учетом расхода'!AG15,\"\"))","v":17},null,null,null,null,null,"Plan"]
[null,"СП от ЗПР",60,null,null,{"$f":"IF('Базовые цены с учетом расхода'!R15>0,'Базовые цены с учетом расхода'!R15,IF('Базовые цены с учетом расхода'!R15<0,'Базовые цены с учетом расхода'!R15,\"\"))","v":11},null,null,null,null,null,"Plan_ZPR"]
[null,"СП от ЗПМ",60,null,null,{"$f":"IF('Базовые цены с учетом расхода'!S15>0,'Базовые цены с учетом расхода'!S15,IF('Базовые цены с учетом расхода'!S15<0,'Базовые цены с учетом расхода'!S15,\"\"))","v":6},null,null,null,null,null,"Plan_ZPM"]
[]
["8.","Т03-21-01-015\nПеревозка грузов I класса автомобилями-самосвалами грузоподъемностью 10 т работающих вне карьера на расстояние до 15 км, 1 т груза",6.81,{"$f":"'Базовые цены за единицу'!B16","v":15.36},{"$f":"'Базовые цены за единицу'!D16","v":15.36},{"$f":"'Базовые цены с учетом расхода'!B16","v":105},{"$f":"'Базовые цены с учетом расхода'!C16","v":0},{"$f":"'Базовые цены с учетом расхода'!D16","v":105},null,{"$f":"'Базовые цены с учетом расхода'!I16","v":0},"sum","IsZPR",null,{"$f":"'Базовые цены с учетом расхода'!F16","v":0}]
[null,null,null,{"$f":"'Базовые цены за единицу'!C16","v":0},{"$f":"'Базовые цены за единицу'!E16","v":0},null,null,{"$f":"'Базовые цены с учетом расхода'!E16","v":0},null,{"$f":"'Базовые цены с учетом расхода'!K16","v":0},"sum_b","IsZPM"]
[null,"Зарплата рабочих"]
[null,"Эксплуатация машин",null,null,null,105]
[null,"в т.ч. зарплата машинистов"]
[null,"Материалы"]
[null,"в т.ч. Вспомогательные материалы от стоимости материалов"]
[null,"в т.ч. Вспомогательные ненормируемые материалы",null,null,null,null,null,null,null,null,"NenormMatOtZPR","IsMater"]
[null,"в т.ч. Ненормированная з.п. рабочих"]
[null,"в т.ч. Ненормированная стоимость эксплуатации машин"]
[null,"в т.ч. Ненормированная оплата механизаторов"]
[null,"в т.ч. Накладные расходы",null,null,null,{"$f":"IF('Базовые цены с учетом расхода'!AF16>0,'Базовые цены с учетом расхода'!AF16,IF('Базовые цены с учетом расхода'!AF16<0,'Базовые цены с учетом расхода'!AF16,\"\"))","v":""},null,null,null,null,null,"Nakl"]
[null,"НР от ЗПР",null,null,null,{"$f":"IF('Базовые цены с учетом расхода'!P16>0,'Базовые цены с учетом расхода'!P16,IF('Базовые цены с учетом расхода'!P16<0,'Базовые цены с учетом расхода'!P16,\"\"))","v":""},null,null,null,null,null,"Nakl_ZPR"]
[null,"НР от ЗПМ",null,null,null,{"$f":"IF('Базовые цены с учетом расхода'!Q16>0,'Базовые цены с учетом расхода'!Q16,IF('Базовые цены с учетом расхода'!Q16<0,'Базовые цены с учетом расхода'!Q16,\"\"))","v":""},null,null,null,null,null,"Nakl_ZPM"]
[null,"в т.ч. Сметная прибыль",null,null,null,{"$f":"IF('Базовые цены с учетом расхода'!AG16>0,'Базовые цены с учетом расхода'!AG16,IF('Базовые цены с учетом расхода'!AG16<0,'Базовые цены с учетом расхода'!AG16,\"\"))","v":""},null,null,null,null,null,"Plan"]
[null,"СП от ЗПР",null,null,null,{"$f":"IF('Базовые цены с учетом расхода'!R16>0,'Базовые цены с учетом расхода'!R16,IF('Базовые цены с учетом расхода'!R16<0,'Базовые цены с учетом расхода'!R16,\"\"))","v":""},null,null,null,null,null,"Plan_ZPR"]
[null,"СП от ЗПМ",null,null,null,{"$f":"IF('Базовые цены с учетом расхода'!S16>0,'Базовые цены с учетом расхода'!S16,IF('Базовые цены с учетом расхода'!S16<0,'Базовые цены с учетом расхода'!S16,\"\"))","v":""},null,null,null,null,null,"Plan_ZPM"]
[]
[null,".    ИТОГО  ПО  РАЗДЕЛУ 1",null,null,null,{"$f":"'Базовые концовки'!F10","v":1258},{"$f":"'Базовые концовки'!G10","v":581},{"$f":"'Базовые концовки'!H10","v":535},null,{"$f":"'Базовые концовки'!J10","v":57.904989999999998},null,null,null,{"$f":"'Базовые концовки'!L10","v":97},null,null,null,{"$f":"'Базовые концовки'!M10","v":0}]
[null,null,null,null,null,null,null,{"$f":"'Базовые концовки'!I10","v":20},null,{"$f":"'Базовые концовки'!K10","v":1.44814}]
[null,"СТОИМОСТЬ ОБОРУДОВАНИЯ -",null,null,null,{"$f":"'Базовые концовки'!F11","v":0},{"$f":"'Базовые концовки'!G11","v":0},{"$f":"'Базовые концовки'!H11","v":0},null,{"$f":"'Базовые концовки'!J11","v":0},null,null,null,{"$f":"'Базовые концовки'!L11","v":0},null,null,null,{"$f":"'Базовые концовки'!M11","v":0}]
[null,".   ЗАПАСНЫЕ ЧАСТИ -",null,null,null,{"$f":"'Базовые концовки'!F12","v":0}]
[null,".   ТАРА И УПАКОВКА -",null,null,null,{"$f":"'Базовые концовки'!F13","v":0}]
[null,".   ТРАНСПОРТНЫЕ РАСХОДЫ -",null,null,null,{"$f":"'Базовые концовки'!F14","v":0}]
[null,".   КОМПЛЕКТАЦИЯ -",null,null,null,{"$f":"'Базовые концовки'!F15","v":0}]
[null,".   НАЦЕНКА СНАБА -",null,null,null,{"$f":"'Базовые концовки'!F16","v":0}]
[null,".   ЗАГОТОВИТЕЛЬНО-СКЛАДСКИЕ РАСХОДЫ -",null,null,null,{"$f":"'Базовые концовки'!F17","v":0}]
[null,". ШЕФМОНТАЖ ПО ОБОРУДОВАНИЮ -",null,null,null,{"$f":"'Базовые концовки'!F18","v":0}]
[null,". ШЕФМОНТАЖ -",null,null,null,{"$f":"'Базовые концовки'!F19","v":0}]
[null,"ВСЕГО, СТОИМОСТЬ ОБОРУДОВАНИЯ -",null,null,null,{"$f":"'Базовые концовки'!F20","v":0}]
[null,"Оборудование ТЦ",null,null,null,{"$f":"'Базовые концовки'!F21","v":0}]
[null,"СТОИМОСТЬ МОНТАЖНЫХ РАБОТ -",null,null,null,{"$f":"'Базовые концовки'!F22","v":0},{"$f":"'Базовые концовки'!G22","v":0},{"$f":"'Базовые концовки'!H22","v":0},null,{"$f":"'Базовые концовки'!J22","v":0},null,null,null,{"$f":"'Базовые концовки'!L22","v":0},null,null,null,{"$f":"'Базовые концовки'!M22","v":0}]
[null,".     В ТОМ ЧИСЛЕ:"]
[null,". ОТКЛОНЕНИЕ ПО ЗАРАБОТНОЙ ПЛАТЕ -",null,null,null,null,{"$f":"'Базовые концовки'!G24","v":0}]
[null,". КОСВЕННЫЕ РАСХОДЫ -",null,null,null,{"$f":"'Базовые концовки'!F25","v":0}]
[null,". МАТЕРИАЛЬНЫЕ РЕСУРСЫ НЕ УЧТЕННЫЕ В РАСЦЕНКАХ -",null,null,null,{"$f":"'Базовые концовки'!F26","v":0}]
[null,".   СТОИМОСТЬ ВОЗВРАЩАЕМЫХ МАТЕРИАЛОВ -",null,null,null,{"$f":"'Базовые концовки'!F27","v":0}]
[null,".   НАКЛАДНЫЕ РАСХОДЫ -",null,null,null,{"$f":"'Базовые концовки'!F28","v":0}]
[null,".   СМЕТНАЯ ПРИБЫЛЬ -",null,null,null,{"$f":"'Базовые концовки'!F29","v":0}]
[null,". ШЕФМОНТАЖ -",null,null,null,{"$f":"'Базовые концовки'!F30","v":0}]
[null,"ВСЕГО, СТОИМОСТЬ МОНТАЖНЫХ РАБОТ -",null,null,null,{"$f":"'Базовые концовки'!F31","v":0}]
[null,"Монтажные работы БЦ ЭМ",null,null,null,{"$f":"'Базовые концовки'!F32","v":0}]
[null,"Монтажные работы БЦ ЗПМ",null,null,null,{"$f":"'Базовые концовки'!F33","v":0}]
[null,"Монтажные работы ТЦ ЗП",null,null,null,{"$f":"'Базовые концовки'!F34","v":0}]
[null,"Монтажные работы ТЦ ЗПМ",null,null,null,{"$f":"'Базовые концовки'!F35","v":0}]
[null,"Монтажные работы ТЦ ЭМ",null,null,null,{"$f":"'Базовые концовки'!F36","v":0}]
[null,"Монтажные работы ТЦ материалы",null,null,null,{"$f":"'Базовые концовки'!F37","v":0}]
[null,"Монтажные работы ТЦ НР",null,null,null,{"$f":"'Базовые концовки'!F38","v":0}]
[null,"Монтажные работы ТЦ СП",null,null,null,{"$f":"'Базовые концовки'!F39","v":0}]
[null,"Монтажные работы ТЦ всего",null,null,null,{"$f":"'Базовые концовки'!F40","v":0}]
[null,"СТОИМОСТЬ ОБЩЕСТРОИТЕЛЬНЫХ РАБОТ -",null,null,null,{"$f":"'Базовые концовки'!F41","v":1024},{"$f":"'Базовые концовки'!G41","v":563},{"$f":"'Базовые концовки'!H41","v":364},null,{"$f":"'Базовые концовки'!J41","v":55.936900000000001},null,null,null,{"$f":"'Базовые концовки'!L41","v":97},null,null,null,{"$f":"'Базовые концовки'!M41","v":0}]
[null,null,null,null,null,null,null,{"$f":"'Базовые концовки'!I41","v":11},null,{"$f":"'Базовые концовки'!K41","v":0.67179999999999995}]
[null,".     В ТОМ ЧИСЛЕ:"]
[null,".       МАТЕРИАЛОВ -",null,null,null,{"$f":"'Базовые концовки'!F43","v":0}]
[null,".   СТОИМОСТЬ ВОЗВРАЩАЕМЫХ МАТЕРИАЛОВ -",null,null,null,{"$f":"'Базовые концовки'!F44","v":0}]
[null,".   НАКЛАДНЫЕ РАСХОДЫ - (%=104 - по стр. 1, 2; %=80 - по стр. 3-5)",null,null,null,{"$f":"'Базовые концовки'!F45","v":594}]
[null,".   СМЕТНАЯ ПРИБЫЛЬ - (%=60 - по стр. 1, 2; %=38 - по стр. 3-5)",null,null,null,{"$f":"'Базовые концовки'!F46","v":342}]
[null,"ВСЕГО, СТОИМОСТЬ ОБЩЕСТРОИТЕЛЬНЫХ РАБОТ -",null,null,null,{"$f":"'Базовые концовки'!F47","v":1960}]
[null,"СТОИМОСТЬ МЕТАЛЛОМОНТАЖНЫХ РАБОТ -",null,null,null,{"$f":"'Базовые концовки'!F48","v":0},{"$f":"'Базовые концовки'!G48","v":0},{"$f":"'Базовые концовки'!H48","v":0},null,{"$f":"'Базовые концовки'!J48","v":0},null,null,null,{"$f":"'Базовые концовки'!L48","v":0},null,null,null,{"$f":"'Базовые концовки'!M48","v":0}]
[null,".   СТОИМОСТЬ ВОЗВРАЩАЕМЫХ МАТЕРИАЛОВ -",null,null,null,{"$f":"'Базовые концовки'!F49","v":0}]
[null,".   НАКЛАДНЫЕ РАСХОДЫ -",null,null,null,{"$f":"'Базовые концовки'!F50","v":0}]
[null,".   СМЕТНАЯ ПРИБЫЛЬ -",null,null,null,{"$f":"'Базовые концовки'!F51","v":0}]
[null,"ВСЕГО, СТОИМОСТЬ МЕТАЛЛОМОНТАЖНЫХ РАБОТ -",null,null,null,{"$f":"'Базовые концовки'!F52","v":0}]
[null,"СТОИМОСТЬ САНТЕХНИЧЕСКИХ РАБОТ -",null,null,null,{"$f":"'Базовые концовки'!F53","v":0},{"$f":"'Базовые концовки'!G53","v":0},{"$f":"'Базовые концовки'!H53","v":0},null,{"$f":"'Базовые концовки'!J53","v":0},null,null,null,{"$f":"'Базовые концовки'!L53","v":0},null,null,null,{"$f":"'Базовые концовки'!M53","v":0}]
[null,".     В ТОМ ЧИСЛЕ:"]
[null,". СДАЧА И ИСПЫТАНИЕ -",null,null,null,{"$f":"'Базовые концовки'!F55","v":0},{"$f":"'Базовые концовки'!G55","v":0},{"$f":"'Базовые концовки'!H55","v":0},null,{"$f":"'Базовые концовки'!J55","v":0},null,null,null,{"$f":"'Базовые концовки'!L55","v":0},null,null,null,{"$f":"'Базовые концовки'!M55","v":0}]
[null,".   СТОИМОСТЬ ВОЗВРАЩАЕМЫХ МАТЕРИАЛОВ -",null,null,null,{"$f":"'Базовые концовки'!F56","v":0}]
[null,".   НАКЛАДНЫЕ РАСХОДЫ -",null,null,null,{"$f":"'Базовые концовки'!F57","v":0}]
[null,".   СМЕТНАЯ ПРИБЫЛЬ -",null,null,null,{"$f":"'Базовые концовки'!F58","v":0}]
[null,". ШЕФМОНТАЖ -",null,null,null,{"$f":"'Базовые концовки'!F59","v":0}]
[null,"ВСЕГО, СТОИМОСТЬ САНТЕХНИЧЕСКИХ РАБОТ -",null,null,null,{"$f":"'Базовые концовки'!F60","v":0}]
[null,"СТОИМОСТЬ БУРО-ВЗРЫВНЫХ РАБОТ -",null,null,null,{"$f":"'Базовые концовки'!F61","v":0},{"$f":"'Базовые концовки'!G61","v":0},{"$f":"'Базовые концовки'!H61","v":0},null,{"$f":"'Базовые концовки'!J61","v":0},null,null,null,{"$f":"'Базовые концовки'!L61","v":0},null,null,null,{"$f":"'Базовые концовки'!M61","v":0}]
[null,".   СТОИМОСТЬ ВОЗВРАЩАЕМЫХ МАТЕРИАЛОВ -",null,null,null,{"$f":"'Базовые концовки'!F62","v":0}]
[null,".   НАКЛАДНЫЕ РАСХОДЫ -",null,null,null,{"$f":"'Базовые концовки'!F63","v":0}]
[null,".   СМЕТНАЯ ПРИБЫЛЬ -",null,null,null,{"$f":"'Базовые концовки'!F64","v":0}]
[null,"ВСЕГО, СТОИМОСТЬ БУРО-ВЗРЫВНЫХ РАБОТ -",null,null,null,{"$f":"'Базовые концовки'!F65","v":0}]
[null,"СТОИМОСТЬ ГОРНОПРОХОДЧЕСКИХ РАБОТ -",null,null,null,{"$f":"'Базовые концовки'!F66","v":0},{"$f":"'Базовые концовки'!G66","v":0},{"$f":"'Базовые концовки'!H66","v":0},null,{"$f":"'Базовые концовки'!J66","v":0},null,null,null,{"$f":"'Базовые концовки'!L66","v":0},null,null,null,{"$f":"'Базовые концовки'!M66","v":0}]
[null,".   СТОИМОСТЬ ВОЗВРАЩАЕМЫХ МАТЕРИАЛОВ -",null,null,null,{"$f":"'Базовые концовки'!F67","v":0}]
[null,".   НАКЛАДНЫЕ РАСХОДЫ -",null,null,null,{"$f":"'Базовые концовки'!F68","v":0}]
[null,".   СМЕТНАЯ ПРИБЫЛЬ -",null,null,null,{"$f":"'Базовые концовки'!F69","v":0}]
[null,"ВСЕГО, СТОИМОСТЬ ГОРНОПРОХОДЧЕСКИХ РАБОТ -",null,null,null,{"$f":"'Базовые концовки'!F70","v":0}]
[null,"СТОИМОСТЬ РЕСТАВРАЦИОННЫХ РАБОТ -",null,null,null,{"$f":"'Базовые концовки'!F71","v":0},{"$f":"'Базовые концовки'!G71","v":0},{"$f":"'Базовые концовки'!H71","v":0},null,{"$f":"'Базовые концовки'!J71","v":0},null,null,null,{"$f":"'Базовые концовки'!L71","v":0},null,null,null,{"$f":"'Базовые концовки'!M71","v":0}]
[null,".     В ТОМ ЧИСЛЕ:"]
[null,". МАТЕРИАЛЫ -",null,null,null,{"$f":"'Базовые концовки'!F73","v":0}]
[null,".   СТОИМОСТЬ ВОЗВРАЩАЕМЫХ МАТЕРИАЛОВ -",null,null,null,{"$f":"'Базовые концовки'!F74","v":0}]
[null,".   НАКЛАДНЫЕ РАСХОДЫ -",null,null,null,{"$f":"'Базовые концовки'!F75","v":0}]
[null,".   СМЕТНАЯ ПРИБЫЛЬ -",null,null,null,{"$f":"'Базовые концовки'!F76","v":0}]
[null,"ВСЕГО, СТОИМОСТЬ РЕСТАВРАЦИОННЫХ РАБОТ -",null,null,null,{"$f":"'Базовые концовки'!F77","v":0}]
[null,"Строительные работы БЦ ЭМ",null,null,null,{"$f":"'Базовые концовки'!F78","v":364}]
[null,"Строительные работы БЦ ЗПМ",null,null,null,{"$f":"'Базовые концовки'!F79","v":11}]
[null,"Строительные работы ТЦ ЗП",21.324000000000002,null,null,{"$f":"'Базовые концовки'!F80","v":12005}]
[null,"Строительные работы ТЦ ЗПМ",21.324000000000002,null,null,{"$f":"'Базовые концовки'!F81","v":235}]
[null,"Строительные работы ТЦ ЭМ",6.1520000000000001,null,null,{"$f":"'Базовые концовки'!F82","v":2239}]
[null,"Строительные работы ТЦ материалы",6.32,null,null,{"$f":"'Базовые концовки'!F83","v":613}]
[null,"Строительные работы ТЦ НР",21.324000000000002,null,null,{"$f":"'Базовые концовки'!F84","v":12666}]
[null,"Строительные работы ТЦ СП",21.324000000000002,null,null,{"$f":"'Базовые концовки'!F85","v":7293}]
[null,"Строительные работы ТЦ всего",null,null,null,{"$f":"'Базовые концовки'!F86","v":34816}]
[null,"СТОИМОСТЬ ПЕРЕВОЗКИ ГРУЗОВ -",null,null,null,{"$f":"'Базовые концовки'!F87","v":234},{"$f":"'Базовые концовки'!G87","v":18},{"$f":"'Базовые концовки'!H87","v":171},null,{"$f":"'Базовые концовки'!J87","v":1.9680899999999999},null,null,null,{"$f":"'Базовые концовки'!L87","v":0},null,null,null,{"$f":"'Базовые концовки'!M87","v":0}]
[null,null,null,null,null,null,null,{"$f":"'Базовые концовки'!I87","v":9},null,{"$f":"'Базовые концовки'!K87","v":0.77634000000000003}]
[null,"СТОИМОСТЬ ПОГРУЗКИ-РАЗГРУЗКИ",null,null,null,{"$f":"'Базовые концовки'!F88","v":129},{"$f":"'Базовые концовки'!G88","v":18},{"$f":"'Базовые концовки'!H88","v":66},null,{"$f":"'Базовые концовки'!J88","v":1.9680899999999999},null,null,null,{"$f":"'Базовые концовки'!L88","v":0},null,null,null,{"$f":"'Базовые концовки'!M88","v":0}]
[null,null,null,null,null,null,null,{"$f":"'Базовые концовки'!I88","v":9},null,{"$f":"'Базовые концовки'!K88","v":0.77634000000000003}]
[null,".   В Т.Ч. НАКЛАДНЫЕ РАСХОДЫ - (%=100 - по стр. 7)",null,null,null,{"$f":"'Базовые концовки'!F89","v":28}]
[null,".   В Т.Ч. СМЕТНАЯ ПРИБЫЛЬ - (%=60 - по стр. 7)",null,null,null,{"$f":"'Базовые концовки'!F90","v":17}]
[null,".   НАКЛАДНЫЕ РАСХОДЫ -",null,null,null,{"$f":"'Базовые концовки'!F91","v":0}]
[null,".   СМЕТНАЯ ПРИБЫЛЬ -",null,null,null,{"$f":"'Базовые концовки'!F92","v":0}]
[null,"ВСЕГО, СТОИМОСТЬ ПЕРЕВОЗКИ ГРУЗОВ -",null,null,null,{"$f":"'Базовые концовки'!F93","v":234}]
[null,"ВСЕГО, СТОИМОСТЬ ПОГРУЗКИ-РАЗГРУЗКИ -",null,null,null,{"$f":"'Базовые концовки'!F94","v":129}]
[null,"Погрузка-разгрузка БЦ ЭМ",null,null,null,{"$f":"'Базовые концовки'!F95","v":66}]
[null,"Погрузка-разгрузка БЦ ЗПМ",null,null,null,{"$f":"'Базовые концовки'!F96","v":9}]
[null,"Погрузка-разгрузка ТЦ ЗП",21.324000000000002,null,null,{"$f":"'Базовые концовки'!F97","v":384}]
[null,"Погрузка-разгрузка ТЦ ЗПМ",21.324000000000002,null,null,{"$f":"'Базовые концовки'!F98","v":192}]
[null,"Погрузка-разгрузка ТЦ ЭМ",6.1520000000000001,null,null,{"$f":"'Базовые концовки'!F99","v":406}]
[null,"Погрузка-разгрузка ТЦ материалы",null,null,null,{"$f":"'Базовые концовки'!F100","v":0}]
[null,"Погрузка-разгрузка ТЦ в т.ч. НР",21.324000000000002,null,null,{"$f":"'Базовые концовки'!F101","v":597}]
[null,"Погрузка-разгрузка ТЦ в т.ч. СП",21.324000000000002,null,null,{"$f":"'Базовые концовки'!F102","v":363}]
[null,"Погрузка-разгрузка ТЦ НР",null,null,null,{"$f":"'Базовые концовки'!F103","v":0}]
[null,"Погрузка-разгрузка ТЦ СП",null,null,null,{"$f":"'Базовые концовки'!F104","v":0}]
[null,"Погрузка-разгрузка ТЦ всего",null,null,null,{"$f":"'Базовые концовки'!F105","v":1750}]
[null,"ПЕРЕВОЗКА (таб.6)",null,null,null,{"$f":"'Базовые концовки'!F106","v":0},{"$f":"'Базовые концовки'!G106","v":0},{"$f":"'Базовые концовки'!H106","v":0},null,{"$f":"'Базовые концовки'!J106","v":0},null,null,null,{"$f":"'Базовые концовки'!L106","v":0},null,null,null,{"$f":"'Базовые концовки'!M106","v":0}]
[null,"ПЕРЕВОЗКА (таб.7)",null,null,null,{"$f":"'Базовые концовки'!F107","v":0},{"$f":"'Базовые концовки'!G107","v":0},{"$f":"'Базовые концовки'!H107","v":0},null,{"$f":"'Базовые концовки'!J107","v":0},null,null,null,{"$f":"'Базовые концовки'!L107","v":0},null,null,null,{"$f":"'Базовые концовки'!M107","v":0}]
[null,"ПЕРЕВОЗКА (таб.8)",null,null,null,{"$f":"'Базовые концовки'!F108","v":105},{"$f":"'Базовые концовки'!G108","v":0},{"$f":"'Базовые концовки'!H108","v":105},null,{"$f":"'Базовые концовки'!J108","v":0},null,null,null,{"$f":"'Базовые концовки'!L108","v":0},null,null,null,{"$f":"'Базовые концовки'!M108","v":0}]
[null,"Перевозка (таб.6) ТЦ",null,null,null,{"$f":"'Базовые концовки'!F109","v":0}]
[null,"Перевозка (таб.7) ТЦ",null,null,null,{"$f":"'Базовые концовки'!F110","v":0}]
[null,"Перевозка (таб.8) ТЦ",10.144,null,null,{"$f":"'Базовые концовки'!F111","v":1065}]
[null,"Перевозка ТЦ  всего",null,null,null,{"$f":"'Базовые концовки'!F112","v":1065}]
[null,"СТОИМОСТЬ ПУСКОНАЛАДОЧНЫХ РАБОТ -",null,null,null,{"$f":"'Базовые концовки'!F113","v":0},{"$f":"'Базовые концовки'!G113","v":0},{"$f":"'Базовые концовки'!H113","v":0},null,{"$f":"'Базовые концовки'!J113","v":0},null,null,null,{"$f":"'Базовые концовки'!L113","v":0},null,null,null,{"$f":"'Базовые концовки'!M113","v":0}]
[null,".   НАКЛАДНЫЕ РАСХОДЫ -",null,null,null,{"$f":"'Базовые концовки'!F114","v":0}]
[null,".   СМЕТНАЯ ПРИБЫЛЬ -",null,null,null,{"$f":"'Базовые концовки'!F115","v":0}]
[null,"ВСЕГО, СТОИМОСТЬ ПУСКОНАЛАДОЧНЫХ РАБОТ -",null,null,null,{"$f":"'Базовые концовки'!F116","v":0}]
[null,"Пусконаладочные работы ТЦ ЗП",null,null,null,{"$f":"'Базовые концовки'!F117","v":0}]
[null,"Пусконаладочные работы ТЦ НР",null,null,null,{"$f":"'Базовые концовки'!F118","v":0}]
[null,"Пусконаладочные работы ТЦ СП",null,null,null,{"$f":"'Базовые концовки'!F119","v":0}]
[null,"Пусконаладочные работы ТЦ всего",null,null,null,{"$f":"'Базовые концовки'!F120","v":0}]
[null,"СТОИМОСТЬ ПРОЧИХ РАБОТ (с НР и СП) -",null,null,null,{"$f":"'Базовые концовки'!F121","v":0},{"$f":"'Базовые концовки'!G121","v":0},{"$f":"'Базовые концовки'!H121","v":0},null,{"$f":"'Базовые концовки'!J121","v":0},null,null,null,{"$f":"'Базовые концовки'!L121","v":0},null,null,null,{"$f":"'Базовые концовки'!M121","v":0}]
[null,".   СТОИМОСТЬ ВОЗВРАЩАЕМЫХ МАТЕРИАЛОВ -",null,null,null,{"$f":"'Базовые концовки'!F122","v":0}]
[null,".   НАКЛАДНЫЕ РАСХОДЫ -",null,null,null,{"$f":"'Базовые концовки'!F123","v":0}]
[null,".   СМЕТНАЯ ПРИБЫЛЬ -",null,null,null,{"$f":"'Базовые концовки'!F124","v":0}]
[null,"ВСЕГО, СТОИМОСТЬ ПРОЧИХ РАБОТ (с НР и СП) -",null,null,null,{"$f":"'Базовые концовки'!F125","v":0}]
[null,"ВСЕГО, СТОИМОСТЬ ПРОЧИХ РАБОТ (без НР и СП) -",null,null,null,{"$f":"'Базовые концовки'!F126","v":0},{"$f":"'Базовые концовки'!G126","v":0},{"$f":"'Базовые концовки'!H126","v":0},null,{"$f":"'Базовые концовки'!J126","v":0},null,null,null,{"$f":"'Базовые концовки'!L126","v":0},null,null,null,{"$f":"'Базовые концовки'!M126","v":0}]
[null,".   СТОИМОСТЬ ВОЗВРАЩАЕМЫХ МАТЕРИАЛОВ -",null,null,null,{"$f":"'Базовые концовки'!F127","v":0}]
[null,"Прочие работы БЦ ЭМ",null,null,null,{"$f":"'Базовые концовки'!F128","v":0}]
[null,"Прочие работы БЦ ЗПМ",null,null,null,{"$f":"'Базовые концовки'!F129","v":0}]
[null,"Прочие работы ТЦ ЗП",null,null,null,{"$f":"'Базовые концовки'!F130","v":0}]
[null,"Прочие работы ТЦ ЗПМ",null,null,null,{"$f":"'Базовые концовки'!F131","v":0}]
[null,"Прочие работы ТЦ ЭМ",null,null,null,{"$f":"'Базовые концовки'!F132","v":0}]
[null,"Прочие работы ТЦ материалы",null,null,null,{"$f":"'Базовые концовки'!F133","v":0}]
[null,"Прочие работы ТЦ НР",null,null,null,{"$f":"'Базовые концовки'!F134","v":0}]
[null,"Прочие работы ТЦ СП",null,null,null,{"$f":"'Базовые концовки'!F135","v":0}]
[null,"Прочие работы ТЦ всего",null,null,null,{"$f":"'Базовые концовки'!F136","v":0}]
[null,". ВСЕГО  ПО  РАЗДЕЛУ 1",null,null,null,{"$f":"'Базовые концовки'!F137","v":2194},{"$f":"'Базовые концовки'!G137","v":0},{"$f":"'Базовые концовки'!H137","v":0},null,{"$f":"'Базовые концовки'!J137","v":0},null,null,null,{"$f":"'Базовые концовки'!L137","v":0},null,null,null,{"$f":"'Базовые концовки'!M137","v":0}]
[null,"ВСЕГО СТОИМОСТЬ ВОЗВРАЩАЕМЫХ МАТЕРИАЛОВ -",null,null,null,{"$f":"'Базовые концовки'!F138","v":0}]
[null,"ВСЕГО НАКЛАДНЫЕ РАСХОДЫ",null,null,null,{"$f":"'Базовые концовки'!F139","v":594}]
[null,"ВСЕГО НАКЛАДНЫЕ РАСХОДЫ",null,null,null,{"$f":"'Базовые концовки'!F140","v":622}]
[null,"ВСЕГО СМЕТНАЯ ПРИБЫЛЬ",null,null,null,{"$f":"'Базовые концовки'!F141","v":342}]
[null,"ВСЕГО СМЕТНАЯ ПРИБЫЛЬ",null,null,null,{"$f":"'Базовые концовки'!F142","v":359}]
[null,"в т.ч. Вспомогательные материалы на монтаж",null,null,null,{"$f":"'Базовые концовки'!F143","v":0},null,null,null,null,null,null,null,{"$f":"'Базовые концовки'!L143","v":0}]
[null,"в т.ч. Вспомогательные материалы от ОЗП",null,null,null,{"$f":"'Базовые концовки'!F144","v":0}]
[null,"Оплата основных рабочих",null,null,null,{"$f":"'Базовые концовки'!F145","v":581}]
[null,"Оплата механизаторов",null,null,null,{"$f":"'Базовые концовки'!F146","v":20}]
[null,"Стоимость механизмов",null,null,null,{"$f":"'Базовые концовки'!F147","v":535}]
[null,"Сметная стоимость материалов",null,null,null,{"$f":"'Базовые концовки'!F148","v":97},null,null,null,null,null,null,null,{"$f":"'Базовые концовки'!L148","v":97}]
[null,"Трудозатраты осн. рабочих",null,null,null,null,null,null,null,{"$f":"'Базовые концовки'!J149","v":57.904989999999998}]
[null,"Трудозатраты механизаторов",null,null,null,null,null,null,null,{"$f":"'Базовые концовки'!J150","v":1.44814}]
[null,"Нормативная трудоемкость",null,null,null,null,null,null,null,{"$f":"'Базовые концовки'!J151","v":59.35313}]
[null,"Оплата основных рабочих ТЦ",null,null,null,{"$f":"'Базовые концовки'!F152","v":12389}]
[null,"Оплата механизаторов ТЦ",null,null,null,{"$f":"'Базовые концовки'!F153","v":427}]
[null,"Стоимость механизмов ТЦ",null,null,null,{"$f":"'Базовые концовки'!F154","v":2645}]
[null,"Стоимость материалов ТЦ",null,null,null,{"$f":"'Базовые концовки'!F155","v":613}]
[null,"Оборудование ТЦ",null,null,null,{"$f":"'Базовые концовки'!F156","v":0}]
[null,"Перевозка ТЦ",null,null,null,{"$f":"'Базовые концовки'!F157","v":1065}]
[null,"ИТОГО ТЦ",null,null,null,{"$f":"'Базовые концовки'!F158","v":16712}]
[null,"В Т.Ч. НАКЛАДНЫЕ РАСХОДЫ ТЦ",null,null,null,{"$f":"'Базовые концовки'!F159","v":597}]
[null,"В Т.Ч. СМЕТНАЯ ПРИБЫЛЬ ТЦ",null,null,null,{"$f":"'Базовые концовки'!F160","v":363}]
[null,"НАКЛАДНЫЕ РАСХОДЫ ТЦ",null,null,null,{"$f":"'Базовые концовки'!F161","v":13263}]
[null,"СМЕТНАЯ ПРИБЫЛЬ ТЦ",null,null,null,{"$f":"'Базовые концовки'!F162","v":7656}]
[null,"ВСЕГО ТЦ",null,null,null,{"$f":"'Базовые концовки'!F163","v":37631}]
[]
[null,"Раздел 2.  Разборка бортовых камней и а/бетонного покрытия"]
[]
["9.","Е68-14-2\nРазборка бортовых камней на щебеночном основании П-5У, 100 м",2.14,{"$f":"'Базовые цены за единицу'!B20","v":1008.65},{"$f":"'Базовые цены за единицу'!D20","v":482.88},{"$f":"'Базовые цены с учетом расхода'!B20","v":2158},{"$f":"'Базовые цены с учетом расхода'!C20","v":1125},{"$f":"'Базовые цены с учетом расхода'!D20","v":1033},52.63,{"$f":"'Базовые цены с учетом расхода'!I20","v":112.62820000000001},"sum","IsZPR",null,{"$f":"'Базовые цены с учетом расхода'!F20","v":0}]
[null,null,null,{"$f":"'Базовые цены за единицу'!C20","v":525.77},{"$f":"'Базовые цены за единицу'!E20","v":77.31},null,null,{"$f":"'Базовые цены с учетом расхода'!E20","v":165},6.4,{"$f":"'Базовые цены с учетом расхода'!K20","v":13.696},"sum_b","IsZPM"]
[null,"Зарплата рабочих",null,null,null,1125]
[null,"Эксплуатация машин",null,null,null,1033]
[null,"в т.ч. зарплата машинистов",null,null,null,165]
[null,"Материалы"]
[null,"в т.ч. Вспомогательные материалы от стоимости материалов"]
[null,"в т.ч. Вспомогательные ненормируемые материалы",null,null,null,null,null,null,null,null,"NenormMatOtZPR","IsMater"]
[null,"в т.ч. Ненормированная з.п. рабочих"]
[null,"в т.ч. Ненормированная стоимость эксплуатации машин"]
[null,"в т.ч. Ненормированная оплата механизаторов"]
[null,"Накладные расходы",104,null,null,{"$f":"IF('Базовые цены с учетом расхода'!N20>0,'Базовые цены с учетом расхода'!N20,IF('Базовые цены с учетом расхода'!N20<0,'Базовые цены с учетом расхода'!N20,\"\"))","v":1342},null,null,null,null,null,"Nakl"]
[null,"НР от ЗПР",104,null,null,{"$f":"IF('Базовые цены с учетом расхода'!P20>0,'Базовые цены с учетом расхода'!P20,IF('Базовые цены с учетом расхода'!P20<0,'Базовые цены с учетом расхода'!P20,\"\"))","v":1170},null,null,null,null,null,"Nakl_ZPR"]
[null,"НР от ЗПМ",104,null,null,{"$f":"IF('Базовые цены с учетом расхода'!Q20>0,'Базовые цены с учетом расхода'!Q20,IF('Базовые цены с учетом расхода'!Q20<0,'Базовые цены с учетом расхода'!Q20,\"\"))","v":172},null,null,null,null,null,"Nakl_ZPM"]
[null,"Сметная прибыль",60,null,null,{"$f":"IF('Базовые цены с учетом расхода'!O20>0,'Базовые цены с учетом расхода'!O20,IF('Базовые цены с учетом расхода'!O20<0,'Базовые цены с учетом расхода'!O20,\"\"))","v":774},null,null,null,null,null,"Plan"]
[null,"СП от ЗПР",60,null,null,{"$f":"IF('Базовые цены с учетом расхода'!R20>0,'Базовые цены с учетом расхода'!R20,IF('Базовые цены с учетом расхода'!R20<0,'Базовые цены с учетом расхода'!R20,\"\"))","v":675},null,null,null,null,null,"Plan_ZPR"]
[null,"СП от ЗПМ",60,null,null,{"$f":"IF('Базовые цены с учетом расхода'!S20>0,'Базовые цены с учетом расхода'!S20,IF('Базовые цены с учетом расхода'!S20<0,'Базовые цены с учетом расхода'!S20,\"\"))","v":99},null,null,null,null,null,"Plan_ZPM"]
[]
["10.","Т01-01-01-045\nПогрузка при автомобильных перевозках прочих материалов, деталей (с использованием погрузчика), 1 т груза",10.7,{"$f":"'Базовые цены за единицу'!B21","v":18.98},{"$f":"'Базовые цены за единицу'!D21","v":9.73},{"$f":"'Базовые цены с учетом расхода'!B21","v":203},{"$f":"'Базовые цены с учетом расхода'!C21","v":29},{"$f":"'Базовые цены с учетом расхода'!D21","v":104},0.28899999999999998,{"$f":"'Базовые цены с учетом расхода'!I21","v":3.0922999999999998},"sum","IsZPR",null,{"$f":"'Базовые цены с учетом расхода'!F21","v":0}]
[null,null,null,{"$f":"'Базовые цены за единицу'!C21","v":2.71},{"$f":"'Базовые цены за единицу'!E21","v":1.38},null,null,{"$f":"'Базовые цены с учетом расхода'!E21","v":15},0.114,{"$f":"'Базовые цены с учетом расхода'!K21","v":1.2198},"sum_b","IsZPM"]
[null,{"$f":"IF(ROUND((214*0.05)/1,2)=C352,\"Объем: 214*0,05\",\"\")","v":"Объем: 214*0,05"}]
[null,"Зарплата рабочих",null,null,null,29]
[null,"Эксплуатация машин",null,null,null,104]
[null,"в т.ч. зарплата машинистов",null,null,null,15]
[null,"Материалы"]
[null,"в т.ч. Вспомогательные материалы от стоимости материалов"]
[null,"в т.ч. Вспомогательные ненормируемые материалы",null,null,null,null,null,null,null,null,"NenormMatOtZPR","IsMater"]
[null,"в т.ч. Ненормированная з.п. рабочих"]
[null,"в т.ч. Ненормированная стоимость эксплуатации машин"]
[null,"в т.ч. Ненормированная оплата механизаторов"]
[null,"в т.ч. Накладные расходы",100,null,null,{"$f":"IF('Базовые цены с учетом расхода'!AF21>0,'Базовые цены с учетом расхода'!AF21,IF('Базовые цены с учетом расхода'!AF21<0,'Базовые цены с учетом расхода'!AF21,\"\"))","v":44},null,null,null,null,null,"Nakl"]
[null,"НР от ЗПР",100,null,null,{"$f":"IF('Базовые цены с учетом расхода'!P21>0,'Базовые цены с учетом расхода'!P21,IF('Базовые цены с учетом расхода'!P21<0,'Базовые цены с учетом расхода'!P21,\"\"))","v":29},null,null,null,null,null,"Nakl_ZPR"]
[null,"НР от ЗПМ",100,null,null,{"$f":"IF('Базовые цены с учетом расхода'!Q21>0,'Базовые цены с учетом расхода'!Q21,IF('Базовые цены с учетом расхода'!Q21<0,'Базовые цены с учетом расхода'!Q21,\"\"))","v":15},null,null,null,null,null,"Nakl_ZPM"]
[null,"в т.ч. Сметная прибыль",60,null,null,{"$f":"IF('Базовые цены с учетом расхода'!AG21>0,'Базовые цены с учетом расхода'!AG21,IF('Базовые цены с учетом расхода'!AG21<0,'Базовые цены с учетом расхода'!AG21,\"\"))","v":26},null,null,null,null,null,"Plan"]
[null,"СП от ЗПР",60,null,null,{"$f":"IF('Базовые цены с учетом расхода'!R21>0,'Базовые цены с учетом расхода'!R21,IF('Базовые цены с учетом расхода'!R21<0,'Базовые цены с учетом расхода'!R21,\"\"))","v":17},null,null,null,null,null,"Plan_ZPR"]
[null,"СП от ЗПМ",60,null,null,{"$f":"IF('Базовые цены с учетом расхода'!S21>0,'Базовые цены с учетом расхода'!S21,IF('Базовые цены с учетом расхода'!S21<0,'Базовые цены с учетом расхода'!S21,\"\"))","v":9},null,null,null,null,null,"Plan_ZPM"]
[]
["11.","Т03-21-01-015\nПеревозка грузов I класса автомобилями-самосвалами грузоподъемностью 10 т работающих вне карьера на расстояние до 15 км, 1 т груза",10.7,{"$f":"'Базовые цены за единицу'!B22","v":15.36},{"$f":"'Базовые цены за единицу'!D22","v":15.36},{"$f":"'Базовые цены с учетом расхода'!B22","v":164},{"$f":"'Базовые цены с учетом расхода'!C22","v":0},{"$f":"'Базовые цены с учетом расхода'!D22","v":164},null,{"$f":"'Базовые цены с учетом расхода'!I22","v":0},"sum","IsZPR",null,{"$f":"'Базовые цены с учетом расхода'!F22","v":0}]
[null,null,null,{"$f":"'Базовые цены за единицу'!C22","v":0},{"$f":"'Базовые цены за единицу'!E22","v":0},null,null,{"$f":"'Базовые цены с учетом расхода'!E22","v":0},null,{"$f":"'Базовые цены с учетом расхода'!K22","v":0},"sum_b","IsZPM"]
[null,"Зарплата рабочих"]
[null,"Эксплуатация машин",null,null,null,164]
[null,"в т.ч. зарплата машинистов"]
[null,"Материалы"]
[null,"в т.ч. Вспомогательные материалы от стоимости материалов"]
[null,"в т.ч. Вспомогательные ненормируемые материалы",null,null,null,null,null,null,null,null,"NenormMatOtZPR","IsMater"]
[null,"в т.ч. Ненормированная з.п. рабочих"]
[null,"в т.ч. Ненормированная стоимость эксплуатации машин"]
[null,"в т.ч. Ненормированная оплата механизаторов"]
[null,"в т.ч. Накладные расходы",null,null,null,{"$f":"IF('Базовые цены с учетом расхода'!AF22>0,'Базовые цены с учетом расхода'!AF22,IF('Базовые цены с учетом расхода'!AF22<0,'Базовые цены с учетом расхода'!AF22,\"\"))","v":""},null,null,null,null,null,"Nakl"]
[null,"НР от ЗПР",null,null,null,{"$f":"IF('Базовые цены с учетом расхода'!P22>0,'Базовые цены с учетом расхода'!P22,IF('Базовые цены с учетом расхода'!P22<0,'Базовые цены с учетом расхода'!P22,\"\"))","v":""},null,null,null,null,null,"Nakl_ZPR"]
[null,"НР от ЗПМ",null,null,null,{"$f":"IF('Базовые цены с учетом расхода'!Q22>0,'Базовые цены с учетом расхода'!Q22,IF('Базовые цены с учетом расхода'!Q22<0,'Базовые цены с учетом расхода'!Q22,\"\"))","v":""},null,null,null,null,null,"Nakl_ZPM"]
[null,"в т.ч. Сметная прибыль",null,null,null,{"$f":"IF('Базовые цены с учетом расхода'!AG22>0,'Базовые цены с учетом расхода'!AG22,IF('Базовые цены с учетом расхода'!AG22<0,'Базовые цены с учетом расхода'!AG22,\"\"))","v":""},null,null,null,null,null,"Plan"]
[null,"СП от ЗПР",null,null,null,{"$f":"IF('Базовые цены с учетом расхода'!R22>0,'Базовые цены с учетом расхода'!R22,IF('Базовые цены с учетом расхода'!R22<0,'Базовые цены с учетом расхода'!R22,\"\"))","v":""},null,null,null,null,null,"Plan_ZPR"]
[null,"СП от ЗПМ",null,null,null,{"$f":"IF('Базовые цены с учетом расхода'!S22>0,'Базовые цены с учетом расхода'!S22,IF('Базовые цены с учетом расхода'!S22<0,'Базовые цены с учетом расхода'!S22,\"\"))","v":""},null,null,null,null,null,"Plan_ZPM"]
[]
[null,".    ИТОГО  ПО  РАЗДЕЛУ 2",null,null,null,{"$f":"'Базовые концовки'!F168","v":2525},{"$f":"'Базовые концовки'!G168","v":1154},{"$f":"'Базовые концовки'!H168","v":1301},null,{"$f":"'Базовые концовки'!J168","v":115.7205},null,null,null,{"$f":"'Базовые концовки'!L168","v":0},null,null,null,{"$f":"'Базовые концовки'!M168","v":0}]
[null,null,null,null,null,null,null,{"$f":"'Базовые концовки'!I168","v":180},null,{"$f":"'Базовые концовки'!K168","v":14.915800000000001}]
[null,"СТОИМОСТЬ ОБОРУДОВАНИЯ -",null,null,null,{"$f":"'Базовые концовки'!F169","v":0},{"$f":"'Базовые концовки'!G169","v":0},{"$f":"'Базовые концовки'!H169","v":0},null,{"$f":"'Базовые концовки'!J169","v":0},null,null,null,{"$f":"'Базовые концовки'!L169","v":0},null,null,null,{"$f":"'Базовые концовки'!M169","v":0}]
[null,".   ЗАПАСНЫЕ ЧАСТИ -",null,null,null,{"$f":"'Базовые концовки'!F170","v":0}]
[null,".   ТАРА И УПАКОВКА -",null,null,null,{"$f":"'Базовые концовки'!F171","v":0}]
[null,".   ТРАНСПОРТНЫЕ РАСХОДЫ -",null,null,null,{"$f":"'Базовые концовки'!F172","v":0}]
[null,".   КОМПЛЕКТАЦИЯ -",null,null,null,{"$f":"'Базовые концовки'!F173","v":0}]
[null,".   НАЦЕНКА СНАБА -",null,null,null,{"$f":"'Базовые концовки'!F174","v":0}]
[null,".   ЗАГОТОВИТЕЛЬНО-СКЛАДСКИЕ РАСХОДЫ -",null,null,null,{"$f":"'Базовые концовки'!F175","v":0}]
[null,". ШЕФМОНТАЖ ПО ОБОРУДОВАНИЮ -",null,null,null,{"$f":"'Базовые концовки'!F176","v":0}]
[null,". ШЕФМОНТАЖ -",null,null,null,{"$f":"'Базовые концовки'!F177","v":0}]
[null,"ВСЕГО, СТОИМОСТЬ ОБОРУДОВАНИЯ -",null,null,null,{"$f":"'Базовые концовки'!F178","v":0}]
[null,"Оборудование ТЦ",null,null,null,{"$f":"'Базовые концовки'!F179","v":0}]
[null,"СТОИМОСТЬ МОНТАЖНЫХ РАБОТ -",null,null,null,{"$f":"'Базовые концовки'!F180","v":0},{"$f":"'Базовые концовки'!G180","v":0},{"$f":"'Базовые концовки'!H180","v":0},null,{"$f":"'Базовые концовки'!J180","v":0},null,null,null,{"$f":"'Базовые концовки'!L180","v":0},null,null,null,{"$f":"'Базовые концовки'!M180","v":0}]
[null,".     В ТОМ ЧИСЛЕ:"]
[null,". ОТКЛОНЕНИЕ ПО ЗАРАБОТНОЙ ПЛАТЕ -",null,null,null,null,{"$f":"'Базовые концовки'!G182","v":0}]
[null,". КОСВЕННЫЕ РАСХОДЫ -",null,null,null,{"$f":"'Базовые концовки'!F183","v":0}]
[null,". МАТЕРИАЛЬНЫЕ РЕСУРСЫ НЕ УЧТЕННЫЕ В РАСЦЕНКАХ -",null,null,null,{"$f":"'Базовые концовки'!F184","v":0}]
[null,".   СТОИМОСТЬ ВОЗВРАЩАЕМЫХ МАТЕРИАЛОВ -",null,null,null,{"$f":"'Базовые концовки'!F185","v":0}]
[null,".   НАКЛАДНЫЕ РАСХОДЫ -",null,null,null,{"$f":"'Базовые концовки'!F186","v":0}]
[null,".   СМЕТНАЯ ПРИБЫЛЬ -",null,null,null,{"$f":"'Базовые концовки'!F187","v":0}]
[null,". ШЕФМОНТАЖ -",null,null,null,{"$f":"'Базовые концовки'!F188","v":0}]
[null,"ВСЕГО, СТОИМОСТЬ МОНТАЖНЫХ РАБОТ -",null,null,null,{"$f":"'Базовые концовки'!F189","v":0}]
[null,"Монтажные работы БЦ ЭМ",null,null,null,{"$f":"'Базовые концовки'!F190","v":0}]
[null,"Монтажные работы БЦ ЗПМ",null,null,null,{"$f":"'Базовые концовки'!F191","v":0}]
[null,"Монтажные работы ТЦ ЗП",null,null,null,{"$f":"'Базовые концовки'!F192","v":0}]
[null,"Монтажные работы ТЦ ЗПМ",null,null,null,{"$f":"'Базовые концовки'!F193","v":0}]
[null,"Монтажные работы ТЦ ЭМ",null,null,null,{"$f":"'Базовые концовки'!F194","v":0}]
[null,"Монтажные работы ТЦ материалы",null,null,null,{"$f":"'Базовые концовки'!F195","v":0}]
[null,"Монтажные работы ТЦ НР",null,null,null,{"$f":"'Базовые концовки'!F196","v":0}]
[null,"Монтажные работы ТЦ СП",null,null,null,{"$f":"'Базовые концовки'!F197","v":0}]
[null,"Монтажные работы ТЦ всего",null,null,null,{"$f":"'Базовые концовки'!F198","v":0}]
[null,"СТОИМОСТЬ ОБЩЕСТРОИТЕЛЬНЫХ РАБОТ -",null,null,null,{"$f":"'Базовые концовки'!F199","v":2158},{"$f":"'Базовые концовки'!G199","v":1125},{"$f":"'Базовые концовки'!H199","v":1033},null,{"$f":"'Базовые концовки'!J199","v":112.62820000000001},null,null,null,{"$f":"'Базовые концовки'!L199","v":0},null,null,null,{"$f":"'Базовые концовки'!M199","v":0}]
[null,null,null,null,null,null,null,{"$f":"'Базовые концовки'!I199","v":165},null,{"$f":"'Базовые концовки'!K199","v":13.696}]
[null,".     В ТОМ ЧИСЛЕ:"]
[null,".       МАТЕРИАЛОВ -",null,null,null,{"$f":"'Базовые концовки'!F201","v":0}]
[null,".   СТОИМОСТЬ ВОЗВРАЩАЕМЫХ МАТЕРИАЛОВ -",null,null,null,{"$f":"'Базовые концовки'!F202","v":0}]
[null,".   НАКЛАДНЫЕ РАСХОДЫ - (%=104 - по стр. 9)",null,null,null,{"$f":"'Базовые концовки'!F203","v":1342}]
[null,".   СМЕТНАЯ ПРИБЫЛЬ - (%=60 - по стр. 9)",null,null,null,{"$f":"'Базовые концовки'!F204","v":774}]
[null,"ВСЕГО, СТОИМОСТЬ ОБЩЕСТРОИТЕЛЬНЫХ РАБОТ -",null,null,null,{"$f":"'Базовые концовки'!F205","v":4274}]
[null,"СТОИМОСТЬ МЕТАЛЛОМОНТАЖНЫХ РАБОТ -",null,null,null,{"$f":"'Базовые концовки'!F206","v":0},{"$f":"'Базовые концовки'!G206","v":0},{"$f":"'Базовые концовки'!H206","v":0},null,{"$f":"'Базовые концовки'!J206","v":0},null,null,null,{"$f":"'Базовые концовки'!L206","v":0},null,null,null,{"$f":"'Базовые концовки'!M206","v":0}]
[null,".   СТОИМОСТЬ ВОЗВРАЩАЕМЫХ МАТЕРИАЛОВ -",null,null,null,{"$f":"'Базовые концовки'!F207","v":0}]
[null,".   НАКЛАДНЫЕ РАСХОДЫ -",null,null,null,{"$f":"'Базовые концовки'!F208","v":0}]
[null,".   СМЕТНАЯ ПРИБЫЛЬ -",null,null,null,{"$f":"'Базовые концовки'!F209","v":0}]
[null,"ВСЕГО, СТОИМОСТЬ МЕТАЛЛОМОНТАЖНЫХ РАБОТ -",null,null,null,{"$f":"'Базовые концовки'!F210","v":0}]
[null,"СТОИМОСТЬ САНТЕХНИЧЕСКИХ РАБОТ -",null,null,null,{"$f":"'Базовые концовки'!F211","v":0},{"$f":"'Базовые концовки'!G211","v":0},{"$f":"'Базовые концовки'!H211","v":0},null,{"$f":"'Базовые концовки'!J211","v":0},null,null,null,{"$f":"'Базовые концовки'!L211","v":0},null,null,null,{"$f":"'Базовые концовки'!M211","v":0}]
[null,".     В ТОМ ЧИСЛЕ:"]
[null,". СДАЧА И ИСПЫТАНИЕ -",null,null,null,{"$f":"'Базовые концовки'!F213","v":0},{"$f":"'Базовые концовки'!G213","v":0},{"$f":"'Базовые концовки'!H213","v":0},null,{"$f":"'Базовые концовки'!J213","v":0},null,null,null,{"$f":"'Базовые концовки'!L213","v":0},null,null,null,{"$f":"'Базовые концовки'!M213","v":0}]
[null,".   СТОИМОСТЬ ВОЗВРАЩАЕМЫХ МАТЕРИАЛОВ -",null,null,null,{"$f":"'Базовые концовки'!F214","v":0}]
[null,".   НАКЛАДНЫЕ РАСХОДЫ -",null,null,null,{"$f":"'Базовые концовки'!F215","v":0}]
[null,".   СМЕТНАЯ ПРИБЫЛЬ -",null,null,null,{"$f":"'Базовые концовки'!F216","v":0}]
[null,". ШЕФМОНТАЖ -",null,null,null,{"$f":"'Базовые концовки'!F217","v":0}]
[null,"ВСЕГО, СТОИМОСТЬ САНТЕХНИЧЕСКИХ РАБОТ -",null,null,null,{"$f":"'Базовые концовки'!F218","v":0}]
[null,"СТОИМОСТЬ БУРО-ВЗРЫВНЫХ РАБОТ -",null,null,null,{"$f":"'Базовые концовки'!F219","v":0},{"$f":"'Базовые концовки'!G219","v":0},{"$f":"'Базовые концовки'!H219","v":0},null,{"$f":"'Базовые концовки'!J219","v":0},null,null,null,{"$f":"'Базовые концовки'!L219","v":0},null,null,null,{"$f":"'Базовые концовки'!M219","v":0}]
[null,".   СТОИМОСТЬ ВОЗВРАЩАЕМЫХ МАТЕРИАЛОВ -",null,null,null,{"$f":"'Базовые концовки'!F220","v":0}]
[null,".   НАКЛАДНЫЕ РАСХОДЫ -",null,null,null,{"$f":"'Базовые концовки'!F221","v":0}]
[null,".   СМЕТНАЯ ПРИБЫЛЬ -",null,null,null,{"$f":"'Базовые концовки'!F222","v":0}]
[null,"ВСЕГО, СТОИМОСТЬ БУРО-ВЗРЫВНЫХ РАБОТ -",null,null,null,{"$f":"'Базовые концовки'!F223","v":0}]
[null,"СТОИМОСТЬ ГОРНОПРОХОДЧЕСКИХ РАБОТ -",null,null,null,{"$f":"'Базовые концовки'!F224","v":0},{"$f":"'Базовые концовки'!G224","v":0},{"$f":"'Базовые концовки'!H224","v":0},null,{"$f":"'Базовые концовки'!J224","v":0},null,null,null,{"$f":"'Базовые концовки'!L224","v":0},null,null,null,{"$f":"'Базовые концовки'!M224","v":0}]
[null,".   СТОИМОСТЬ ВОЗВРАЩАЕМЫХ МАТЕРИАЛОВ -",null,null,null,{"$f":"'Базовые концовки'!F225","v":0}]
[null,".   НАКЛАДНЫЕ РАСХОДЫ -",null,null,null,{"$f":"'Базовые концовки'!F226","v":0}]
[null,".   СМЕТНАЯ ПРИБЫЛЬ -",null,null,null,{"$f":"'Базовые концовки'!F227","v":0}]
[null,"ВСЕГО, СТОИМОСТЬ ГОРНОПРОХОДЧЕСКИХ РАБОТ -",null,null,null,{"$f":"'Базовые концовки'!F228","v":0}]
[null,"СТОИМОСТЬ РЕСТАВРАЦИОННЫХ РАБОТ -",null,null,null,{"$f":"'Базовые концовки'!F229","v":0},{"$f":"'Базовые концовки'!G229","v":0},{"$f":"'Базовые концовки'!H229","v":0},null,{"$f":"'Базовые концовки'!J229","v":0},null,null,null,{"$f":"'Базовые концовки'!L229","v":0},null,null,null,{"$f":"'Базовые концовки'!M229","v":0}]
[null,".     В ТОМ ЧИСЛЕ:"]
[null,". МАТЕРИАЛЫ -",null,null,null,{"$f":"'Базовые концовки'!F231","v":0}]
[null,".   СТОИМОСТЬ ВОЗВРАЩАЕМЫХ МАТЕРИАЛОВ -",null,null,null,{"$f":"'Базовые концовки'!F232","v":0}]
[null,".   НАКЛАДНЫЕ РАСХОДЫ -",null,null,null,{"$f":"'Базовые концовки'!F233","v":0}]
[null,".   СМЕТНАЯ ПРИБЫЛЬ -",null,null,null,{"$f":"'Базовые концовки'!F234","v":0}]
[null,"ВСЕГО, СТОИМОСТЬ РЕСТАВРАЦИОННЫХ РАБОТ -",null,null,null,{"$f":"'Базовые концовки'!F235","v":0}]
[null,"Строительные работы БЦ ЭМ",null,null,null,{"$f":"'Базовые концовки'!F236","v":1033}]
[null,"Строительные работы БЦ ЗПМ",null,null,null,{"$f":"'Базовые концовки'!F237","v":165}]
[null,"Строительные работы ТЦ ЗП",21.324000000000002,null,null,{"$f":"'Базовые концовки'!F238","v":23990}]
[null,"Строительные работы ТЦ ЗПМ",21.324000000000002,null,null,{"$f":"'Базовые концовки'!F239","v":3518}]
[null,"Строительные работы ТЦ ЭМ",6.1520000000000001,null,null,{"$f":"'Базовые концовки'!F240","v":6355}]
[null,"Строительные работы ТЦ материалы",null,null,null,{"$f":"'Базовые концовки'!F241","v":0}]
[null,"Строительные работы ТЦ НР",21.324000000000002,null,null,{"$f":"'Базовые концовки'!F242","v":28617}]
[null,"Строительные работы ТЦ СП",21.324000000000002,null,null,{"$f":"'Базовые концовки'!F243","v":16505}]
[null,"Строительные работы ТЦ всего",null,null,null,{"$f":"'Базовые концовки'!F244","v":75467}]
[null,"СТОИМОСТЬ ПЕРЕВОЗКИ ГРУЗОВ -",null,null,null,{"$f":"'Базовые концовки'!F245","v":367},{"$f":"'Базовые концовки'!G245","v":29},{"$f":"'Базовые концовки'!H245","v":268},null,{"$f":"'Базовые концовки'!J245","v":3.0922999999999998},null,null,null,{"$f":"'Базовые концовки'!L245","v":0},null,null,null,{"$f":"'Базовые концовки'!M245","v":0}]
[null,null,null,null,null,null,null,{"$f":"'Базовые концовки'!I245","v":15},null,{"$f":"'Базовые концовки'!K245","v":1.2198}]
[null,"СТОИМОСТЬ ПОГРУЗКИ-РАЗГРУЗКИ",null,null,null,{"$f":"'Базовые концовки'!F246","v":203},{"$f":"'Базовые концовки'!G246","v":29},{"$f":"'Базовые концовки'!H246","v":104},null,{"$f":"'Базовые концовки'!J246","v":3.0922999999999998},null,null,null,{"$f":"'Базовые концовки'!L246","v":0},null,null,null,{"$f":"'Базовые концовки'!M246","v":0}]
[null,null,null,null,null,null,null,{"$f":"'Базовые концовки'!I246","v":15},null,{"$f":"'Базовые концовки'!K246","v":1.2198}]
[null,".   В Т.Ч. НАКЛАДНЫЕ РАСХОДЫ - (%=100 - по стр. 10)",null,null,null,{"$f":"'Базовые концовки'!F247","v":44}]
[null,".   В Т.Ч. СМЕТНАЯ ПРИБЫЛЬ - (%=60 - по стр. 10)",null,null,null,{"$f":"'Базовые концовки'!F248","v":26}]
[null,".   НАКЛАДНЫЕ РАСХОДЫ -",null,null,null,{"$f":"'Базовые концовки'!F249","v":0}]
[null,".   СМЕТНАЯ ПРИБЫЛЬ -",null,null,null,{"$f":"'Базовые концовки'!F250","v":0}]
[null,"ВСЕГО, СТОИМОСТЬ ПЕРЕВОЗКИ ГРУЗОВ -",null,null,null,{"$f":"'Базовые концовки'!F251","v":367}]
[null,"ВСЕГО, СТОИМОСТЬ ПОГРУЗКИ-РАЗГРУЗКИ -",null,null,null,{"$f":"'Базовые концовки'!F252","v":203}]
[null,"Погрузка-разгрузка БЦ ЭМ",null,null,null,{"$f":"'Базовые концовки'!F253","v":104}]
[null,"Погрузка-разгрузка БЦ ЗПМ",null,null,null,{"$f":"'Базовые концовки'!F254","v":15}]
[null,"Погрузка-разгрузка ТЦ ЗП",21.324000000000002,null,null,{"$f":"'Базовые концовки'!F255","v":618}]
[null,"Погрузка-разгрузка ТЦ ЗПМ",21.324000000000002,null,null,{"$f":"'Базовые концовки'!F256","v":320}]
[null,"Погрузка-разгрузка ТЦ ЭМ",6.1520000000000001,null,null,{"$f":"'Базовые концовки'!F257","v":640}]
[null,"Погрузка-разгрузка ТЦ материалы",null,null,null,{"$f":"'Базовые концовки'!F258","v":0}]
[null,"Погрузка-разгрузка ТЦ в т.ч. НР",21.324000000000002,null,null,{"$f":"'Базовые концовки'!F259","v":938}]
[null,"Погрузка-разгрузка ТЦ в т.ч. СП",21.324000000000002,null,null,{"$f":"'Базовые концовки'!F260","v":554}]
[null,"Погрузка-разгрузка ТЦ НР",null,null,null,{"$f":"'Базовые концовки'!F261","v":0}]
[null,"Погрузка-разгрузка ТЦ СП",null,null,null,{"$f":"'Базовые концовки'!F262","v":0}]
[null,"Погрузка-разгрузка ТЦ всего",null,null,null,{"$f":"'Базовые концовки'!F263","v":2750}]
[null,"ПЕРЕВОЗКА (таб.6)",null,null,null,{"$f":"'Базовые концовки'!F264","v":0},{"$f":"'Базовые концовки'!G264","v":0},{"$f":"'Базовые концовки'!H264","v":0},null,{"$f":"'Базовые концовки'!J264","v":0},null,null,null,{"$f":"'Базовые концовки'!L264","v":0},null,null,null,{"$f":"'Базовые концовки'!M264","v":0}]
[null,"ПЕРЕВОЗКА (таб.7)",null,null,null,{"$f":"'Базовые концовки'!F265","v":0},{"$f":"'Базовые концовки'!G265","v":0},{"$f":"'Базовые концовки'!H265","v":0},null,{"$f":"'Базовые концовки'!J265","v":0},null,null,null,{"$f":"'Базовые концовки'!L265","v":0},null,null,null,{"$f":"'Базовые концовки'!M265","v":0}]
[null,"ПЕРЕВОЗКА (таб.8)",null,null,null,{"$f":"'Базовые концовки'!F266","v":164},{"$f":"'Базовые концовки'!G266","v":0},{"$f":"'Базовые концовки'!H266","v":164},null,{"$f":"'Базовые концовки'!J266","v":0},null,null,null,{"$f":"'Базовые концовки'!L266","v":0},null,null,null,{"$f":"'Базовые концовки'!M266","v":0}]
[null,"Перевозка (таб.6) ТЦ",null,null,null,{"$f":"'Базовые концовки'!F267","v":0}]
[null,"Перевозка (таб.7) ТЦ",null,null,null,{"$f":"'Базовые концовки'!F268","v":0}]
[null,"Перевозка (таб.8) ТЦ",10.144,null,null,{"$f":"'Базовые концовки'!F269","v":1664}]
[null,"Перевозка ТЦ  всего",null,null,null,{"$f":"'Базовые концовки'!F270","v":1664}]
[null,"СТОИМОСТЬ ПУСКОНАЛАДОЧНЫХ РАБОТ -",null,null,null,{"$f":"'Базовые концовки'!F271","v":0},{"$f":"'Базовые концовки'!G271","v":0},{"$f":"'Базовые концовки'!H271","v":0},null,{"$f":"'Базовые концовки'!J271","v":0},null,null,null,{"$f":"'Базовые концовки'!L271","v":0},null,null,null,{"$f":"'Базовые концовки'!M271","v":0}]
[null,".   НАКЛАДНЫЕ РАСХОДЫ -",null,null,null,{"$f":"'Базовые концовки'!F272","v":0}]
[null,".   СМЕТНАЯ ПРИБЫЛЬ -",null,null,null,{"$f":"'Базовые концовки'!F273","v":0}]
[null,"ВСЕГО, СТОИМОСТЬ ПУСКОНАЛАДОЧНЫХ РАБОТ -",null,null,null,{"$f":"'Базовые концовки'!F274","v":0}]
[null,"Пусконаладочные работы ТЦ ЗП",null,null,null,{"$f":"'Базовые концовки'!F275","v":0}]
[null,"Пусконаладочные работы ТЦ НР",null,null,null,{"$f":"'Базовые концовки'!F276","v":0}]
[null,"Пусконаладочные работы ТЦ СП",null,null,null,{"$f":"'Базовые концовки'!F277","v":0}]
[null,"Пусконаладочные работы ТЦ всего",null,null,null,{"$f":"'Базовые концовки'!F278","v":0}]
[null,"СТОИМОСТЬ ПРОЧИХ РАБОТ (с НР и СП) -",null,null,null,{"$f":"'Базовые концовки'!F279","v":0},{"$f":"'Базовые концовки'!G279","v":0},{"$f":"'Базовые концовки'!H279","v":0},null,{"$f":"'Базовые концовки'!J279","v":0},null,null,null,{"$f":"'Базовые концовки'!L279","v":0},null,null,null,{"$f":"'Базовые концовки'!M279","v":0}]
[null,".   СТОИМОСТЬ ВОЗВРАЩАЕМЫХ МАТЕРИАЛОВ -",null,null,null,{"$f":"'Базовые концовки'!F280","v":0}]
[null,".   НАКЛАДНЫЕ РАСХОДЫ -",null,null,null,{"$f":"'Базовые концовки'!F281","v":0}]
[null,".   СМЕТНАЯ ПРИБЫЛЬ -",null,null,null,{"$f":"'Базовые концовки'!F282","v":0}]
[null,"ВСЕГО, СТОИМОСТЬ ПРОЧИХ РАБОТ (с НР и СП) -",null,null,null,{"$f":"'Базовые концовки'!F283","v":0}]
[null,"ВСЕГО, СТОИМОСТЬ ПРОЧИХ РАБОТ (без НР и СП) -",null,null,null,{"$f":"'Базовые концовки'!F284","v":0},{"$f":"'Базовые концовки'!G284","v":0},{"$f":"'Базовые концовки'!H284","v":0},null,{"$f":"'Базовые концовки'!J284","v":0},null,null,null,{"$f":"'Базовые концовки'!L284","v":0},null,null,null,{"$f":"'Базовые концовки'!M284","v":0}]
[null,".   СТОИМОСТЬ ВОЗВРАЩАЕМЫХ МАТЕРИАЛОВ -",null,null,null,{"$f":"'Базовые концовки'!F285","v":0}]
[null,"Прочие работы БЦ ЭМ",null,null,null,{"$f":"'Базовые концовки'!F286","v":0}]
[null,"Прочие работы БЦ ЗПМ",null,null,null,{"$f":"'Базовые концовки'!F287","v":0}]
[null,"Прочие работы ТЦ ЗП",null,null,null,{"$f":"'Базовые концовки'!F288","v":0}]
[null,"Прочие работы ТЦ ЗПМ",null,null,null,{"$f":"'Базовые концовки'!F289","v":0}]
[null,"Прочие работы ТЦ ЭМ",null,null,null,{"$f":"'Базовые концовки'!F290","v":0}]
[null,"Прочие работы ТЦ материалы",null,null,null,{"$f":"'Базовые концовки'!F291","v":0}]
[null,"Прочие работы ТЦ НР",null,null,null,{"$f":"'Базовые концовки'!F292","v":0}]
[null,"Прочие работы ТЦ СП",null,null,null,{"$f":"'Базовые концовки'!F293","v":0}]
[null,"Прочие работы ТЦ всего",null,null,null,{"$f":"'Базовые концовки'!F294","v":0}]
[null,". ВСЕГО  ПО  РАЗДЕЛУ 2",null,null,null,{"$f":"'Базовые концовки'!F295","v":4641},{"$f":"'Базовые концовки'!G295","v":0},{"$f":"'Базовые концовки'!H295","v":0},null,{"$f":"'Базовые концовки'!J295","v":0},null,null,null,{"$f":"'Базовые концовки'!L295","v":0},null,null,null,{"$f":"'Базовые концовки'!M295","v":0}]
[null,"ВСЕГО СТОИМОСТЬ ВОЗВРАЩАЕМЫХ МАТЕРИАЛОВ -",null,null,null,{"$f":"'Базовые концовки'!F296","v":0}]
[null,"ВСЕГО НАКЛАДНЫЕ РАСХОДЫ",null,null,null,{"$f":"'Базовые концовки'!F297","v":1342}]
[null,"ВСЕГО НАКЛАДНЫЕ РАСХОДЫ",null,null,null,{"$f":"'Базовые концовки'!F298","v":1386}]
[null,"ВСЕГО СМЕТНАЯ ПРИБЫЛЬ",null,null,null,{"$f":"'Базовые концовки'!F299","v":774}]
[null,"ВСЕГО СМЕТНАЯ ПРИБЫЛЬ",null,null,null,{"$f":"'Базовые концовки'!F300","v":800}]
[null,"в т.ч. Вспомогательные материалы на монтаж",null,null,null,{"$f":"'Базовые концовки'!F301","v":0},null,null,null,null,null,null,null,{"$f":"'Базовые концовки'!L301","v":0}]
[null,"в т.ч. Вспомогательные материалы от ОЗП",null,null,null,{"$f":"'Базовые концовки'!F302","v":0}]
[null,"Оплата основных рабочих",null,null,null,{"$f":"'Базовые концовки'!F303","v":1154}]
[null,"Оплата механизаторов",null,null,null,{"$f":"'Базовые концовки'!F304","v":180}]
[null,"Стоимость механизмов",null,null,null,{"$f":"'Базовые концовки'!F305","v":1301}]
[null,"Сметная стоимость материалов",null,null,null,{"$f":"'Базовые концовки'!F306","v":0},null,null,null,null,null,null,null,{"$f":"'Базовые концовки'!L306","v":0}]
[null,"Трудозатраты осн. рабочих",null,null,null,null,null,null,null,{"$f":"'Базовые концовки'!J307","v":115.7205}]
[null,"Трудозатраты механизаторов",null,null,null,null,null,null,null,{"$f":"'Базовые концовки'!J308","v":14.915800000000001}]
[null,"Нормативная трудоемкость",null,null,null,null,null,null,null,{"$f":"'Базовые концовки'!J309","v":130.63630000000001}]
[null,"Оплата основных рабочих ТЦ",null,null,null,{"$f":"'Базовые концовки'!F310","v":24608}]
[null,"Оплата механизаторов ТЦ",null,null,null,{"$f":"'Базовые концовки'!F311","v":3838}]
[null,"Стоимость механизмов ТЦ",null,null,null,{"$f":"'Базовые концовки'!F312","v":6995}]
[null,"Стоимость материалов ТЦ",null,null,null,{"$f":"'Базовые концовки'!F313","v":0}]
[null,"Оборудование ТЦ",null,null,null,{"$f":"'Базовые концовки'!F314","v":0}]
[null,"Перевозка ТЦ",null,null,null,{"$f":"'Базовые концовки'!F315","v":1664}]
[null,"ИТОГО ТЦ",null,null,null,{"$f":"'Базовые концовки'!F316","v":33267}]
[null,"В Т.Ч. НАКЛАДНЫЕ РАСХОДЫ ТЦ",null,null,null,{"$f":"'Базовые концовки'!F317","v":938}]
[null,"В Т.Ч. СМЕТНАЯ ПРИБЫЛЬ ТЦ",null,null,null,{"$f":"'Базовые концовки'!F318","v":554}]
[null,"НАКЛАДНЫЕ РАСХОДЫ ТЦ",null,null,null,{"$f":"'Базовые концовки'!F319","v":29555}]
[null,"СМЕТНАЯ ПРИБЫЛЬ ТЦ",null,null,null,{"$f":"'Базовые концовки'!F320","v":17059}]
[null,"ВСЕГО ТЦ",null,null,null,{"$f":"'Базовые концовки'!F321","v":79881}]
[]
[null,"Раздел 3.  Устройство новой дорожной одежды на уширениях и парковках"]
[]
["12.","Е01-01-030-06\nРазработка грунта с перемещением до 10 м бульдозерами мощностью 79 кВт (108 л.с.), группа грунтов 2, 1000 м3 грунта",0.2772,{"$f":"'Базовые цены за единицу'!B26","v":949.58},{"$f":"'Базовые цены за единицу'!D26","v":949.58},{"$f":"'Базовые цены с учетом расхода'!B26","v":263},{"$f":"'Базовые цены с учетом расхода'!C26","v":0},{"$f":"'Базовые цены с учетом расхода'!D26","v":263},null,{"$f":"'Базовые цены с учетом расхода'!I26","v":0},"sum","IsZPR",null,{"$f":"'Базовые цены с учетом расхода'!F26","v":0}]
[null,null,null,{"$f":"'Базовые цены за единицу'!C26","v":0},{"$f":"'Базовые цены за единицу'!E26","v":121.41},null,null,{"$f":"'Базовые цены с учетом расхода'!E26","v":34},7.49,{"$f":"'Базовые цены с учетом расхода'!K26","v":2.076228},"sum_b","IsZPM"]
[null,{"$f":"IF(ROUND((924*0.3)/1000,5)=C550,\"Объем: 924*0,3\",\"\")","v":"Объем: 924*0,3"}]
[null,"Зарплата рабочих"]
[null,"Эксплуатация машин",null,null,null,263]
[null,"в т.ч. зарплата машинистов",null,null,null,34]
[null,"Материалы"]
[null,"в т.ч. Вспомогательные материалы от стоимости материалов"]
[null,"в т.ч. Вспомогательные ненормируемые материалы",null,null,null,null,null,null,null,null,"NenormMatOtZPR","IsMater"]
[null,"в т.ч. Ненормированная з.п. рабочих"]
[null,"в т.ч. Ненормированная стоимость эксплуатации машин"]
[null,"в т.ч. Ненормированная оплата механизаторов"]
[null,"Накладные расходы",95,null,null,{"$f":"IF('Базовые цены с учетом расхода'!N26>0,'Базовые цены с учетом расхода'!N26,IF('Базовые цены с учетом расхода'!N26<0,'Базовые цены с учетом расхода'!N26,\"\"))","v":32},null,null,null,null,null,"Nakl"]
[null,"НР от ЗПР",null,null,null,{"$f":"IF('Базовые цены с учетом расхода'!P26>0,'Базовые цены с учетом расхода'!P26,IF('Базовые цены с учетом расхода'!P26<0,'Базовые цены с учетом расхода'!P26,\"\"))","v":""},null,null,null,null,null,"Nakl_ZPR"]
[null,"НР от ЗПМ",95,null,null,{"$f":"IF('Базовые цены с учетом расхода'!Q26>0,'Базовые цены с учетом расхода'!Q26,IF('Базовые цены с учетом расхода'!Q26<0,'Базовые цены с учетом расхода'!Q26,\"\"))","v":32},null,null,null,null,null,"Nakl_ZPM"]
[null,"Сметная прибыль",43,null,null,{"$f":"IF('Базовые цены с учетом расхода'!O26>0,'Базовые цены с учетом расхода'!O26,IF('Базовые цены с учетом расхода'!O26<0,'Базовые цены с учетом расхода'!O26,\"\"))","v":15},null,null,null,null,null,"Plan"]
[null,"СП от ЗПР",null,null,null,{"$f":"IF('Базовые цены с учетом расхода'!R26>0,'Базовые цены с учетом расхода'!R26,IF('Базовые цены с учетом расхода'!R26<0,'Базовые цены с учетом расхода'!R26,\"\"))","v":""},null,null,null,null,null,"Plan_ZPR"]
[null,"СП от ЗПМ",43,null,null,{"$f":"IF('Базовые цены с учетом расхода'!S26>0,'Базовые цены с учетом расхода'!S26,IF('Базовые цены с учетом расхода'!S26<0,'Базовые цены с учетом расхода'!S26,\"\"))","v":14},null,null,null,null,null,"Plan_ZPM"]
[]
["13.","Т01-01-01-045\nПогрузка при автомобильных перевозках прочих материалов, деталей (с использованием погрузчика), 1 т груза",485.1,{"$f":"'Базовые цены за единицу'!B27","v":18.98},{"$f":"'Базовые цены за единицу'!D27","v":9.73},{"$f":"'Базовые цены с учетом расхода'!B27","v":9207},{"$f":"'Базовые цены с учетом расхода'!C27","v":1315},{"$f":"'Базовые цены с учетом расхода'!D27","v":4720},0.28899999999999998,{"$f":"'Базовые цены с учетом расхода'!I27","v":140.19390000000001},"sum","IsZPR",null,{"$f":"'Базовые цены с учетом расхода'!F27","v":0}]
[null,null,null,{"$f":"'Базовые цены за единицу'!C27","v":2.71},{"$f":"'Базовые цены за единицу'!E27","v":1.38},null,null,{"$f":"'Базовые цены с учетом расхода'!E27","v":669},0.114,{"$f":"'Базовые цены с учетом расхода'!K27","v":55.301400000000001},"sum_b","IsZPM"]
[null,{"$f":"IF(ROUND(((277.2)*1.75)/1,2)=C569,\"Объем: (277,2)*1,75\",\"\")","v":"Объем: (277,2)*1,75"}]
[null,"Зарплата рабочих",null,null,null,1315]
[null,"Эксплуатация машин",null,null,null,4720]
[null,"в т.ч. зарплата машинистов",null,null,null,669]
[null,"Материалы"]
[null,"в т.ч. Вспомогательные материалы от стоимости материалов"]
[null,"в т.ч. Вспомогательные ненормируемые материалы",null,null,null,null,null,null,null,null,"NenormMatOtZPR","IsMater"]
[null,"в т.ч. Ненормированная з.п. рабочих"]
[null,"в т.ч. Ненормированная стоимость эксплуатации машин"]
[null,"в т.ч. Ненормированная оплата механизаторов"]
[null,"в т.ч. Накладные расходы",100,null,null,{"$f":"IF('Базовые цены с учетом расхода'!AF27>0,'Базовые цены с учетом расхода'!AF27,IF('Базовые цены с учетом расхода'!AF27<0,'Базовые цены с учетом расхода'!AF27,\"\"))","v":1984},null,null,null,null,null,"Nakl"]
[null,"НР от ЗПР",100,null,null,{"$f":"IF('Базовые цены с учетом расхода'!P27>0,'Базовые цены с учетом расхода'!P27,IF('Базовые цены с учетом расхода'!P27<0,'Базовые цены с учетом расхода'!P27,\"\"))","v":1315},null,null,null,null,null,"Nakl_ZPR"]
[null,"НР от ЗПМ",100,null,null,{"$f":"IF('Базовые цены с учетом расхода'!Q27>0,'Базовые цены с учетом расхода'!Q27,IF('Базовые цены с учетом расхода'!Q27<0,'Базовые цены с учетом расхода'!Q27,\"\"))","v":669},null,null,null,null,null,"Nakl_ZPM"]
[null,"в т.ч. Сметная прибыль",60,null,null,{"$f":"IF('Базовые цены с учетом расхода'!AG27>0,'Базовые цены с учетом расхода'!AG27,IF('Базовые цены с учетом расхода'!AG27<0,'Базовые цены с учетом расхода'!AG27,\"\"))","v":1188},null,null,null,null,null,"Plan"]
[null,"СП от ЗПР",60,null,null,{"$f":"IF('Базовые цены с учетом расхода'!R27>0,'Базовые цены с учетом расхода'!R27,IF('Базовые цены с учетом расхода'!R27<0,'Базовые цены с учетом расхода'!R27,\"\"))","v":791},null,null,null,null,null,"Plan_ZPR"]
[null,"СП от ЗПМ",60,null,null,{"$f":"IF('Базовые цены с учетом расхода'!S27>0,'Базовые цены с учетом расхода'!S27,IF('Базовые цены с учетом расхода'!S27<0,'Базовые цены с учетом расхода'!S27,\"\"))","v":403},null,null,null,null,null,"Plan_ZPM"]
[]
["14.","Т03-21-01-015\nПеревозка грузов I класса автомобилями-самосвалами грузоподъемностью 10 т работающих вне карьера на расстояние до 15 км, 1 т груза",485.1,{"$f":"'Базовые цены за единицу'!B28","v":15.36},{"$f":"'Базовые цены за единицу'!D28","v":15.36},{"$f":"'Базовые цены с учетом расхода'!B28","v":7451},{"$f":"'Базовые цены с учетом расхода'!C28","v":0},{"$f":"'Базовые цены с учетом расхода'!D28","v":7451},null,{"$f":"'Базовые цены с учетом расхода'!I28","v":0},"sum","IsZPR",null,{"$f":"'Базовые цены с учетом расхода'!F28","v":0}]
[null,null,null,{"$f":"'Базовые цены за единицу'!C28","v":0},{"$f":"'Базовые цены за единицу'!E28","v":0},null,null,{"$f":"'Базовые цены с учетом расхода'!E28","v":0},null,{"$f":"'Базовые цены с учетом расхода'!K28","v":0},"sum_b","IsZPM"]
[null,{"$f":"IF(ROUND(((277.2)*1.75)/1,2)=C588,\"Объем: (277,2)*1,75\",\"\")","v":"Объем: (277,2)*1,75"}]
[null,"Зарплата рабочих"]
[null,"Эксплуатация машин",null,null,null,7451]
[null,"в т.ч. зарплата машинистов"]
[null,"Материалы"]
[null,"в т.ч. Вспомогательные материалы от стоимости материалов"]
[null,"в т.ч. Вспомогательные ненормируемые материалы",null,null,null,null,null,null,null,null,"NenormMatOtZPR","IsMater"]
[null,"в т.ч. Ненормированная з.п. рабочих"]
[null,"в т.ч. Ненормированная стоимость эксплуатации машин"]
[null,"в т.ч. Ненормированная оплата механизаторов"]
[null,"в т.ч. Накладные расходы",null,null,null,{"$f":"IF('Базовые цены с учетом расхода'!AF28>0,'Базовые цены с учетом расхода'!AF28,IF('Базовые цены с учетом расхода'!AF28<0,'Базовые цены с учетом расхода'!AF28,\"\"))","v":""},null,null,null,null,null,"Nakl"]
[null,"НР от ЗПР",null,null,null,{"$f":"IF('Базовые цены с учетом расхода'!P28>0,'Базовые цены с учетом расхода'!P28,IF('Базовые цены с учетом расхода'!P28<0,'Базовые цены с учетом расхода'!P28,\"\"))","v":""},null,null,null,null,null,"Nakl_ZPR"]
[null,"НР от ЗПМ",null,null,null,{"$f":"IF('Базовые цены с учетом расхода'!Q28>0,'Базовые цены с учетом расхода'!Q28,IF('Базовые цены с учетом расхода'!Q28<0,'Базовые цены с учетом расхода'!Q28,\"\"))","v":""},null,null,null,null,null,"Nakl_ZPM"]
[null,"в т.ч. Сметная прибыль",null,null,null,{"$f":"IF('Базовые цены с учетом расхода'!AG28>0,'Базовые цены с учетом расхода'!AG28,IF('Базовые цены с учетом расхода'!AG28<0,'Базовые цены с учетом расхода'!AG28,\"\"))","v":""},null,null,null,null,null,"Plan"]
[null,"СП от ЗПР",null,null,null,{"$f":"IF('Базовые цены с учетом расхода'!R28>0,'Базовые цены с учетом расхода'!R28,IF('Базовые цены с учетом расхода'!R28<0,'Базовые цены с учетом расхода'!R28,\"\"))","v":""},null,null,null,null,null,"Plan_ZPR"]
[null,"СП от ЗПМ",null,null,null,{"$f":"IF('Базовые цены с учетом расхода'!S28>0,'Базовые цены с учетом расхода'!S28,IF('Базовые цены с учетом расхода'!S28<0,'Базовые цены с учетом расхода'!S28,\"\"))","v":""},null,null,null,null,null,"Plan_ZPM"]
[]
["15.","Е27-04-001-03\nУстройство подстилающих и выравнивающих слоев оснований из шлака доменного отвального сталеплавильного, фр. 40-70 толщ. 15см ,под дорожные бордюры: из щебня фр. 0-10мм толщ. 15см, 100 м3 материала основания (в плотном теле)",1.4219999999999999,{"$f":"'Базовые цены за единицу'!B29","v":4617.09},{"$f":"'Базовые цены за единицу'!D29","v":4465.6400000000003},{"$f":"'Базовые цены с учетом расхода'!B29","v":6565},{"$f":"'Базовые цены с учетом расхода'!C29","v":173},{"$f":"'Базовые цены с учетом расхода'!D29","v":6350},12.77,{"$f":"'Базовые цены с учетом расхода'!I29","v":18.158940000000001},"sum","IsZPR",null,{"$f":"'Базовые цены с учетом расхода'!F29","v":42}]
[null,null,null,{"$f":"'Базовые цены за единицу'!C29","v":121.95},{"$f":"'Базовые цены за единицу'!E29","v":478.22},null,null,{"$f":"'Базовые цены с учетом расхода'!E29","v":680},29.74,{"$f":"'Базовые цены с учетом расхода'!K29","v":42.290280000000003},"sum_b","IsZPM"]
[null,{"$f":"IF(ROUND((924*0.15+(79)*0.3*0.15)/100,3)=C607,\"Объем: 924*0,15+(79)*0,3*0,15\",\"\")","v":"Объем: 924*0,15+(79)*0,3*0,15"}]
[null,"Зарплата рабочих",null,null,null,173]
[null,"Эксплуатация машин",null,null,null,6350]
[null,"в т.ч. зарплата машинистов",null,null,null,680]
[null,"Материалы",null,null,null,42]
[null,"в т.ч. Вспомогательные материалы от стоимости материалов"]
[null,"в т.ч. Вспомогательные ненормируемые материалы",null,null,null,null,null,null,null,null,"NenormMatOtZPR","IsMater"]
[null,"в т.ч. Ненормированная з.п. рабочих"]
[null,"в т.ч. Ненормированная стоимость эксплуатации машин"]
[null,"в т.ч. Ненормированная оплата механизаторов"]
[null,"Накладные расходы",142,null,null,{"$f":"IF('Базовые цены с учетом расхода'!N29>0,'Базовые цены с учетом расхода'!N29,IF('Базовые цены с учетом расхода'!N29<0,'Базовые цены с учетом расхода'!N29,\"\"))","v":1211},null,null,null,null,null,"Nakl"]
[null,"НР от ЗПР",142,null,null,{"$f":"IF('Базовые цены с учетом расхода'!P29>0,'Базовые цены с учетом расхода'!P29,IF('Базовые цены с учетом расхода'!P29<0,'Базовые цены с учетом расхода'!P29,\"\"))","v":246},null,null,null,null,null,"Nakl_ZPR"]
[null,"НР от ЗПМ",142,null,null,{"$f":"IF('Базовые цены с учетом расхода'!Q29>0,'Базовые цены с учетом расхода'!Q29,IF('Базовые цены с учетом расхода'!Q29<0,'Базовые цены с учетом расхода'!Q29,\"\"))","v":966},null,null,null,null,null,"Nakl_ZPM"]
[null,"Сметная прибыль",81,null,null,{"$f":"IF('Базовые цены с учетом расхода'!O29>0,'Базовые цены с учетом расхода'!O29,IF('Базовые цены с учетом расхода'!O29<0,'Базовые цены с учетом расхода'!O29,\"\"))","v":691},null,null,null,null,null,"Plan"]
[null,"СП от ЗПР",81,null,null,{"$f":"IF('Базовые цены с учетом расхода'!R29>0,'Базовые цены с учетом расхода'!R29,IF('Базовые цены с учетом расхода'!R29<0,'Базовые цены с учетом расхода'!R29,\"\"))","v":140},null,null,null,null,null,"Plan_ZPR"]
[null,"СП от ЗПМ",81,null,null,{"$f":"IF('Базовые цены с учетом расхода'!S29>0,'Базовые цены с учетом расхода'!S29,IF('Базовые цены с учетом расхода'!S29<0,'Базовые цены с учетом расхода'!S29,\"\"))","v":551},null,null,null,null,null,"Plan_ZPM"]
[]
["16.","С Прайс \"СГМК\".\nЩебень из доменного шлака фр. 40-70 т.ч. прил. 27.2 (363,79*1,02*1,103), м3",174.64,{"$f":"'Базовые цены за единицу'!B30","v":64.760000000000005},{"$f":"'Базовые цены за единицу'!D30","v":0},{"$f":"'Базовые цены с учетом расхода'!B30","v":11310},{"$f":"'Базовые цены с учетом расхода'!C30","v":0},{"$f":"'Базовые цены с учетом расхода'!D30","v":0},null,{"$f":"'Базовые цены с учетом расхода'!I30","v":0},"sum","IsZPR",null,{"$f":"'Базовые цены с учетом расхода'!F30","v":11310}]
[null,null,null,{"$f":"'Базовые цены за единицу'!C30","v":0},{"$f":"'Базовые цены за единицу'!E30","v":0},null,null,{"$f":"'Базовые цены с учетом расхода'!E30","v":0},null,{"$f":"'Базовые цены с учетом расхода'!K30","v":0},"sum_b","IsZPM"]
[null,{"$f":"IF(ROUND((924*0.15*1.26)/1,2)=C626,\"Объем: 924*0,15*1,26\",\"\")","v":"Объем: 924*0,15*1,26"}]
[null,"   Поправки: М: =363.79*1.103*1.02/6.32"]
[null,"Зарплата рабочих"]
[null,"Эксплуатация машин"]
[null,"в т.ч. зарплата машинистов"]
[null,"Материалы",null,null,null,11310]
[null,"в т.ч. Вспомогательные материалы от стоимости материалов"]
[null,"в т.ч. Вспомогательные ненормируемые материалы",null,null,null,null,null,null,null,null,"NenormMatOtZPR","IsMater"]
[null,"в т.ч. Ненормированная з.п. рабочих"]
[null,"в т.ч. Ненормированная стоимость эксплуатации машин"]
[null,"в т.ч. Ненормированная оплата механизаторов"]
[null,"Накладные расходы",null,null,null,{"$f":"IF('Базовые цены с учетом расхода'!N30>0,'Базовые цены с учетом расхода'!N30,IF('Базовые цены с учетом расхода'!N30<0,'Базовые цены с учетом расхода'!N30,\"\"))","v":""},null,null,null,null,null,"Nakl"]
[null,"НР от ЗПР",null,null,null,{"$f":"IF('Базовые цены с учетом расхода'!P30>0,'Базовые цены с учетом расхода'!P30,IF('Базовые цены с учетом расхода'!P30<0,'Базовые цены с учетом расхода'!P30,\"\"))","v":""},null,null,null,null,null,"Nakl_ZPR"]
[null,"НР от ЗПМ",null,null,null,{"$f":"IF('Базовые цены с учетом расхода'!Q30>0,'Базовые цены с учетом расхода'!Q30,IF('Базовые цены с учетом расхода'!Q30<0,'Базовые цены с учетом расхода'!Q30,\"\"))","v":""},null,null,null,null,null,"Nakl_ZPM"]
[null,"Сметная прибыль",null,null,null,{"$f":"IF('Базовые цены с учетом расхода'!O30>0,'Базовые цены с учетом расхода'!O30,IF('Базовые цены с учетом расхода'!O30<0,'Базовые цены с учетом расхода'!O30,\"\"))","v":""},null,null,null,null,null,"Plan"]
[null,"СП от ЗПР",null,null,null,{"$f":"IF('Базовые цены с учетом расхода'!R30>0,'Базовые цены с учетом расхода'!R30,IF('Базовые цены с учетом расхода'!R30<0,'Базовые цены с учетом расхода'!R30,\"\"))","v":""},null,null,null,null,null,"Plan_ZPR"]
[null,"СП от ЗПМ",null,null,null,{"$f":"IF('Базовые цены с учетом расхода'!S30>0,'Базовые цены с учетом расхода'!S30,IF('Базовые цены с учетом расхода'!S30<0,'Базовые цены с учетом расхода'!S30,\"\"))","v":""},null,null,null,null,null,"Plan_ZPM"]
[]
["17.","С Прайс \"СГМК\".\nЩебень из доменного шлака фр. 0-10 т.ч. прил. 27.2 (376,04*1,02*1,103), м3",4.4800000000000004,{"$f":"'Базовые цены за единицу'!B31","v":66.94},{"$f":"'Базовые цены за единицу'!D31","v":0},{"$f":"'Базовые цены с учетом расхода'!B31","v":300},{"$f":"'Базовые цены с учетом расхода'!C31","v":0},{"$f":"'Базовые цены с учетом расхода'!D31","v":0},null,{"$f":"'Базовые цены с учетом расхода'!I31","v":0},"sum","IsZPR",null,{"$f":"'Базовые цены с учетом расхода'!F31","v":300}]
[null,null,null,{"$f":"'Базовые цены за единицу'!C31","v":0},{"$f":"'Базовые цены за единицу'!E31","v":0},null,null,{"$f":"'Базовые цены с учетом расхода'!E31","v":0},null,{"$f":"'Базовые цены с учетом расхода'!K31","v":0},"sum_b","IsZPM"]
[null,{"$f":"IF(ROUND(((79)*0.3*0.15*1.26)/1,2)=C646,\"Объем: (79)*0,3*0,15*1,26\",\"\")","v":"Объем: (79)*0,3*0,15*1,26"}]
[null,"   Поправки: М: =376.04*1.103*1.02/6.32"]
[null,"Зарплата рабочих"]
[null,"Эксплуатация машин"]
[null,"в т.ч. зарплата машинистов"]
[null,"Материалы",null,null,null,300]
[null,"в т.ч. Вспомогательные материалы от стоимости материалов"]
[null,"в т.ч. Вспомогательные ненормируемые материалы",null,null,null,null,null,null,null,null,"NenormMatOtZPR","IsMater"]
[null,"в т.ч. Ненормированная з.п. рабочих"]
[null,"в т.ч. Ненормированная стоимость эксплуатации машин"]
[null,"в т.ч. Ненормированная оплата механизаторов"]
[null,"Накладные расходы",null,null,null,{"$f":"IF('Базовые цены с учетом расхода'!N31>0,'Базовые цены с учетом расхода'!N31,IF('Базовые цены с учетом расхода'!N31<0,'Базовые цены с учетом расхода'!N31,\"\"))","v":""},null,null,null,null,null,"Nakl"]
[null,"НР от ЗПР",null,null,null,{"$f":"IF('Базовые цены с учетом расхода'!P31>0,'Базовые цены с учетом расхода'!P31,IF('Базовые цены с учетом расхода'!P31<0,'Базовые цены с учетом расхода'!P31,\"\"))","v":""},null,null,null,null,null,"Nakl_ZPR"]
[null,"НР от ЗПМ",null,null,null,{"$f":"IF('Базовые цены с учетом расхода'!Q31>0,'Базовые цены с учетом расхода'!Q31,IF('Базовые цены с учетом расхода'!Q31<0,'Базовые цены с учетом расхода'!Q31,\"\"))","v":""},null,null,null,null,null,"Nakl_ZPM"]
[null,"Сметная прибыль",null,null,null,{"$f":"IF('Базовые цены с учетом расхода'!O31>0,'Базовые цены с учетом расхода'!O31,IF('Базовые цены с учетом расхода'!O31<0,'Базовые цены с учетом расхода'!O31,\"\"))","v":""},null,null,null,null,null,"Plan"]
[null,"СП от ЗПР",null,null,null,{"$f":"IF('Базовые цены с учетом расхода'!R31>0,'Базовые цены с учетом расхода'!R31,IF('Базовые цены с учетом расхода'!R31<0,'Базовые цены с учетом расхода'!R31,\"\"))","v":""},null,null,null,null,null,"Plan_ZPR"]
[null,"СП от ЗПМ",null,null,null,{"$f":"IF('Базовые цены с учетом расхода'!S31>0,'Базовые цены с учетом расхода'!S31,IF('Базовые цены с учетом расхода'!S31<0,'Базовые цены с учетом расхода'!S31,\"\"))","v":""},null,null,null,null,null,"Plan_ZPM"]
[]
["18.","Е27-04-001-03\nУстройство подстилающих и выравнивающих слоев оснований из шлака доменного отвального сталеплавильного, фр. 20-40мм толщ. 8см, 100 м3 материала основания (в плотном теле)",0.73919999999999997,{"$f":"'Базовые цены за единицу'!B32","v":4617.09},{"$f":"'Базовые цены за единицу'!D32","v":4465.6400000000003},{"$f":"'Базовые цены с учетом расхода'!B32","v":3413},{"$f":"'Базовые цены с учетом расхода'!C32","v":90},{"$f":"'Базовые цены с учетом расхода'!D32","v":3301},12.77,{"$f":"'Базовые цены с учетом расхода'!I32","v":9.439584},"sum","IsZPR",null,{"$f":"'Базовые цены с учетом расхода'!F32","v":22}]
[null,null,null,{"$f":"'Базовые цены за единицу'!C32","v":121.95},{"$f":"'Базовые цены за единицу'!E32","v":478.22},null,null,{"$f":"'Базовые цены с учетом расхода'!E32","v":354},29.74,{"$f":"'Базовые цены с учетом расхода'!K32","v":21.983808},"sum_b","IsZPM"]
[null,{"$f":"IF(ROUND((924*0.08)/100,5)=C666,\"Объем: 924*0,08\",\"\")","v":"Объем: 924*0,08"}]
[null,"Зарплата рабочих",null,null,null,90]
[null,"Эксплуатация машин",null,null,null,3301]
[null,"в т.ч. зарплата машинистов",null,null,null,354]
[null,"Материалы",null,null,null,22]
[null,"в т.ч. Вспомогательные материалы от стоимости материалов"]
[null,"в т.ч. Вспомогательные ненормируемые материалы",null,null,null,null,null,null,null,null,"NenormMatOtZPR","IsMater"]
[null,"в т.ч. Ненормированная з.п. рабочих"]
[null,"в т.ч. Ненормированная стоимость эксплуатации машин"]
[null,"в т.ч. Ненормированная оплата механизаторов"]
[null,"Накладные расходы",142,null,null,{"$f":"IF('Базовые цены с учетом расхода'!N32>0,'Базовые цены с учетом расхода'!N32,IF('Базовые цены с учетом расхода'!N32<0,'Базовые цены с учетом расхода'!N32,\"\"))","v":630},null,null,null,null,null,"Nakl"]
[null,"НР от ЗПР",142,null,null,{"$f":"IF('Базовые цены с учетом расхода'!P32>0,'Базовые цены с учетом расхода'!P32,IF('Базовые цены с учетом расхода'!P32<0,'Базовые цены с учетом расхода'!P32,\"\"))","v":128},null,null,null,null,null,"Nakl_ZPR"]
[null,"НР от ЗПМ",142,null,null,{"$f":"IF('Базовые цены с учетом расхода'!Q32>0,'Базовые цены с учетом расхода'!Q32,IF('Базовые цены с учетом расхода'!Q32<0,'Базовые цены с учетом расхода'!Q32,\"\"))","v":502},null,null,null,null,null,"Nakl_ZPM"]
[null,"Сметная прибыль",81,null,null,{"$f":"IF('Базовые цены с учетом расхода'!O32>0,'Базовые цены с учетом расхода'!O32,IF('Базовые цены с учетом расхода'!O32<0,'Базовые цены с учетом расхода'!O32,\"\"))","v":360},null,null,null,null,null,"Plan"]
[null,"СП от ЗПР",81,null,null,{"$f":"IF('Базовые цены с учетом расхода'!R32>0,'Базовые цены с учетом расхода'!R32,IF('Базовые цены с учетом расхода'!R32<0,'Базовые цены с учетом расхода'!R32,\"\"))","v":73},null,null,null,null,null,"Plan_ZPR"]
[null,"СП от ЗПМ",81,null,null,{"$f":"IF('Базовые цены с учетом расхода'!S32>0,'Базовые цены с учетом расхода'!S32,IF('Базовые цены с учетом расхода'!S32<0,'Базовые цены с учетом расхода'!S32,\"\"))","v":286},null,null,null,null,null,"Plan_ZPM"]
[]
["19.","С Прайс \"СГМК\".\nЩебень из доменного шлака фр. 20-40 т.ч. прил. 27.2 (363,79*1,02*1,103), м3",93.14,{"$f":"'Базовые цены за единицу'!B33","v":64.760000000000005},{"$f":"'Базовые цены за единицу'!D33","v":0},{"$f":"'Базовые цены с учетом расхода'!B33","v":6032},{"$f":"'Базовые цены с учетом расхода'!C33","v":0},{"$f":"'Базовые цены с учетом расхода'!D33","v":0},null,{"$f":"'Базовые цены с учетом расхода'!I33","v":0},"sum","IsZPR",null,{"$f":"'Базовые цены с учетом расхода'!F33","v":6032}]
[null,null,null,{"$f":"'Базовые цены за единицу'!C33","v":0},{"$f":"'Базовые цены за единицу'!E33","v":0},null,null,{"$f":"'Базовые цены с учетом расхода'!E33","v":0},null,{"$f":"'Базовые цены с учетом расхода'!K33","v":0},"sum_b","IsZPM"]
[null,{"$f":"IF(ROUND((924*0.08*1.26)/1,2)=C685,\"Объем: 924*0,08*1,26\",\"\")","v":"Объем: 924*0,08*1,26"}]
[null,"   Поправки: М: =363.79*1.103*1.02/6.32"]
[null,"Зарплата рабочих"]
[null,"Эксплуатация машин"]
[null,"в т.ч. зарплата машинистов"]
[null,"Материалы",null,null,null,6032]
[null,"в т.ч. Вспомогательные материалы от стоимости материалов"]
[null,"в т.ч. Вспомогательные ненормируемые материалы",null,null,null,null,null,null,null,null,"NenormMatOtZPR","IsMater"]
[null,"в т.ч. Ненормированная з.п. рабочих"]
[null,"в т.ч. Ненормированная стоимость эксплуатации машин"]
[null,"в т.ч. Ненормированная оплата механизаторов"]
[null,"Накладные расходы",null,null,null,{"$f":"IF('Базовые цены с учетом расхода'!N33>0,'Базовые цены с учетом расхода'!N33,IF('Базовые цены с учетом расхода'!N33<0,'Базовые цены с учетом расхода'!N33,\"\"))","v":""},null,null,null,null,null,"Nakl"]
[null,"НР от ЗПР",null,null,null,{"$f":"IF('Базовые цены с учетом расхода'!P33>0,'Базовые цены с учетом расхода'!P33,IF('Базовые цены с учетом расхода'!P33<0,'Базовые цены с учетом расхода'!P33,\"\"))","v":""},null,null,null,null,null,"Nakl_ZPR"]
[null,"НР от ЗПМ",null,null,null,{"$f":"IF('Базовые цены с учетом расхода'!Q33>0,'Базовые цены с учетом расхода'!Q33,IF('Базовые цены с учетом расхода'!Q33<0,'Базовые цены с учетом расхода'!Q33,\"\"))","v":""},null,null,null,null,null,"Nakl_ZPM"]
[null,"Сметная прибыль",null,null,null,{"$f":"IF('Базовые цены с учетом расхода'!O33>0,'Базовые цены с учетом расхода'!O33,IF('Базовые цены с учетом расхода'!O33<0,'Базовые цены с учетом расхода'!O33,\"\"))","v":""},null,null,null,null,null,"Plan"]
[null,"СП от ЗПР",null,null,null,{"$f":"IF('Базовые цены с учетом расхода'!R33>0,'Базовые цены с учетом расхода'!R33,IF('Базовые цены с учетом расхода'!R33<0,'Базовые цены с учетом расхода'!R33,\"\"))","v":""},null,null,null,null,null,"Plan_ZPR"]
[null,"СП от ЗПМ",null,null,null,{"$f":"IF('Базовые цены с учетом расхода'!S33>0,'Базовые цены с учетом расхода'!S33,IF('Базовые цены с учетом расхода'!S33<0,'Базовые цены с учетом расхода'!S33,\"\"))","v":""},null,null,null,null,null,"Plan_ZPM"]
[]
["20.","Е27-06-020-06\nУстройство покрытия толщиной 4 см из горячих асфальтобетонных смесей пористых крупнозернистых, плотность каменных материалов 2,5-2,9 т/м3, 1000 м2 покрытия",0.92400000000000004,{"$f":"'Базовые цены за единицу'!B34","v":3259.67},{"$f":"'Базовые цены за единицу'!D34","v":2761.87},{"$f":"'Базовые цены с учетом расхода'!B34","v":3012},{"$f":"'Базовые цены с учетом расхода'!C34","v":409},{"$f":"'Базовые цены с учетом расхода'!D34","v":2552},38.299999999999997,{"$f":"'Базовые цены с учетом расхода'!I34","v":35.389200000000002},"sum","IsZPR",null,{"$f":"'Базовые цены с учетом расхода'!F34","v":51}]
[null,null,null,{"$f":"'Базовые цены за единицу'!C34","v":442.75},{"$f":"'Базовые цены за единицу'!E34","v":314.89999999999998},null,null,{"$f":"'Базовые цены с учетом расхода'!E34","v":291},19.05,{"$f":"'Базовые цены с учетом расхода'!K34","v":17.6022},"sum_b","IsZPM"]
[null,"Зарплата рабочих",null,null,null,409]
[null,"Эксплуатация машин",null,null,null,2552]
[null,"в т.ч. зарплата машинистов",null,null,null,291]
[null,"Материалы",null,null,null,51]
[null,"в т.ч. Вспомогательные материалы от стоимости материалов"]
[null,"в т.ч. Вспомогательные ненормируемые материалы",null,null,null,null,null,null,null,null,"NenormMatOtZPR","IsMater"]
[null,"в т.ч. Ненормированная з.п. рабочих"]
[null,"в т.ч. Ненормированная стоимость эксплуатации машин"]
[null,"в т.ч. Ненормированная оплата механизаторов"]
[null,"Накладные расходы",142,null,null,{"$f":"IF('Базовые цены с учетом расхода'!N34>0,'Базовые цены с учетом расхода'!N34,IF('Базовые цены с учетом расхода'!N34<0,'Базовые цены с учетом расхода'!N34,\"\"))","v":994},null,null,null,null,null,"Nakl"]
[null,"НР от ЗПР",142,null,null,{"$f":"IF('Базовые цены с учетом расхода'!P34>0,'Базовые цены с учетом расхода'!P34,IF('Базовые цены с учетом расхода'!P34<0,'Базовые цены с учетом расхода'!P34,\"\"))","v":581},null,null,null,null,null,"Nakl_ZPR"]
[null,"НР от ЗПМ",142,null,null,{"$f":"IF('Базовые цены с учетом расхода'!Q34>0,'Базовые цены с учетом расхода'!Q34,IF('Базовые цены с учетом расхода'!Q34<0,'Базовые цены с учетом расхода'!Q34,\"\"))","v":413},null,null,null,null,null,"Nakl_ZPM"]
[null,"Сметная прибыль",81,null,null,{"$f":"IF('Базовые цены с учетом расхода'!O34>0,'Базовые цены с учетом расхода'!O34,IF('Базовые цены с учетом расхода'!O34<0,'Базовые цены с учетом расхода'!O34,\"\"))","v":567},null,null,null,null,null,"Plan"]
[null,"СП от ЗПР",81,null,null,{"$f":"IF('Базовые цены с учетом расхода'!R34>0,'Базовые цены с учетом расхода'!R34,IF('Базовые цены с учетом расхода'!R34<0,'Базовые цены с учетом расхода'!R34,\"\"))","v":331},null,null,null,null,null,"Plan_ZPR"]
[null,"СП от ЗПМ",81,null,null,{"$f":"IF('Базовые цены с учетом расхода'!S34>0,'Базовые цены с учетом расхода'!S34,IF('Базовые цены с учетом расхода'!S34<0,'Базовые цены с учетом расхода'!S34,\"\"))","v":236},null,null,null,null,null,"Plan_ZPM"]
[]
["21.","С410-0022\nАсфальтобетонные смеси дорожные, аэродромные и асфальтобетон (горячие и теплые для пористого асфальтобетона щебеночные и гравийные), марка II, т",85.47,{"$f":"'Базовые цены за единицу'!B35","v":518.6},{"$f":"'Базовые цены за единицу'!D35","v":0},{"$f":"'Базовые цены с учетом расхода'!B35","v":44325},{"$f":"'Базовые цены с учетом расхода'!C35","v":0},{"$f":"'Базовые цены с учетом расхода'!D35","v":0},null,{"$f":"'Базовые цены с учетом расхода'!I35","v":0},"sum","IsZPR",null,{"$f":"'Базовые цены с учетом расхода'!F35","v":44325}]
[null,null,null,{"$f":"'Базовые цены за единицу'!C35","v":0},{"$f":"'Базовые цены за единицу'!E35","v":0},null,null,{"$f":"'Базовые цены с учетом расхода'!E35","v":0},null,{"$f":"'Базовые цены с учетом расхода'!K35","v":0},"sum_b","IsZPM"]
[null,{"$f":"IF(ROUND((92.5*0.924)/1,2)=C723,\"Объем: 92,5*0,924\",\"\")","v":"Объем: 92,5*0,924"}]
[null,"Зарплата рабочих"]
[null,"Эксплуатация машин"]
[null,"в т.ч. зарплата машинистов"]
[null,"Материалы",null,null,null,44325]
[null,"в т.ч. Вспомогательные материалы от стоимости материалов"]
[null,"в т.ч. Вспомогательные ненормируемые материалы",null,null,null,null,null,null,null,null,"NenormMatOtZPR","IsMater"]
[null,"в т.ч. Ненормированная з.п. рабочих"]
[null,"в т.ч. Ненормированная стоимость эксплуатации машин"]
[null,"в т.ч. Ненормированная оплата механизаторов"]
[null,"Накладные расходы",null,null,null,{"$f":"IF('Базовые цены с учетом расхода'!N35>0,'Базовые цены с учетом расхода'!N35,IF('Базовые цены с учетом расхода'!N35<0,'Базовые цены с учетом расхода'!N35,\"\"))","v":""},null,null,null,null,null,"Nakl"]
[null,"НР от ЗПР",null,null,null,{"$f":"IF('Базовые цены с учетом расхода'!P35>0,'Базовые цены с учетом расхода'!P35,IF('Базовые цены с учетом расхода'!P35<0,'Базовые цены с учетом расхода'!P35,\"\"))","v":""},null,null,null,null,null,"Nakl_ZPR"]
[null,"НР от ЗПМ",null,null,null,{"$f":"IF('Базовые цены с учетом расхода'!Q35>0,'Базовые цены с учетом расхода'!Q35,IF('Базовые цены с учетом расхода'!Q35<0,'Базовые цены с учетом расхода'!Q35,\"\"))","v":""},null,null,null,null,null,"Nakl_ZPM"]
[null,"Сметная прибыль",null,null,null,{"$f":"IF('Базовые цены с учетом расхода'!O35>0,'Базовые цены с учетом расхода'!O35,IF('Базовые цены с учетом расхода'!O35<0,'Базовые цены с учетом расхода'!O35,\"\"))","v":""},null,null,null,null,null,"Plan"]
[null,"СП от ЗПР",null,null,null,{"$f":"IF('Базовые цены с учетом расхода'!R35>0,'Базовые цены с учетом расхода'!R35,IF('Базовые цены с учетом расхода'!R35<0,'Базовые цены с учетом расхода'!R35,\"\"))","v":""},null,null,null,null,null,"Plan_ZPR"]
[null,"СП от ЗПМ",null,null,null,{"$f":"IF('Базовые цены с учетом расхода'!S35>0,'Базовые цены с учетом расхода'!S35,IF('Базовые цены с учетом расхода'!S35<0,'Базовые цены с учетом расхода'!S35,\"\"))","v":""},null,null,null,null,null,"Plan_ZPM"]
[]
["22.","Е27-06-020-01\nУстройство покрытия толщиной 4 см из горячих асфальтобетонных смесей плотных мелкозернистых типа АБВ, плотность каменных материалов 2,5-2,9 т/м3, 1000 м2 покрытия",0.92400000000000004,{"$f":"'Базовые цены за единицу'!B36","v":3437.9},{"$f":"'Базовые цены за единицу'!D36","v":2769.94},{"$f":"'Базовые цены с учетом расхода'!B36","v":3176},{"$f":"'Базовые цены с учетом расхода'!C36","v":409},{"$f":"'Базовые цены с учетом расхода'!D36","v":2559},38.299999999999997,{"$f":"'Базовые цены с учетом расхода'!I36","v":35.389200000000002},"sum","IsZPR",null,{"$f":"'Базовые цены с учетом расхода'!F36","v":208}]
[null,null,null,{"$f":"'Базовые цены за единицу'!C36","v":442.75},{"$f":"'Базовые цены за единицу'!E36","v":315.39},null,null,{"$f":"'Базовые цены с учетом расхода'!E36","v":291},19.079999999999998,{"$f":"'Базовые цены с учетом расхода'!K36","v":17.629919999999998},"sum_b","IsZPM"]
[null,"Зарплата рабочих",null,null,null,409]
[null,"Эксплуатация машин",null,null,null,2559]
[null,"в т.ч. зарплата машинистов",null,null,null,291]
[null,"Материалы",null,null,null,208]
[null,"в т.ч. Вспомогательные материалы от стоимости материалов"]
[null,"в т.ч. Вспомогательные ненормируемые материалы",null,null,null,null,null,null,null,null,"NenormMatOtZPR","IsMater"]
[null,"в т.ч. Ненормированная з.п. рабочих"]
[null,"в т.ч. Ненормированная стоимость эксплуатации машин"]
[null,"в т.ч. Ненормированная оплата механизаторов"]
[null,"Накладные расходы",142,null,null,{"$f":"IF('Базовые цены с учетом расхода'!N36>0,'Базовые цены с учетом расхода'!N36,IF('Базовые цены с учетом расхода'!N36<0,'Базовые цены с учетом расхода'!N36,\"\"))","v":994},null,null,null,null,null,"Nakl"]
[null,"НР от ЗПР",142,null,null,{"$f":"IF('Базовые цены с учетом расхода'!P36>0,'Базовые цены с учетом расхода'!P36,IF('Базовые цены с учетом расхода'!P36<0,'Базовые цены с учетом расхода'!P36,\"\"))","v":581},null,null,null,null,null,"Nakl_ZPR"]
[null,"НР от ЗПМ",142,null,null,{"$f":"IF('Базовые цены с учетом расхода'!Q36>0,'Базовые цены с учетом расхода'!Q36,IF('Базовые цены с учетом расхода'!Q36<0,'Базовые цены с учетом расхода'!Q36,\"\"))","v":414},null,null,null,null,null,"Nakl_ZPM"]
[null,"Сметная прибыль",81,null,null,{"$f":"IF('Базовые цены с учетом расхода'!O36>0,'Базовые цены с учетом расхода'!O36,IF('Базовые цены с учетом расхода'!O36<0,'Базовые цены с учетом расхода'!O36,\"\"))","v":567},null,null,null,null,null,"Plan"]
[null,"СП от ЗПР",81,null,null,{"$f":"IF('Базовые цены с учетом расхода'!R36>0,'Базовые цены с учетом расхода'!R36,IF('Базовые цены с учетом расхода'!R36<0,'Базовые цены с учетом расхода'!R36,\"\"))","v":331},null,null,null,null,null,"Plan_ZPR"]
[null,"СП от ЗПМ",81,null,null,{"$f":"IF('Базовые цены с учетом расхода'!S36>0,'Базовые цены с учетом расхода'!S36,IF('Базовые цены с учетом расхода'!S36<0,'Базовые цены с учетом расхода'!S36,\"\"))","v":236},null,null,null,null,null,"Plan_ZPM"]
[]
["23.","Е27-06-021-01\nПри изменении толщины покрытия на 0,5 см  исключать до толщ 3см: из расценке 27-06-020-1 к=-2, 1000 м2 покрытия",-1.8480000000000001,{"$f":"'Базовые цены за единицу'!B37","v":7.39},{"$f":"'Базовые цены за единицу'!D37","v":3.72},{"$f":"'Базовые цены с учетом расхода'!B37","v":-14},{"$f":"'Базовые цены с учетом расхода'!C37","v":-2},{"$f":"'Базовые цены с учетом расхода'!D37","v":-7},0.09,{"$f":"'Базовые цены с учетом расхода'!I37","v":-0.16632},"sum","IsZPR",null,{"$f":"'Базовые цены с учетом расхода'!F37","v":-5}]
[null,null,null,{"$f":"'Базовые цены за единицу'!C37","v":1.04},{"$f":"'Базовые цены за единицу'!E37","v":0},null,null,{"$f":"'Базовые цены с учетом расхода'!E37","v":0},null,{"$f":"'Базовые цены с учетом расхода'!K37","v":0},"sum_b","IsZPM"]
[null,{"$f":"IF(ROUND((-2*924)/1000,5)=C760,\"Объем: -2*924\",\"\")","v":"Объем: -2*924"}]
[null,"Зарплата рабочих",null,null,null,-2]
[null,"Эксплуатация машин",null,null,null,-7]
[null,"в т.ч. зарплата машинистов"]
[null,"Материалы",null,null,null,-5]
[null,"в т.ч. Вспомогательные материалы от стоимости материалов"]
[null,"в т.ч. Вспомогательные ненормируемые материалы",null,null,null,null,null,null,null,null,"NenormMatOtZPR","IsMater"]
[null,"в т.ч. Ненормированная з.п. рабочих"]
[null,"в т.ч. Ненормированная стоимость эксплуатации машин"]
[null,"в т.ч. Ненормированная оплата механизаторов"]
[null,"Накладные расходы",142,null,null,{"$f":"IF('Базовые цены с учетом расхода'!N37>0,'Базовые цены с учетом расхода'!N37,IF('Базовые цены с учетом расхода'!N37<0,'Базовые цены с учетом расхода'!N37,\"\"))","v":-3},null,null,null,null,null,"Nakl"]
[null,"НР от ЗПР",142,null,null,{"$f":"IF('Базовые цены с учетом расхода'!P37>0,'Базовые цены с учетом расхода'!P37,IF('Базовые цены с учетом расхода'!P37<0,'Базовые цены с учетом расхода'!P37,\"\"))","v":-3},null,null,null,null,null,"Nakl_ZPR"]
[null,"НР от ЗПМ",null,null,null,{"$f":"IF('Базовые цены с учетом расхода'!Q37>0,'Базовые цены с учетом расхода'!Q37,IF('Базовые цены с учетом расхода'!Q37<0,'Базовые цены с учетом расхода'!Q37,\"\"))","v":""},null,null,null,null,null,"Nakl_ZPM"]
[null,"Сметная прибыль",81,null,null,{"$f":"IF('Базовые цены с учетом расхода'!O37>0,'Базовые цены с учетом расхода'!O37,IF('Базовые цены с учетом расхода'!O37<0,'Базовые цены с учетом расхода'!O37,\"\"))","v":-2},null,null,null,null,null,"Plan"]
[null,"СП от ЗПР",81,null,null,{"$f":"IF('Базовые цены с учетом расхода'!R37>0,'Базовые цены с учетом расхода'!R37,IF('Базовые цены с учетом расхода'!R37<0,'Базовые цены с учетом расхода'!R37,\"\"))","v":-2},null,null,null,null,null,"Plan_ZPR"]
[null,"СП от ЗПМ",null,null,null,{"$f":"IF('Базовые цены с учетом расхода'!S37>0,'Базовые цены с учетом расхода'!S37,IF('Базовые цены с учетом расхода'!S37<0,'Базовые цены с учетом расхода'!S37,\"\"))","v":""},null,null,null,null,null,"Plan_ZPM"]
[]
["24.","С410-0006\nАсфальтобетонные смеси дорожные, аэродромные и асфальтобетон (горячие и теплые для плотного асфальтобетона мелко и крупнозернистые, песчаные), марка II, тип Б, т",66.900000000000006,{"$f":"'Базовые цены за единицу'!B38","v":570.70000000000005},{"$f":"'Базовые цены за единицу'!D38","v":0},{"$f":"'Базовые цены с учетом расхода'!B38","v":38180},{"$f":"'Базовые цены с учетом расхода'!C38","v":0},{"$f":"'Базовые цены с учетом расхода'!D38","v":0},null,{"$f":"'Базовые цены с учетом расхода'!I38","v":0},"sum","IsZPR",null,{"$f":"'Базовые цены с учетом расхода'!F38","v":38180}]
[null,null,null,{"$f":"'Базовые цены за единицу'!C38","v":0},{"$f":"'Базовые цены за единицу'!E38","v":0},null,null,{"$f":"'Базовые цены с учетом расхода'!E38","v":0},null,{"$f":"'Базовые цены с учетом расхода'!K38","v":0},"sum_b","IsZPM"]
[null,{"$f":"IF(ROUND(((96.6-2*12.1)*0.924)/1,2)=C779,\"Объем: (96,6-2*12,1)*0,924\",\"\")","v":"Объем: (96,6-2*12,1)*0,924"}]
[null,"Зарплата рабочих"]
[null,"Эксплуатация машин"]
[null,"в т.ч. зарплата машинистов"]
[null,"Материалы",null,null,null,38180]
[null,"в т.ч. Вспомогательные материалы от стоимости материалов"]
[null,"в т.ч. Вспомогательные ненормируемые материалы",null,null,null,null,null,null,null,null,"NenormMatOtZPR","IsMater"]
[null,"в т.ч. Ненормированная з.п. рабочих"]
[null,"в т.ч. Ненормированная стоимость эксплуатации машин"]
[null,"в т.ч. Ненормированная оплата механизаторов"]
[null,"Накладные расходы",null,null,null,{"$f":"IF('Базовые цены с учетом расхода'!N38>0,'Базовые цены с учетом расхода'!N38,IF('Базовые цены с учетом расхода'!N38<0,'Базовые цены с учетом расхода'!N38,\"\"))","v":""},null,null,null,null,null,"Nakl"]
[null,"НР от ЗПР",null,null,null,{"$f":"IF('Базовые цены с учетом расхода'!P38>0,'Базовые цены с учетом расхода'!P38,IF('Базовые цены с учетом расхода'!P38<0,'Базовые цены с учетом расхода'!P38,\"\"))","v":""},null,null,null,null,null,"Nakl_ZPR"]
[null,"НР от ЗПМ",null,null,null,{"$f":"IF('Базовые цены с учетом расхода'!Q38>0,'Базовые цены с учетом расхода'!Q38,IF('Базовые цены с учетом расхода'!Q38<0,'Базовые цены с учетом расхода'!Q38,\"\"))","v":""},null,null,null,null,null,"Nakl_ZPM"]
[null,"Сметная прибыль",null,null,null,{"$f":"IF('Базовые цены с учетом расхода'!O38>0,'Базовые цены с учетом расхода'!O38,IF('Базовые цены с учетом расхода'!O38<0,'Базовые цены с учетом расхода'!O38,\"\"))","v":""},null,null,null,null,null,"Plan"]
[null,"СП от ЗПР",null,null,null,{"$f":"IF('Базовые цены с учетом расхода'!R38>0,'Базовые цены с учетом расхода'!R38,IF('Базовые цены с учетом расхода'!R38<0,'Базовые цены с учетом расхода'!R38,\"\"))","v":""},null,null,null,null,null,"Plan_ZPR"]
[null,"СП от ЗПМ",null,null,null,{"$f":"IF('Базовые цены с учетом расхода'!S38>0,'Базовые цены с учетом расхода'!S38,IF('Базовые цены с учетом расхода'!S38<0,'Базовые цены с учетом расхода'!S38,\"\"))","v":""},null,null,null,null,null,"Plan_ZPM"]
[]
[null,".    ИТОГО  ПО  РАЗДЕЛУ 3",null,null,null,{"$f":"'Базовые концовки'!F326","v":133220},{"$f":"'Базовые концовки'!G326","v":2394},{"$f":"'Базовые концовки'!H326","v":27189},null,{"$f":"'Базовые концовки'!J326","v":238.404504},null,null,null,{"$f":"'Базовые концовки'!L326","v":100465},null,null,null,{"$f":"'Базовые концовки'!M326","v":0}]
[null,null,null,null,null,null,null,{"$f":"'Базовые концовки'!I326","v":2319},null,{"$f":"'Базовые концовки'!K326","v":156.883836}]
[null,"СТОИМОСТЬ ОБОРУДОВАНИЯ -",null,null,null,{"$f":"'Базовые концовки'!F327","v":0},{"$f":"'Базовые концовки'!G327","v":0},{"$f":"'Базовые концовки'!H327","v":0},null,{"$f":"'Базовые концовки'!J327","v":0},null,null,null,{"$f":"'Базовые концовки'!L327","v":0},null,null,null,{"$f":"'Базовые концовки'!M327","v":0}]
[null,".   ЗАПАСНЫЕ ЧАСТИ -",null,null,null,{"$f":"'Базовые концовки'!F328","v":0}]
[null,".   ТАРА И УПАКОВКА -",null,null,null,{"$f":"'Базовые концовки'!F329","v":0}]
[null,".   ТРАНСПОРТНЫЕ РАСХОДЫ -",null,null,null,{"$f":"'Базовые концовки'!F330","v":0}]
[null,".   КОМПЛЕКТАЦИЯ -",null,null,null,{"$f":"'Базовые концовки'!F331","v":0}]
[null,".   НАЦЕНКА СНАБА -",null,null,null,{"$f":"'Базовые концовки'!F332","v":0}]
[null,".   ЗАГОТОВИТЕЛЬНО-СКЛАДСКИЕ РАСХОДЫ -",null,null,null,{"$f":"'Базовые концовки'!F333","v":0}]
[null,". ШЕФМОНТАЖ ПО ОБОРУДОВАНИЮ -",null,null,null,{"$f":"'Базовые концовки'!F334","v":0}]
[null,". ШЕФМОНТАЖ -",null,null,null,{"$f":"'Базовые концовки'!F335","v":0}]
[null,"ВСЕГО, СТОИМОСТЬ ОБОРУДОВАНИЯ -",null,null,null,{"$f":"'Базовые концовки'!F336","v":0}]
[null,"Оборудование ТЦ",null,null,null,{"$f":"'Базовые концовки'!F337","v":0}]
[null,"СТОИМОСТЬ МОНТАЖНЫХ РАБОТ -",null,null,null,{"$f":"'Базовые концовки'!F338","v":0},{"$f":"'Базовые концовки'!G338","v":0},{"$f":"'Базовые концовки'!H338","v":0},null,{"$f":"'Базовые концовки'!J338","v":0},null,null,null,{"$f":"'Базовые концовки'!L338","v":0},null,null,null,{"$f":"'Базовые концовки'!M338","v":0}]
[null,".     В ТОМ ЧИСЛЕ:"]
[null,". ОТКЛОНЕНИЕ ПО ЗАРАБОТНОЙ ПЛАТЕ -",null,null,null,null,{"$f":"'Базовые концовки'!G340","v":0}]
[null,". КОСВЕННЫЕ РАСХОДЫ -",null,null,null,{"$f":"'Базовые концовки'!F341","v":0}]
[null,". МАТЕРИАЛЬНЫЕ РЕСУРСЫ НЕ УЧТЕННЫЕ В РАСЦЕНКАХ -",null,null,null,{"$f":"'Базовые концовки'!F342","v":0}]
[null,".   СТОИМОСТЬ ВОЗВРАЩАЕМЫХ МАТЕРИАЛОВ -",null,null,null,{"$f":"'Базовые концовки'!F343","v":0}]
[null,".   НАКЛАДНЫЕ РАСХОДЫ -",null,null,null,{"$f":"'Базовые концовки'!F344","v":0}]
[null,".   СМЕТНАЯ ПРИБЫЛЬ -",null,null,null,{"$f":"'Базовые концовки'!F345","v":0}]
[null,". ШЕФМОНТАЖ -",null,null,null,{"$f":"'Базовые концовки'!F346","v":0}]
[null,"ВСЕГО, СТОИМОСТЬ МОНТАЖНЫХ РАБОТ -",null,null,null,{"$f":"'Базовые концовки'!F347","v":0}]
[null,"Монтажные работы БЦ ЭМ",null,null,null,{"$f":"'Базовые концовки'!F348","v":0}]
[null,"Монтажные работы БЦ ЗПМ",null,null,null,{"$f":"'Базовые концовки'!F349","v":0}]
[null,"Монтажные работы ТЦ ЗП",null,null,null,{"$f":"'Базовые концовки'!F350","v":0}]
[null,"Монтажные работы ТЦ ЗПМ",null,null,null,{"$f":"'Базовые концовки'!F351","v":0}]
[null,"Монтажные работы ТЦ ЭМ",null,null,null,{"$f":"'Базовые концовки'!F352","v":0}]
[null,"Монтажные работы ТЦ материалы",null,null,null,{"$f":"'Базовые концовки'!F353","v":0}]
[null,"Монтажные работы ТЦ НР",null,null,null,{"$f":"'Базовые концовки'!F354","v":0}]
[null,"Монтажные работы ТЦ СП",null,null,null,{"$f":"'Базовые концовки'!F355","v":0}]
[null,"Монтажные работы ТЦ всего",null,null,null,{"$f":"'Базовые концовки'!F356","v":0}]
[null,"СТОИМОСТЬ ОБЩЕСТРОИТЕЛЬНЫХ РАБОТ -",null,null,null,{"$f":"'Базовые концовки'!F357","v":116562},{"$f":"'Базовые концовки'!G357","v":1079},{"$f":"'Базовые концовки'!H357","v":15018},null,{"$f":"'Базовые концовки'!J357","v":98.210604000000004},null,null,null,{"$f":"'Базовые концовки'!L357","v":100465},null,null,null,{"$f":"'Базовые концовки'!M357","v":0}]
[null,null,null,null,null,null,null,{"$f":"'Базовые концовки'!I357","v":1650},null,{"$f":"'Базовые концовки'!K357","v":101.582436}]
[null,".     В ТОМ ЧИСЛЕ:"]
[null,".       МАТЕРИАЛОВ -",null,null,null,{"$f":"'Базовые концовки'!F359","v":82505}]
[null,".   СТОИМОСТЬ ВОЗВРАЩАЕМЫХ МАТЕРИАЛОВ -",null,null,null,{"$f":"'Базовые концовки'!F360","v":0}]
[null,".   НАКЛАДНЫЕ РАСХОДЫ - (%=95 - по стр. 12; %=142 - по стр. 15, 18, 20, 22, 23)",null,null,null,{"$f":"'Базовые концовки'!F361","v":3858}]
[null,".   СМЕТНАЯ ПРИБЫЛЬ - (%=43 - по стр. 12; %=81 - по стр. 15, 18, 20, 22, 23)",null,null,null,{"$f":"'Базовые концовки'!F362","v":2198}]
[null,"ВСЕГО, СТОИМОСТЬ ОБЩЕСТРОИТЕЛЬНЫХ РАБОТ -",null,null,null,{"$f":"'Базовые концовки'!F363","v":122618}]
[null,"СТОИМОСТЬ МЕТАЛЛОМОНТАЖНЫХ РАБОТ -",null,null,null,{"$f":"'Базовые концовки'!F364","v":0},{"$f":"'Базовые концовки'!G364","v":0},{"$f":"'Базовые концовки'!H364","v":0},null,{"$f":"'Базовые концовки'!J364","v":0},null,null,null,{"$f":"'Базовые концовки'!L364","v":0},null,null,null,{"$f":"'Базовые концовки'!M364","v":0}]
[null,".   СТОИМОСТЬ ВОЗВРАЩАЕМЫХ МАТЕРИАЛОВ -",null,null,null,{"$f":"'Базовые концовки'!F365","v":0}]
[null,".   НАКЛАДНЫЕ РАСХОДЫ -",null,null,null,{"$f":"'Базовые концовки'!F366","v":0}]
[null,".   СМЕТНАЯ ПРИБЫЛЬ -",null,null,null,{"$f":"'Базовые концовки'!F367","v":0}]
[null,"ВСЕГО, СТОИМОСТЬ МЕТАЛЛОМОНТАЖНЫХ РАБОТ -",null,null,null,{"$f":"'Базовые концовки'!F368","v":0}]
[null,"СТОИМОСТЬ САНТЕХНИЧЕСКИХ РАБОТ -",null,null,null,{"$f":"'Базовые концовки'!F369","v":0},{"$f":"'Базовые концовки'!G369","v":0},{"$f":"'Базовые концовки'!H369","v":0},null,{"$f":"'Базовые концовки'!J369","v":0},null,null,null,{"$f":"'Базовые концовки'!L369","v":0},null,null,null,{"$f":"'Базовые концовки'!M369","v":0}]
[null,".     В ТОМ ЧИСЛЕ:"]
[null,". СДАЧА И ИСПЫТАНИЕ -",null,null,null,{"$f":"'Базовые концовки'!F371","v":0},{"$f":"'Базовые концовки'!G371","v":0},{"$f":"'Базовые концовки'!H371","v":0},null,{"$f":"'Базовые концовки'!J371","v":0},null,null,null,{"$f":"'Базовые концовки'!L371","v":0},null,null,null,{"$f":"'Базовые концовки'!M371","v":0}]
[null,".   СТОИМОСТЬ ВОЗВРАЩАЕМЫХ МАТЕРИАЛОВ -",null,null,null,{"$f":"'Базовые концовки'!F372","v":0}]
[null,".   НАКЛАДНЫЕ РАСХОДЫ -",null,null,null,{"$f":"'Базовые концовки'!F373","v":0}]
[null,".   СМЕТНАЯ ПРИБЫЛЬ -",null,null,null,{"$f":"'Базовые концовки'!F374","v":0}]
[null,". ШЕФМОНТАЖ -",null,null,null,{"$f":"'Базовые концовки'!F375","v":0}]
[null,"ВСЕГО, СТОИМОСТЬ САНТЕХНИЧЕСКИХ РАБОТ -",null,null,null,{"$f":"'Базовые концовки'!F376","v":0}]
[null,"СТОИМОСТЬ БУРО-ВЗРЫВНЫХ РАБОТ -",null,null,null,{"$f":"'Базовые концовки'!F377","v":0},{"$f":"'Базовые концовки'!G377","v":0},{"$f":"'Базовые концовки'!H377","v":0},null,{"$f":"'Базовые концовки'!J377","v":0},null,null,null,{"$f":"'Базовые концовки'!L377","v":0},null,null,null,{"$f":"'Базовые концовки'!M377","v":0}]
[null,".   СТОИМОСТЬ ВОЗВРАЩАЕМЫХ МАТЕРИАЛОВ -",null,null,null,{"$f":"'Базовые концовки'!F378","v":0}]
[null,".   НАКЛАДНЫЕ РАСХОДЫ -",null,null,null,{"$f":"'Базовые концовки'!F379","v":0}]
[null,".   СМЕТНАЯ ПРИБЫЛЬ -",null,null,null,{"$f":"'Базовые концовки'!F380","v":0}]
[null,"ВСЕГО, СТОИМОСТЬ БУРО-ВЗРЫВНЫХ РАБОТ -",null,null,null,{"$f":"'Базовые концовки'!F381","v":0}]
[null,"СТОИМОСТЬ ГОРНОПРОХОДЧЕСКИХ РАБОТ -",null,null,null,{"$f":"'Базовые концовки'!F382","v":0},{"$f":"'Базовые концовки'!G382","v":0},{"$f":"'Базовые концовки'!H382","v":0},null,{"$f":"'Базовые концовки'!J382","v":0},null,null,null,{"$f":"'Базовые концовки'!L382","v":0},null,null,null,{"$f":"'Базовые концовки'!M382","v":0}]
[null,".   СТОИМОСТЬ ВОЗВРАЩАЕМЫХ МАТЕРИАЛОВ -",null,null,null,{"$f":"'Базовые концовки'!F383","v":0}]
[null,".   НАКЛАДНЫЕ РАСХОДЫ -",null,null,null,{"$f":"'Базовые концовки'!F384","v":0}]
[null,".   СМЕТНАЯ ПРИБЫЛЬ -",null,null,null,{"$f":"'Базовые концовки'!F385","v":0}]
[null,"ВСЕГО, СТОИМОСТЬ ГОРНОПРОХОДЧЕСКИХ РАБОТ -",null,null,null,{"$f":"'Базовые концовки'!F386","v":0}]
[null,"СТОИМОСТЬ РЕСТАВРАЦИОННЫХ РАБОТ -",null,null,null,{"$f":"'Базовые концовки'!F387","v":0},{"$f":"'Базовые концовки'!G387","v":0},{"$f":"'Базовые концовки'!H387","v":0},null,{"$f":"'Базовые концовки'!J387","v":0},null,null,null,{"$f":"'Базовые концовки'!L387","v":0},null,null,null,{"$f":"'Базовые концовки'!M387","v":0}]
[null,".     В ТОМ ЧИСЛЕ:"]
[null,". МАТЕРИАЛЫ -",null,null,null,{"$f":"'Базовые концовки'!F389","v":82505}]
[null,".   СТОИМОСТЬ ВОЗВРАЩАЕМЫХ МАТЕРИАЛОВ -",null,null,null,{"$f":"'Базовые концовки'!F390","v":0}]
[null,".   НАКЛАДНЫЕ РАСХОДЫ -",null,null,null,{"$f":"'Базовые концовки'!F391","v":0}]
[null,".   СМЕТНАЯ ПРИБЫЛЬ -",null,null,null,{"$f":"'Базовые концовки'!F392","v":0}]
[null,"ВСЕГО, СТОИМОСТЬ РЕСТАВРАЦИОННЫХ РАБОТ -",null,null,null,{"$f":"'Базовые концовки'!F393","v":0}]
[null,"Строительные работы БЦ ЭМ",null,null,null,{"$f":"'Базовые концовки'!F394","v":15018}]
[null,"Строительные работы БЦ ЗПМ",null,null,null,{"$f":"'Базовые концовки'!F395","v":1650}]
[null,"Строительные работы ТЦ ЗП",21.324000000000002,null,null,{"$f":"'Базовые концовки'!F396","v":23009}]
[null,"Строительные работы ТЦ ЗПМ",21.324000000000002,null,null,{"$f":"'Базовые концовки'!F397","v":35185}]
[null,"Строительные работы ТЦ ЭМ",6.1520000000000001,null,null,{"$f":"'Базовые концовки'!F398","v":92391}]
[null,"Строительные работы ТЦ материалы",6.32,null,null,{"$f":"'Базовые концовки'!F399","v":634939}]
[null,"Строительные работы ТЦ НР",21.324000000000002,null,null,{"$f":"'Базовые концовки'!F400","v":82268}]
[null,"Строительные работы ТЦ СП",21.324000000000002,null,null,{"$f":"'Базовые концовки'!F401","v":46870}]
[null,"Строительные работы ТЦ всего",null,null,null,{"$f":"'Базовые концовки'!F402","v":879477}]
[null,"СТОИМОСТЬ ПЕРЕВОЗКИ ГРУЗОВ -",null,null,null,{"$f":"'Базовые концовки'!F403","v":16658},{"$f":"'Базовые концовки'!G403","v":1315},{"$f":"'Базовые концовки'!H403","v":12171},null,{"$f":"'Базовые концовки'!J403","v":140.19390000000001},null,null,null,{"$f":"'Базовые концовки'!L403","v":0},null,null,null,{"$f":"'Базовые концовки'!M403","v":0}]
[null,null,null,null,null,null,null,{"$f":"'Базовые концовки'!I403","v":669},null,{"$f":"'Базовые концовки'!K403","v":55.301400000000001}]
[null,"СТОИМОСТЬ ПОГРУЗКИ-РАЗГРУЗКИ",null,null,null,{"$f":"'Базовые концовки'!F404","v":9207},{"$f":"'Базовые концовки'!G404","v":1315},{"$f":"'Базовые концовки'!H404","v":4720},null,{"$f":"'Базовые концовки'!J404","v":140.19390000000001},null,null,null,{"$f":"'Базовые концовки'!L404","v":0},null,null,null,{"$f":"'Базовые концовки'!M404","v":0}]
[null,null,null,null,null,null,null,{"$f":"'Базовые концовки'!I404","v":669},null,{"$f":"'Базовые концовки'!K404","v":55.301400000000001}]
[null,".   В Т.Ч. НАКЛАДНЫЕ РАСХОДЫ - (%=100 - по стр. 13)",null,null,null,{"$f":"'Базовые концовки'!F405","v":1984}]
[null,".   В Т.Ч. СМЕТНАЯ ПРИБЫЛЬ - (%=60 - по стр. 13)",null,null,null,{"$f":"'Базовые концовки'!F406","v":1188}]
[null,".   НАКЛАДНЫЕ РАСХОДЫ -",null,null,null,{"$f":"'Базовые концовки'!F407","v":0}]
[null,".   СМЕТНАЯ ПРИБЫЛЬ -",null,null,null,{"$f":"'Базовые концовки'!F408","v":0}]
[null,"ВСЕГО, СТОИМОСТЬ ПЕРЕВОЗКИ ГРУЗОВ -",null,null,null,{"$f":"'Базовые концовки'!F409","v":16658}]
[null,"ВСЕГО, СТОИМОСТЬ ПОГРУЗКИ-РАЗГРУЗКИ -",null,null,null,{"$f":"'Базовые концовки'!F410","v":9207}]
[null,"Погрузка-разгрузка БЦ ЭМ",null,null,null,{"$f":"'Базовые концовки'!F411","v":4720}]
[null,"Погрузка-разгрузка БЦ ЗПМ",null,null,null,{"$f":"'Базовые концовки'!F412","v":669}]
[null,"Погрузка-разгрузка ТЦ ЗП",21.324000000000002,null,null,{"$f":"'Базовые концовки'!F413","v":28041}]
[null,"Погрузка-разгрузка ТЦ ЗПМ",21.324000000000002,null,null,{"$f":"'Базовые концовки'!F414","v":14266}]
[null,"Погрузка-разгрузка ТЦ ЭМ",6.1520000000000001,null,null,{"$f":"'Базовые концовки'!F415","v":29037}]
[null,"Погрузка-разгрузка ТЦ материалы",null,null,null,{"$f":"'Базовые концовки'!F416","v":0}]
[null,"Погрузка-разгрузка ТЦ в т.ч. НР",21.324000000000002,null,null,{"$f":"'Базовые концовки'!F417","v":42307}]
[null,"Погрузка-разгрузка ТЦ в т.ч. СП",21.324000000000002,null,null,{"$f":"'Базовые концовки'!F418","v":25333}]
[null,"Погрузка-разгрузка ТЦ НР",null,null,null,{"$f":"'Базовые концовки'!F419","v":0}]
[null,"Погрузка-разгрузка ТЦ СП",null,null,null,{"$f":"'Базовые концовки'!F420","v":0}]
[null,"Погрузка-разгрузка ТЦ всего",null,null,null,{"$f":"'Базовые концовки'!F421","v":124718}]
[null,"ПЕРЕВОЗКА (таб.6)",null,null,null,{"$f":"'Базовые концовки'!F422","v":0},{"$f":"'Базовые концовки'!G422","v":0},{"$f":"'Базовые концовки'!H422","v":0},null,{"$f":"'Базовые концовки'!J422","v":0},null,null,null,{"$f":"'Базовые концовки'!L422","v":0},null,null,null,{"$f":"'Базовые концовки'!M422","v":0}]
[null,"ПЕРЕВОЗКА (таб.7)",null,null,null,{"$f":"'Базовые концовки'!F423","v":0},{"$f":"'Базовые концовки'!G423","v":0},{"$f":"'Базовые концовки'!H423","v":0},null,{"$f":"'Базовые концовки'!J423","v":0},null,null,null,{"$f":"'Базовые концовки'!L423","v":0},null,null,null,{"$f":"'Базовые концовки'!M423","v":0}]
[null,"ПЕРЕВОЗКА (таб.8)",null,null,null,{"$f":"'Базовые концовки'!F424","v":7451},{"$f":"'Базовые концовки'!G424","v":0},{"$f":"'Базовые концовки'!H424","v":7451},null,{"$f":"'Базовые концовки'!J424","v":0},null,null,null,{"$f":"'Базовые концовки'!L424","v":0},null,null,null,{"$f":"'Базовые концовки'!M424","v":0}]
[null,"Перевозка (таб.6) ТЦ",null,null,null,{"$f":"'Базовые концовки'!F425","v":0}]
[null,"Перевозка (таб.7) ТЦ",null,null,null,{"$f":"'Базовые концовки'!F426","v":0}]
[null,"Перевозка (таб.8) ТЦ",10.144,null,null,{"$f":"'Базовые концовки'!F427","v":75583}]
[null,"Перевозка ТЦ  всего",null,null,null,{"$f":"'Базовые концовки'!F428","v":75583}]
[null,"СТОИМОСТЬ ПУСКОНАЛАДОЧНЫХ РАБОТ -",null,null,null,{"$f":"'Базовые концовки'!F429","v":0},{"$f":"'Базовые концовки'!G429","v":0},{"$f":"'Базовые концовки'!H429","v":0},null,{"$f":"'Базовые концовки'!J429","v":0},null,null,null,{"$f":"'Базовые концовки'!L429","v":0},null,null,null,{"$f":"'Базовые концовки'!M429","v":0}]
[null,".   НАКЛАДНЫЕ РАСХОДЫ -",null,null,null,{"$f":"'Базовые концовки'!F430","v":0}]
[null,".   СМЕТНАЯ ПРИБЫЛЬ -",null,null,null,{"$f":"'Базовые концовки'!F431","v":0}]
[null,"ВСЕГО, СТОИМОСТЬ ПУСКОНАЛАДОЧНЫХ РАБОТ -",null,null,null,{"$f":"'Базовые концовки'!F432","v":0}]
[null,"Пусконаладочные работы ТЦ ЗП",null,null,null,{"$f":"'Базовые концовки'!F433","v":0}]
[null,"Пусконаладочные работы ТЦ НР",null,null,null,{"$f":"'Базовые концовки'!F434","v":0}]
[null,"Пусконаладочные работы ТЦ СП",null,null,null,{"$f":"'Базовые концовки'!F435","v":0}]
[null,"Пусконаладочные работы ТЦ всего",null,null,null,{"$f":"'Базовые концовки'!F436","v":0}]
[null,"СТОИМОСТЬ ПРОЧИХ РАБОТ (с НР и СП) -",null,null,null,{"$f":"'Базовые концовки'!F437","v":0},{"$f":"'Базовые концовки'!G437","v":0},{"$f":"'Базовые концовки'!H437","v":0},null,{"$f":"'Базовые концовки'!J437","v":0},null,null,null,{"$f":"'Базовые концовки'!L437","v":0},null,null,null,{"$f":"'Базовые концовки'!M437","v":0}]
[null,".   СТОИМОСТЬ ВОЗВРАЩАЕМЫХ МАТЕРИАЛОВ -",null,null,null,{"$f":"'Базовые концовки'!F438","v":0}]
[null,".   НАКЛАДНЫЕ РАСХОДЫ -",null,null,null,{"$f":"'Базовые концовки'!F439","v":0}]
[null,".   СМЕТНАЯ ПРИБЫЛЬ -",null,null,null,{"$f":"'Базовые концовки'!F440","v":0}]
[null,"ВСЕГО, СТОИМОСТЬ ПРОЧИХ РАБОТ (с НР и СП) -",null,null,null,{"$f":"'Базовые концовки'!F441","v":0}]
[null,"ВСЕГО, СТОИМОСТЬ ПРОЧИХ РАБОТ (без НР и СП) -",null,null,null,{"$f":"'Базовые концовки'!F442","v":0},{"$f":"'Базовые концовки'!G442","v":0},{"$f":"'Базовые концовки'!H442","v":0},null,{"$f":"'Базовые концовки'!J442","v":0},null,null,null,{"$f":"'Базовые концовки'!L442","v":0},null,null,null,{"$f":"'Базовые концовки'!M442","v":0}]
[null,".   СТОИМОСТЬ ВОЗВРАЩАЕМЫХ МАТЕРИАЛОВ -",null,null,null,{"$f":"'Базовые концовки'!F443","v":0}]
[null,"Прочие работы БЦ ЭМ",null,null,null,{"$f":"'Базовые концовки'!F444","v":0}]
[null,"Прочие работы БЦ ЗПМ",null,null,null,{"$f":"'Базовые концовки'!F445","v":0}]
[null,"Прочие работы ТЦ ЗП",null,null,null,{"$f":"'Базовые концовки'!F446","v":0}]
[null,"Прочие работы ТЦ ЗПМ",null,null,null,{"$f":"'Базовые концовки'!F447","v":0}]
[null,"Прочие работы ТЦ ЭМ",null,null,null,{"$f":"'Базовые концовки'!F448","v":0}]
[null,"Прочие работы ТЦ материалы",null,null,null,{"$f":"'Базовые концовки'!F449","v":0}]
[null,"Прочие работы ТЦ НР",null,null,null,{"$f":"'Базовые концовки'!F450","v":0}]
[null,"Прочие работы ТЦ СП",null,null,null,{"$f":"'Базовые концовки'!F451","v":0}]
[null,"Прочие работы ТЦ всего",null,null,null,{"$f":"'Базовые концовки'!F452","v":0}]
[null,". ВСЕГО  ПО  РАЗДЕЛУ 3",null,null,null,{"$f":"'Базовые концовки'!F453","v":139276},{"$f":"'Базовые концовки'!G453","v":0},{"$f":"'Базовые концовки'!H453","v":0},null,{"$f":"'Базовые концовки'!J453","v":0},null,null,null,{"$f":"'Базовые концовки'!L453","v":0},null,null,null,{"$f":"'Базовые концовки'!M453","v":0}]
[null,"ВСЕГО СТОИМОСТЬ ВОЗВРАЩАЕМЫХ МАТЕРИАЛОВ -",null,null,null,{"$f":"'Базовые концовки'!F454","v":0}]
[null,"ВСЕГО НАКЛАДНЫЕ РАСХОДЫ",null,null,null,{"$f":"'Базовые концовки'!F455","v":3858}]
[null,"ВСЕГО НАКЛАДНЫЕ РАСХОДЫ",null,null,null,{"$f":"'Базовые концовки'!F456","v":5842}]
[null,"ВСЕГО СМЕТНАЯ ПРИБЫЛЬ",null,null,null,{"$f":"'Базовые концовки'!F457","v":2198}]
[null,"ВСЕГО СМЕТНАЯ ПРИБЫЛЬ",null,null,null,{"$f":"'Базовые концовки'!F458","v":3386}]
[null,"в т.ч. Вспомогательные материалы на монтаж",null,null,null,{"$f":"'Базовые концовки'!F459","v":0},null,null,null,null,null,null,null,{"$f":"'Базовые концовки'!L459","v":0}]
[null,"в т.ч. Вспомогательные материалы от ОЗП",null,null,null,{"$f":"'Базовые концовки'!F460","v":0}]
[null,"Оплата основных рабочих",null,null,null,{"$f":"'Базовые концовки'!F461","v":2394}]
[null,"Оплата механизаторов",null,null,null,{"$f":"'Базовые концовки'!F462","v":2319}]
[null,"Стоимость механизмов",null,null,null,{"$f":"'Базовые концовки'!F463","v":27189}]
[null,"Сметная стоимость материалов",null,null,null,{"$f":"'Базовые концовки'!F464","v":100465},null,null,null,null,null,null,null,{"$f":"'Базовые концовки'!L464","v":100465}]
[null,"Трудозатраты осн. рабочих",null,null,null,null,null,null,null,{"$f":"'Базовые концовки'!J465","v":238.404504}]
[null,"Трудозатраты механизаторов",null,null,null,null,null,null,null,{"$f":"'Базовые концовки'!J466","v":156.883836}]
[null,"Нормативная трудоемкость",null,null,null,null,null,null,null,{"$f":"'Базовые концовки'!J467","v":395.28834000000001}]
[null,"Оплата основных рабочих ТЦ",null,null,null,{"$f":"'Базовые концовки'!F468","v":51050}]
[null,"Оплата механизаторов ТЦ",null,null,null,{"$f":"'Базовые концовки'!F469","v":49451}]
[null,"Стоимость механизмов ТЦ",null,null,null,{"$f":"'Базовые концовки'!F470","v":121428}]
[null,"Стоимость материалов ТЦ",null,null,null,{"$f":"'Базовые концовки'!F471","v":634939}]
[null,"Оборудование ТЦ",null,null,null,{"$f":"'Базовые концовки'!F472","v":0}]
[null,"Перевозка ТЦ",null,null,null,{"$f":"'Базовые концовки'!F473","v":75583}]
[null,"ИТОГО ТЦ",null,null,null,{"$f":"'Базовые концовки'!F474","v":883000}]
[null,"В Т.Ч. НАКЛАДНЫЕ РАСХОДЫ ТЦ",null,null,null,{"$f":"'Базовые концовки'!F475","v":42307}]
[null,"В Т.Ч. СМЕТНАЯ ПРИБЫЛЬ ТЦ",null,null,null,{"$f":"'Базовые концовки'!F476","v":25333}]
[null,"НАКЛАДНЫЕ РАСХОДЫ ТЦ",null,null,null,{"$f":"'Базовые концовки'!F477","v":124575}]
[null,"СМЕТНАЯ ПРИБЫЛЬ ТЦ",null,null,null,{"$f":"'Базовые концовки'!F478","v":72203}]
[null,"ВСЕГО ТЦ",null,null,null,{"$f":"'Базовые концовки'!F479","v":1079778}]
[]
[null,"Раздел 4.  Установка бортовых камней"]
[]
["25.","Е27-02-010-02\nУстановка бортовых камней бетонных: при других видах покрытий , П1-У, П-5У, 100 м бортового камня",2.94,{"$f":"'Базовые цены за единицу'!B42","v":4424.18},{"$f":"'Базовые цены за единицу'!D42","v":104.2},{"$f":"'Базовые цены с учетом расхода'!B42","v":13007},{"$f":"'Базовые цены с учетом расхода'!C42","v":2273},{"$f":"'Базовые цены с учетом расхода'!D42","v":306},76.08,{"$f":"'Базовые цены с учетом расхода'!I42","v":223.67519999999999},"sum","IsZPR",null,{"$f":"'Базовые цены с учетом расхода'!F42","v":10428}]
[null,null,null,{"$f":"'Базовые цены за единицу'!C42","v":772.97},{"$f":"'Базовые цены за единицу'!E42","v":11.02},null,null,{"$f":"'Базовые цены с учетом расхода'!E42","v":32},0.68,{"$f":"'Базовые цены с учетом расхода'!K42","v":1.9992000000000001},"sum_b","IsZPM"]
[null,{"$f":"IF(ROUND((70+9+215)/100,5)=C959,\"Объем: 70+9+215\",\"\")","v":"Объем: 70+9+215"}]
[null,"   Вычт.ресурсы:  С101-1805:[ М-(10.56=10557.18*0.001) ];  С102-0038:[ М-(119.87=705.14*0.17) ]"]
[null,"Зарплата рабочих",null,null,null,2273]
[null,"Эксплуатация машин",null,null,null,306]
[null,"в т.ч. зарплата машинистов",null,null,null,32]
[null,"Материалы",null,null,null,10428]
[null,"в т.ч. Вспомогательные материалы от стоимости материалов"]
[null,"в т.ч. Вспомогательные ненормируемые материалы",null,null,null,null,null,null,null,null,"NenormMatOtZPR","IsMater"]
[null,"в т.ч. Ненормированная з.п. рабочих"]
[null,"в т.ч. Ненормированная стоимость эксплуатации машин"]
[null,"в т.ч. Ненормированная оплата механизаторов"]
[null,"Накладные расходы",142,null,null,{"$f":"IF('Базовые цены с учетом расхода'!N42>0,'Базовые цены с учетом расхода'!N42,IF('Базовые цены с учетом расхода'!N42<0,'Базовые цены с учетом расхода'!N42,\"\"))","v":3273},null,null,null,null,null,"Nakl"]
[null,"НР от ЗПР",142,null,null,{"$f":"IF('Базовые цены с учетом расхода'!P42>0,'Базовые цены с учетом расхода'!P42,IF('Базовые цены с учетом расхода'!P42<0,'Базовые цены с учетом расхода'!P42,\"\"))","v":3227},null,null,null,null,null,"Nakl_ZPR"]
[null,"НР от ЗПМ",142,null,null,{"$f":"IF('Базовые цены с учетом расхода'!Q42>0,'Базовые цены с учетом расхода'!Q42,IF('Базовые цены с учетом расхода'!Q42<0,'Базовые цены с учетом расхода'!Q42,\"\"))","v":46},null,null,null,null,null,"Nakl_ZPM"]
[null,"Сметная прибыль",81,null,null,{"$f":"IF('Базовые цены с учетом расхода'!O42>0,'Базовые цены с учетом расхода'!O42,IF('Базовые цены с учетом расхода'!O42<0,'Базовые цены с учетом расхода'!O42,\"\"))","v":1867},null,null,null,null,null,"Plan"]
[null,"СП от ЗПР",81,null,null,{"$f":"IF('Базовые цены с учетом расхода'!R42>0,'Базовые цены с учетом расхода'!R42,IF('Базовые цены с учетом расхода'!R42<0,'Базовые цены с учетом расхода'!R42,\"\"))","v":1841},null,null,null,null,null,"Plan_ZPR"]
[null,"СП от ЗПМ",81,null,null,{"$f":"IF('Базовые цены с учетом расхода'!S42>0,'Базовые цены с учетом расхода'!S42,IF('Базовые цены с учетом расхода'!S42<0,'Базовые цены с учетом расхода'!S42,\"\"))","v":26},null,null,null,null,null,"Plan_ZPM"]
[]
["26.","Е06-01-001-01\nУстройство бетонной подготовки, 100 м3 бетона, бутобетона и железобетона в деле",-0.14699999999999999,{"$f":"'Базовые цены за единицу'!B43","v":64895.61},{"$f":"'Базовые цены за единицу'!D43","v":2609.79},{"$f":"'Базовые цены с учетом расхода'!B43","v":-9540},{"$f":"'Базовые цены с учетом расхода'!C43","v":-248},{"$f":"'Базовые цены с учетом расхода'!D43","v":-384},180,{"$f":"'Базовые цены с учетом расхода'!I43","v":-26.46},"sum","IsZPR",null,{"$f":"'Базовые цены с учетом расхода'!F43","v":-8908}]
[null,null,null,{"$f":"'Базовые цены за единицу'!C43","v":1686.6},{"$f":"'Базовые цены за единицу'!E43","v":291.77999999999997},null,null,{"$f":"'Базовые цены с учетом расхода'!E43","v":-43},18,{"$f":"'Базовые цены с учетом расхода'!K43","v":-2.6459999999999999},"sum_b","IsZPM"]
[null,"Объем: -(0,5*0,1*294)"]
[null,"   Вычт.ресурсы:  С101-1668:[ М-(2412.50=9.65*250) ];  С411-0001:[ М-(0.40=1.98*0.2) ]"]
[null,"   Добавл.ресурсы:  С401-0006:[ М-(60599.22=594.11*102) ]"]
[null,"Зарплата рабочих",null,null,null,-248]
[null,"Эксплуатация машин",null,null,null,-384]
[null,"в т.ч. зарплата машинистов",null,null,null,-43]
[null,"Материалы",null,null,null,-8908]
[null,"в т.ч. Вспомогательные материалы от стоимости материалов"]
[null,"в т.ч. Вспомогательные ненормируемые материалы",null,null,null,null,null,null,null,null,"NenormMatOtZPR","IsMater"]
[null,"в т.ч. Ненормированная з.п. рабочих"]
[null,"в т.ч. Ненормированная стоимость эксплуатации машин"]
[null,"в т.ч. Ненормированная оплата механизаторов"]
[null,"Накладные расходы",105,null,null,{"$f":"IF('Базовые цены с учетом расхода'!N43>0,'Базовые цены с учетом расхода'!N43,IF('Базовые цены с учетом расхода'!N43<0,'Базовые цены с учетом расхода'!N43,\"\"))","v":-306},null,null,null,null,null,"Nakl"]
[null,"НР от ЗПР",105,null,null,{"$f":"IF('Базовые цены с учетом расхода'!P43>0,'Базовые цены с учетом расхода'!P43,IF('Базовые цены с учетом расхода'!P43<0,'Базовые цены с учетом расхода'!P43,\"\"))","v":-260},null,null,null,null,null,"Nakl_ZPR"]
[null,"НР от ЗПМ",105,null,null,{"$f":"IF('Базовые цены с учетом расхода'!Q43>0,'Базовые цены с учетом расхода'!Q43,IF('Базовые цены с учетом расхода'!Q43<0,'Базовые цены с учетом расхода'!Q43,\"\"))","v":-45},null,null,null,null,null,"Nakl_ZPM"]
[null,"Сметная прибыль",55,null,null,{"$f":"IF('Базовые цены с учетом расхода'!O43>0,'Базовые цены с учетом расхода'!O43,IF('Базовые цены с учетом расхода'!O43<0,'Базовые цены с учетом расхода'!O43,\"\"))","v":-160},null,null,null,null,null,"Plan"]
[null,"СП от ЗПР",55,null,null,{"$f":"IF('Базовые цены с учетом расхода'!R43>0,'Базовые цены с учетом расхода'!R43,IF('Базовые цены с учетом расхода'!R43<0,'Базовые цены с учетом расхода'!R43,\"\"))","v":-136},null,null,null,null,null,"Plan_ZPR"]
[null,"СП от ЗПМ",55,null,null,{"$f":"IF('Базовые цены с учетом расхода'!S43>0,'Базовые цены с учетом расхода'!S43,IF('Базовые цены с учетом расхода'!S43<0,'Базовые цены с учетом расхода'!S43,\"\"))","v":-24},null,null,null,null,null,"Plan_ZPM"]
[]
["27.","С. Прайс Авангар\nПоребрик  П-1у (10395*1,02*1,103), м3",3.68,{"$f":"'Базовые цены за единицу'!B44","v":1568.2},{"$f":"'Базовые цены за единицу'!D44","v":0},{"$f":"'Базовые цены с учетом расхода'!B44","v":5771},{"$f":"'Базовые цены с учетом расхода'!C44","v":0},{"$f":"'Базовые цены с учетом расхода'!D44","v":0},null,{"$f":"'Базовые цены с учетом расхода'!I44","v":0},"sum","IsZPR",null,{"$f":"'Базовые цены с учетом расхода'!F44","v":5771}]
[null,null,null,{"$f":"'Базовые цены за единицу'!C44","v":0},{"$f":"'Базовые цены за единицу'!E44","v":0},null,null,{"$f":"'Базовые цены с учетом расхода'!E44","v":0},null,{"$f":"'Базовые цены с учетом расхода'!K44","v":0},"sum_b","IsZPM"]
[null,{"$f":"IF(ROUND((70*0.0525)/1,2)=C1000,\"Объем: 70*0,0525\",\"\")","v":"Объем: 70*0,0525"}]
[null,"   Поправки: М: =10395*1.103*1.02/6.32/1.18"]
[null,"Зарплата рабочих"]
[null,"Эксплуатация машин"]
[null,"в т.ч. зарплата машинистов"]
[null,"Материалы",null,null,null,5771]
[null,"в т.ч. Вспомогательные материалы от стоимости материалов"]
[null,"в т.ч. Вспомогательные ненормируемые материалы",null,null,null,null,null,null,null,null,"NenormMatOtZPR","IsMater"]
[null,"в т.ч. Ненормированная з.п. рабочих"]
[null,"в т.ч. Ненормированная стоимость эксплуатации машин"]
[null,"в т.ч. Ненормированная оплата механизаторов"]
[null,"Накладные расходы",null,null,null,{"$f":"IF('Базовые цены с учетом расхода'!N44>0,'Базовые цены с учетом расхода'!N44,IF('Базовые цены с учетом расхода'!N44<0,'Базовые цены с учетом расхода'!N44,\"\"))","v":""},null,null,null,null,null,"Nakl"]
[null,"НР от ЗПР",null,null,null,{"$f":"IF('Базовые цены с учетом расхода'!P44>0,'Базовые цены с учетом расхода'!P44,IF('Базовые цены с учетом расхода'!P44<0,'Базовые цены с учетом расхода'!P44,\"\"))","v":""},null,null,null,null,null,"Nakl_ZPR"]
[null,"НР от ЗПМ",null,null,null,{"$f":"IF('Базовые цены с учетом расхода'!Q44>0,'Базовые цены с учетом расхода'!Q44,IF('Базовые цены с учетом расхода'!Q44<0,'Базовые цены с учетом расхода'!Q44,\"\"))","v":""},null,null,null,null,null,"Nakl_ZPM"]
[null,"Сметная прибыль",null,null,null,{"$f":"IF('Базовые цены с учетом расхода'!O44>0,'Базовые цены с учетом расхода'!O44,IF('Базовые цены с учетом расхода'!O44<0,'Базовые цены с учетом расхода'!O44,\"\"))","v":""},null,null,null,null,null,"Plan"]
[null,"СП от ЗПР",null,null,null,{"$f":"IF('Базовые цены с учетом расхода'!R44>0,'Базовые цены с учетом расхода'!R44,IF('Базовые цены с учетом расхода'!R44<0,'Базовые цены с учетом расхода'!R44,\"\"))","v":""},null,null,null,null,null,"Plan_ZPR"]
[null,"СП от ЗПМ",null,null,null,{"$f":"IF('Базовые цены с учетом расхода'!S44>0,'Базовые цены с учетом расхода'!S44,IF('Базовые цены с учетом расхода'!S44<0,'Базовые цены с учетом расхода'!S44,\"\"))","v":""},null,null,null,null,null,"Plan_ZPM"]
[]
["28.","С.Прайс Авангард\nПоребрик  П-1У-1 (12024,46*1,02*1,103), м3",0.47299999999999998,{"$f":"'Базовые цены за единицу'!B45","v":1814.02},{"$f":"'Базовые цены за единицу'!D45","v":0},{"$f":"'Базовые цены с учетом расхода'!B45","v":858},{"$f":"'Базовые цены с учетом расхода'!C45","v":0},{"$f":"'Базовые цены с учетом расхода'!D45","v":0},null,{"$f":"'Базовые цены с учетом расхода'!I45","v":0},"sum","IsZPR",null,{"$f":"'Базовые цены с учетом расхода'!F45","v":858}]
[null,null,null,{"$f":"'Базовые цены за единицу'!C45","v":0},{"$f":"'Базовые цены за единицу'!E45","v":0},null,null,{"$f":"'Базовые цены с учетом расхода'!E45","v":0},null,{"$f":"'Базовые цены с учетом расхода'!K45","v":0},"sum_b","IsZPM"]
[null,{"$f":"IF(ROUND((9*0.0525)/1,3)=C1020,\"Объем: 9*0,0525\",\"\")","v":"Объем: 9*0,0525"}]
[null,"   Поправки: М: =12024.46*1.103*1.02/6.32/1.18"]
[null,"Зарплата рабочих"]
[null,"Эксплуатация машин"]
[null,"в т.ч. зарплата машинистов"]
[null,"Материалы",null,null,null,858]
[null,"в т.ч. Вспомогательные материалы от стоимости материалов"]
[null,"в т.ч. Вспомогательные ненормируемые материалы",null,null,null,null,null,null,null,null,"NenormMatOtZPR","IsMater"]
[null,"в т.ч. Ненормированная з.п. рабочих"]
[null,"в т.ч. Ненормированная стоимость эксплуатации машин"]
[null,"в т.ч. Ненормированная оплата механизаторов"]
[null,"Накладные расходы",null,null,null,{"$f":"IF('Базовые цены с учетом расхода'!N45>0,'Базовые цены с учетом расхода'!N45,IF('Базовые цены с учетом расхода'!N45<0,'Базовые цены с учетом расхода'!N45,\"\"))","v":""},null,null,null,null,null,"Nakl"]
[null,"НР от ЗПР",null,null,null,{"$f":"IF('Базовые цены с учетом расхода'!P45>0,'Базовые цены с учетом расхода'!P45,IF('Базовые цены с учетом расхода'!P45<0,'Базовые цены с учетом расхода'!P45,\"\"))","v":""},null,null,null,null,null,"Nakl_ZPR"]
[null,"НР от ЗПМ",null,null,null,{"$f":"IF('Базовые цены с учетом расхода'!Q45>0,'Базовые цены с учетом расхода'!Q45,IF('Базовые цены с учетом расхода'!Q45<0,'Базовые цены с учетом расхода'!Q45,\"\"))","v":""},null,null,null,null,null,"Nakl_ZPM"]
[null,"Сметная прибыль",null,null,null,{"$f":"IF('Базовые цены с учетом расхода'!O45>0,'Базовые цены с учетом расхода'!O45,IF('Базовые цены с учетом расхода'!O45<0,'Базовые цены с учетом расхода'!O45,\"\"))","v":""},null,null,null,null,null,"Plan"]
[null,"СП от ЗПР",null,null,null,{"$f":"IF('Базовые цены с учетом расхода'!R45>0,'Базовые цены с учетом расхода'!R45,IF('Базовые цены с учетом расхода'!R45<0,'Базовые цены с учетом расхода'!R45,\"\"))","v":""},null,null,null,null,null,"Plan_ZPR"]
[null,"СП от ЗПМ",null,null,null,{"$f":"IF('Базовые цены с учетом расхода'!S45>0,'Базовые цены с учетом расхода'!S45,IF('Базовые цены с учетом расхода'!S45<0,'Базовые цены с учетом расхода'!S45,\"\"))","v":""},null,null,null,null,null,"Plan_ZPM"]
[]
["29.","С.Прайс Авангард\nПоребрик П-5у (12443*1,02*1,103), м3",4.5149999999999997,{"$f":"'Базовые цены за единицу'!B46","v":1877.16},{"$f":"'Базовые цены за единицу'!D46","v":0},{"$f":"'Базовые цены с учетом расхода'!B46","v":8475},{"$f":"'Базовые цены с учетом расхода'!C46","v":0},{"$f":"'Базовые цены с учетом расхода'!D46","v":0},null,{"$f":"'Базовые цены с учетом расхода'!I46","v":0},"sum","IsZPR",null,{"$f":"'Базовые цены с учетом расхода'!F46","v":8475}]
[null,null,null,{"$f":"'Базовые цены за единицу'!C46","v":0},{"$f":"'Базовые цены за единицу'!E46","v":0},null,null,{"$f":"'Базовые цены с учетом расхода'!E46","v":0},null,{"$f":"'Базовые цены с учетом расхода'!K46","v":0},"sum_b","IsZPM"]
[null,{"$f":"IF(ROUND((215*0.021)/1,5)=C1040,\"Объем: 215*0,021\",\"\")","v":"Объем: 215*0,021"}]
[null,"   Поправки: М: =12443*1.103*1.02/6.32/1.18"]
[null,"Зарплата рабочих"]
[null,"Эксплуатация машин"]
[null,"в т.ч. зарплата машинистов"]
[null,"Материалы",null,null,null,8475]
[null,"в т.ч. Вспомогательные материалы от стоимости материалов"]
[null,"в т.ч. Вспомогательные ненормируемые материалы",null,null,null,null,null,null,null,null,"NenormMatOtZPR","IsMater"]
[null,"в т.ч. Ненормированная з.п. рабочих"]
[null,"в т.ч. Ненормированная стоимость эксплуатации машин"]
[null,"в т.ч. Ненормированная оплата механизаторов"]
[null,"Накладные расходы",null,null,null,{"$f":"IF('Базовые цены с учетом расхода'!N46>0,'Базовые цены с учетом расхода'!N46,IF('Базовые цены с учетом расхода'!N46<0,'Базовые цены с учетом расхода'!N46,\"\"))","v":""},null,null,null,null,null,"Nakl"]
[null,"НР от ЗПР",null,null,null,{"$f":"IF('Базовые цены с учетом расхода'!P46>0,'Базовые цены с учетом расхода'!P46,IF('Базовые цены с учетом расхода'!P46<0,'Базовые цены с учетом расхода'!P46,\"\"))","v":""},null,null,null,null,null,"Nakl_ZPR"]
[null,"НР от ЗПМ",null,null,null,{"$f":"IF('Базовые цены с учетом расхода'!Q46>0,'Базовые цены с учетом расхода'!Q46,IF('Базовые цены с учетом расхода'!Q46<0,'Базовые цены с учетом расхода'!Q46,\"\"))","v":""},null,null,null,null,null,"Nakl_ZPM"]
[null,"Сметная прибыль",null,null,null,{"$f":"IF('Базовые цены с учетом расхода'!O46>0,'Базовые цены с учетом расхода'!O46,IF('Базовые цены с учетом расхода'!O46<0,'Базовые цены с учетом расхода'!O46,\"\"))","v":""},null,null,null,null,null,"Plan"]
[null,"СП от ЗПР",null,null,null,{"$f":"IF('Базовые цены с учетом расхода'!R46>0,'Базовые цены с учетом расхода'!R46,IF('Базовые цены с учетом расхода'!R46<0,'Базовые цены с учетом расхода'!R46,\"\"))","v":""},null,null,null,null,null,"Plan_ZPR"]
[null,"СП от ЗПМ",null,null,null,{"$f":"IF('Базовые цены с учетом расхода'!S46>0,'Базовые цены с учетом расхода'!S46,IF('Базовые цены с учетом расхода'!S46<0,'Базовые цены с учетом расхода'!S46,\"\"))","v":""},null,null,null,null,null,"Plan_ZPM"]
[]
[null,".    ИТОГО  ПО  РАЗДЕЛУ 4",null,null,null,{"$f":"'Базовые концовки'!F484","v":18571},{"$f":"'Базовые концовки'!G484","v":2025},{"$f":"'Базовые концовки'!H484","v":-78},null,{"$f":"'Базовые концовки'!J484","v":197.21520000000001},null,null,null,{"$f":"'Базовые концовки'!L484","v":16624},null,null,null,{"$f":"'Базовые концовки'!M484","v":0}]
[null,null,null,null,null,null,null,{"$f":"'Базовые концовки'!I484","v":-11},null,{"$f":"'Базовые концовки'!K484","v":-0.64680000000000004}]
[null,"СТОИМОСТЬ ОБОРУДОВАНИЯ -",null,null,null,{"$f":"'Базовые концовки'!F485","v":0},{"$f":"'Базовые концовки'!G485","v":0},{"$f":"'Базовые концовки'!H485","v":0},null,{"$f":"'Базовые концовки'!J485","v":0},null,null,null,{"$f":"'Базовые концовки'!L485","v":0},null,null,null,{"$f":"'Базовые концовки'!M485","v":0}]
[null,".   ЗАПАСНЫЕ ЧАСТИ -",null,null,null,{"$f":"'Базовые концовки'!F486","v":0}]
[null,".   ТАРА И УПАКОВКА -",null,null,null,{"$f":"'Базовые концовки'!F487","v":0}]
[null,".   ТРАНСПОРТНЫЕ РАСХОДЫ -",null,null,null,{"$f":"'Базовые концовки'!F488","v":0}]
[null,".   КОМПЛЕКТАЦИЯ -",null,null,null,{"$f":"'Базовые концовки'!F489","v":0}]
[null,".   НАЦЕНКА СНАБА -",null,null,null,{"$f":"'Базовые концовки'!F490","v":0}]
[null,".   ЗАГОТОВИТЕЛЬНО-СКЛАДСКИЕ РАСХОДЫ -",null,null,null,{"$f":"'Базовые концовки'!F491","v":0}]
[null,". ШЕФМОНТАЖ ПО ОБОРУДОВАНИЮ -",null,null,null,{"$f":"'Базовые концовки'!F492","v":0}]
[null,". ШЕФМОНТАЖ -",null,null,null,{"$f":"'Базовые концовки'!F493","v":0}]
[null,"ВСЕГО, СТОИМОСТЬ ОБОРУДОВАНИЯ -",null,null,null,{"$f":"'Базовые концовки'!F494","v":0}]
[null,"Оборудование ТЦ",null,null,null,{"$f":"'Базовые концовки'!F495","v":0}]
[null,"СТОИМОСТЬ МОНТАЖНЫХ РАБОТ -",null,null,null,{"$f":"'Базовые концовки'!F496","v":0},{"$f":"'Базовые концовки'!G496","v":0},{"$f":"'Базовые концовки'!H496","v":0},null,{"$f":"'Базовые концовки'!J496","v":0},null,null,null,{"$f":"'Базовые концовки'!L496","v":0},null,null,null,{"$f":"'Базовые концовки'!M496","v":0}]
[null,".     В ТОМ ЧИСЛЕ:"]
[null,". ОТКЛОНЕНИЕ ПО ЗАРАБОТНОЙ ПЛАТЕ -",null,null,null,null,{"$f":"'Базовые концовки'!G498","v":0}]
[null,". КОСВЕННЫЕ РАСХОДЫ -",null,null,null,{"$f":"'Базовые концовки'!F499","v":0}]
[null,". МАТЕРИАЛЬНЫЕ РЕСУРСЫ НЕ УЧТЕННЫЕ В РАСЦЕНКАХ -",null,null,null,{"$f":"'Базовые концовки'!F500","v":0}]
[null,".   СТОИМОСТЬ ВОЗВРАЩАЕМЫХ МАТЕРИАЛОВ -",null,null,null,{"$f":"'Базовые концовки'!F501","v":0}]
[null,".   НАКЛАДНЫЕ РАСХОДЫ -",null,null,null,{"$f":"'Базовые концовки'!F502","v":0}]
[null,".   СМЕТНАЯ ПРИБЫЛЬ -",null,null,null,{"$f":"'Базовые концовки'!F503","v":0}]
[null,". ШЕФМОНТАЖ -",null,null,null,{"$f":"'Базовые концовки'!F504","v":0}]
[null,"ВСЕГО, СТОИМОСТЬ МОНТАЖНЫХ РАБОТ -",null,null,null,{"$f":"'Базовые концовки'!F505","v":0}]
[null,"Монтажные работы БЦ ЭМ",null,null,null,{"$f":"'Базовые концовки'!F506","v":0}]
[null,"Монтажные работы БЦ ЗПМ",null,null,null,{"$f":"'Базовые концовки'!F507","v":0}]
[null,"Монтажные работы ТЦ ЗП",null,null,null,{"$f":"'Базовые концовки'!F508","v":0}]
[null,"Монтажные работы ТЦ ЗПМ",null,null,null,{"$f":"'Базовые концовки'!F509","v":0}]
[null,"Монтажные работы ТЦ ЭМ",null,null,null,{"$f":"'Базовые концовки'!F510","v":0}]
[null,"Монтажные работы ТЦ материалы",null,null,null,{"$f":"'Базовые концовки'!F511","v":0}]
[null,"Монтажные работы ТЦ НР",null,null,null,{"$f":"'Базовые концовки'!F512","v":0}]
[null,"Монтажные работы ТЦ СП",null,null,null,{"$f":"'Базовые концовки'!F513","v":0}]
[null,"Монтажные работы ТЦ всего",null,null,null,{"$f":"'Базовые концовки'!F514","v":0}]
[null,"СТОИМОСТЬ ОБЩЕСТРОИТЕЛЬНЫХ РАБОТ -",null,null,null,{"$f":"'Базовые концовки'!F515","v":18571},{"$f":"'Базовые концовки'!G515","v":2025},{"$f":"'Базовые концовки'!H515","v":-78},null,{"$f":"'Базовые концовки'!J515","v":197.21520000000001},null,null,null,{"$f":"'Базовые концовки'!L515","v":16624},null,null,null,{"$f":"'Базовые концовки'!M515","v":0}]
[null,null,null,null,null,null,null,{"$f":"'Базовые концовки'!I515","v":-11},null,{"$f":"'Базовые концовки'!K515","v":-0.64680000000000004}]
[null,".     В ТОМ ЧИСЛЕ:"]
[null,".       МАТЕРИАЛОВ -",null,null,null,{"$f":"'Базовые концовки'!F517","v":0}]
[null,".   СТОИМОСТЬ ВОЗВРАЩАЕМЫХ МАТЕРИАЛОВ -",null,null,null,{"$f":"'Базовые концовки'!F518","v":0}]
[null,".   НАКЛАДНЫЕ РАСХОДЫ - (%=142 - по стр. 25; %=105 - по стр. 26)",null,null,null,{"$f":"'Базовые концовки'!F519","v":2967}]
[null,".   СМЕТНАЯ ПРИБЫЛЬ - (%=81 - по стр. 25; %=55 - по стр. 26)",null,null,null,{"$f":"'Базовые концовки'!F520","v":1707}]
[null,"ВСЕГО, СТОИМОСТЬ ОБЩЕСТРОИТЕЛЬНЫХ РАБОТ -",null,null,null,{"$f":"'Базовые концовки'!F521","v":23245}]
[null,"СТОИМОСТЬ МЕТАЛЛОМОНТАЖНЫХ РАБОТ -",null,null,null,{"$f":"'Базовые концовки'!F522","v":0},{"$f":"'Базовые концовки'!G522","v":0},{"$f":"'Базовые концовки'!H522","v":0},null,{"$f":"'Базовые концовки'!J522","v":0},null,null,null,{"$f":"'Базовые концовки'!L522","v":0},null,null,null,{"$f":"'Базовые концовки'!M522","v":0}]
[null,".   СТОИМОСТЬ ВОЗВРАЩАЕМЫХ МАТЕРИАЛОВ -",null,null,null,{"$f":"'Базовые концовки'!F523","v":0}]
[null,".   НАКЛАДНЫЕ РАСХОДЫ -",null,null,null,{"$f":"'Базовые концовки'!F524","v":0}]
[null,".   СМЕТНАЯ ПРИБЫЛЬ -",null,null,null,{"$f":"'Базовые концовки'!F525","v":0}]
[null,"ВСЕГО, СТОИМОСТЬ МЕТАЛЛОМОНТАЖНЫХ РАБОТ -",null,null,null,{"$f":"'Базовые концовки'!F526","v":0}]
[null,"СТОИМОСТЬ САНТЕХНИЧЕСКИХ РАБОТ -",null,null,null,{"$f":"'Базовые концовки'!F527","v":0},{"$f":"'Базовые концовки'!G527","v":0},{"$f":"'Базовые концовки'!H527","v":0},null,{"$f":"'Базовые концовки'!J527","v":0},null,null,null,{"$f":"'Базовые концовки'!L527","v":0},null,null,null,{"$f":"'Базовые концовки'!M527","v":0}]
[null,".     В ТОМ ЧИСЛЕ:"]
[null,". СДАЧА И ИСПЫТАНИЕ -",null,null,null,{"$f":"'Базовые концовки'!F529","v":0},{"$f":"'Базовые концовки'!G529","v":0},{"$f":"'Базовые концовки'!H529","v":0},null,{"$f":"'Базовые концовки'!J529","v":0},null,null,null,{"$f":"'Базовые концовки'!L529","v":0},null,null,null,{"$f":"'Базовые концовки'!M529","v":0}]
[null,".   СТОИМОСТЬ ВОЗВРАЩАЕМЫХ МАТЕРИАЛОВ -",null,null,null,{"$f":"'Базовые концовки'!F530","v":0}]
[null,".   НАКЛАДНЫЕ РАСХОДЫ -",null,null,null,{"$f":"'Базовые концовки'!F531","v":0}]
[null,".   СМЕТНАЯ ПРИБЫЛЬ -",null,null,null,{"$f":"'Базовые концовки'!F532","v":0}]
[null,". ШЕФМОНТАЖ -",null,null,null,{"$f":"'Базовые концовки'!F533","v":0}]
[null,"ВСЕГО, СТОИМОСТЬ САНТЕХНИЧЕСКИХ РАБОТ -",null,null,null,{"$f":"'Базовые концовки'!F534","v":0}]
[null,"СТОИМОСТЬ БУРО-ВЗРЫВНЫХ РАБОТ -",null,null,null,{"$f":"'Базовые концовки'!F535","v":0},{"$f":"'Базовые концовки'!G535","v":0},{"$f":"'Базовые концовки'!H535","v":0},null,{"$f":"'Базовые концовки'!J535","v":0},null,null,null,{"$f":"'Базовые концовки'!L535","v":0},null,null,null,{"$f":"'Базовые концовки'!M535","v":0}]
[null,".   СТОИМОСТЬ ВОЗВРАЩАЕМЫХ МАТЕРИАЛОВ -",null,null,null,{"$f":"'Базовые концовки'!F536","v":0}]
[null,".   НАКЛАДНЫЕ РАСХОДЫ -",null,null,null,{"$f":"'Базовые концовки'!F537","v":0}]
[null,".   СМЕТНАЯ ПРИБЫЛЬ -",null,null,null,{"$f":"'Базовые концовки'!F538","v":0}]
[null,"ВСЕГО, СТОИМОСТЬ БУРО-ВЗРЫВНЫХ РАБОТ -",null,null,null,{"$f":"'Базовые концовки'!F539","v":0}]
[null,"СТОИМОСТЬ ГОРНОПРОХОДЧЕСКИХ РАБОТ -",null,null,null,{"$f":"'Базовые концовки'!F540","v":0},{"$f":"'Базовые концовки'!G540","v":0},{"$f":"'Базовые концовки'!H540","v":0},null,{"$f":"'Базовые концовки'!J540","v":0},null,null,null,{"$f":"'Базовые концовки'!L540","v":0},null,null,null,{"$f":"'Базовые концовки'!M540","v":0}]
[null,".   СТОИМОСТЬ ВОЗВРАЩАЕМЫХ МАТЕРИАЛОВ -",null,null,null,{"$f":"'Базовые концовки'!F541","v":0}]
[null,".   НАКЛАДНЫЕ РАСХОДЫ -",null,null,null,{"$f":"'Базовые концовки'!F542","v":0}]
[null,".   СМЕТНАЯ ПРИБЫЛЬ -",null,null,null,{"$f":"'Базовые концовки'!F543","v":0}]
[null,"ВСЕГО, СТОИМОСТЬ ГОРНОПРОХОДЧЕСКИХ РАБОТ -",null,null,null,{"$f":"'Базовые концовки'!F544","v":0}]
[null,"СТОИМОСТЬ РЕСТАВРАЦИОННЫХ РАБОТ -",null,null,null,{"$f":"'Базовые концовки'!F545","v":0},{"$f":"'Базовые концовки'!G545","v":0},{"$f":"'Базовые концовки'!H545","v":0},null,{"$f":"'Базовые концовки'!J545","v":0},null,null,null,{"$f":"'Базовые концовки'!L545","v":0},null,null,null,{"$f":"'Базовые концовки'!M545","v":0}]
[null,".     В ТОМ ЧИСЛЕ:"]
[null,". МАТЕРИАЛЫ -",null,null,null,{"$f":"'Базовые концовки'!F547","v":0}]
[null,".   СТОИМОСТЬ ВОЗВРАЩАЕМЫХ МАТЕРИАЛОВ -",null,null,null,{"$f":"'Базовые концовки'!F548","v":0}]
[null,".   НАКЛАДНЫЕ РАСХОДЫ -",null,null,null,{"$f":"'Базовые концовки'!F549","v":0}]
[null,".   СМЕТНАЯ ПРИБЫЛЬ -",null,null,null,{"$f":"'Базовые концовки'!F550","v":0}]
[null,"ВСЕГО, СТОИМОСТЬ РЕСТАВРАЦИОННЫХ РАБОТ -",null,null,null,{"$f":"'Базовые концовки'!F551","v":0}]
[null,"Строительные работы БЦ ЭМ",null,null,null,{"$f":"'Базовые концовки'!F552","v":-78}]
[null,"Строительные работы БЦ ЗПМ",null,null,null,{"$f":"'Базовые концовки'!F553","v":-11}]
[null,"Строительные работы ТЦ ЗП",21.324000000000002,null,null,{"$f":"'Базовые концовки'!F554","v":43181}]
[null,"Строительные работы ТЦ ЗПМ",21.324000000000002,null,null,{"$f":"'Базовые концовки'!F555","v":-235}]
[null,"Строительные работы ТЦ ЭМ",6.1520000000000001,null,null,{"$f":"'Базовые концовки'!F556","v":-480}]
[null,"Строительные работы ТЦ материалы",6.32,null,null,{"$f":"'Базовые концовки'!F557","v":105064}]
[null,"Строительные работы ТЦ НР",21.324000000000002,null,null,{"$f":"'Базовые концовки'!F558","v":63268}]
[null,"Строительные работы ТЦ СП",21.324000000000002,null,null,{"$f":"'Базовые концовки'!F559","v":36400}]
[null,"Строительные работы ТЦ всего",null,null,null,{"$f":"'Базовые концовки'!F560","v":247433}]
[null,"СТОИМОСТЬ ПЕРЕВОЗКИ ГРУЗОВ -",null,null,null,{"$f":"'Базовые концовки'!F561","v":0},{"$f":"'Базовые концовки'!G561","v":0},{"$f":"'Базовые концовки'!H561","v":0},null,{"$f":"'Базовые концовки'!J561","v":0},null,null,null,{"$f":"'Базовые концовки'!L561","v":0},null,null,null,{"$f":"'Базовые концовки'!M561","v":0}]
[null,"СТОИМОСТЬ ПОГРУЗКИ-РАЗГРУЗКИ",null,null,null,{"$f":"'Базовые концовки'!F562","v":0},{"$f":"'Базовые концовки'!G562","v":0},{"$f":"'Базовые концовки'!H562","v":0},null,{"$f":"'Базовые концовки'!J562","v":0},null,null,null,{"$f":"'Базовые концовки'!L562","v":0},null,null,null,{"$f":"'Базовые концовки'!M562","v":0}]
[null,".   В Т.Ч. НАКЛАДНЫЕ РАСХОДЫ -",null,null,null,{"$f":"'Базовые концовки'!F563","v":0}]
[null,".   В Т.Ч. СМЕТНАЯ ПРИБЫЛЬ -",null,null,null,{"$f":"'Базовые концовки'!F564","v":0}]
[null,".   НАКЛАДНЫЕ РАСХОДЫ -",null,null,null,{"$f":"'Базовые концовки'!F565","v":0}]
[null,".   СМЕТНАЯ ПРИБЫЛЬ -",null,null,null,{"$f":"'Базовые концовки'!F566","v":0}]
[null,"ВСЕГО, СТОИМОСТЬ ПЕРЕВОЗКИ ГРУЗОВ -",null,null,null,{"$f":"'Базовые концовки'!F567","v":0}]
[null,"ВСЕГО, СТОИМОСТЬ ПОГРУЗКИ-РАЗГРУЗКИ -",null,null,null,{"$f":"'Базовые концовки'!F568","v":0}]
[null,"Погрузка-разгрузка БЦ ЭМ",null,null,null,{"$f":"'Базовые концовки'!F569","v":0}]
[null,"Погрузка-разгрузка БЦ ЗПМ",null,null,null,{"$f":"'Базовые концовки'!F570","v":0}]
[null,"Погрузка-разгрузка ТЦ ЗП",null,null,null,{"$f":"'Базовые концовки'!F571","v":0}]
[null,"Погрузка-разгрузка ТЦ ЗПМ",null,null,null,{"$f":"'Базовые концовки'!F572","v":0}]
[null,"Погрузка-разгрузка ТЦ ЭМ",null,null,null,{"$f":"'Базовые концовки'!F573","v":0}]
[null,"Погрузка-разгрузка ТЦ материалы",null,null,null,{"$f":"'Базовые концовки'!F574","v":0}]
[null,"Погрузка-разгрузка ТЦ в т.ч. НР",null,null,null,{"$f":"'Базовые концовки'!F575","v":0}]
[null,"Погрузка-разгрузка ТЦ в т.ч. СП",null,null,null,{"$f":"'Базовые концовки'!F576","v":0}]
[null,"Погрузка-разгрузка ТЦ НР",null,null,null,{"$f":"'Базовые концовки'!F577","v":0}]
[null,"Погрузка-разгрузка ТЦ СП",null,null,null,{"$f":"'Базовые концовки'!F578","v":0}]
[null,"Погрузка-разгрузка ТЦ всего",null,null,null,{"$f":"'Базовые концовки'!F579","v":0}]
[null,"ПЕРЕВОЗКА (таб.6)",null,null,null,{"$f":"'Базовые концовки'!F580","v":0},{"$f":"'Базовые концовки'!G580","v":0},{"$f":"'Базовые концовки'!H580","v":0},null,{"$f":"'Базовые концовки'!J580","v":0},null,null,null,{"$f":"'Базовые концовки'!L580","v":0},null,null,null,{"$f":"'Базовые концовки'!M580","v":0}]
[null,"ПЕРЕВОЗКА (таб.7)",null,null,null,{"$f":"'Базовые концовки'!F581","v":0},{"$f":"'Базовые концовки'!G581","v":0},{"$f":"'Базовые концовки'!H581","v":0},null,{"$f":"'Базовые концовки'!J581","v":0},null,null,null,{"$f":"'Базовые концовки'!L581","v":0},null,null,null,{"$f":"'Базовые концовки'!M581","v":0}]
[null,"ПЕРЕВОЗКА (таб.8)",null,null,null,{"$f":"'Базовые концовки'!F582","v":0},{"$f":"'Базовые концовки'!G582","v":0},{"$f":"'Базовые концовки'!H582","v":0},null,{"$f":"'Базовые концовки'!J582","v":0},null,null,null,{"$f":"'Базовые концовки'!L582","v":0},null,null,null,{"$f":"'Базовые концовки'!M582","v":0}]
[null,"Перевозка (таб.6) ТЦ",null,null,null,{"$f":"'Базовые концовки'!F583","v":0}]
[null,"Перевозка (таб.7) ТЦ",null,null,null,{"$f":"'Базовые концовки'!F584","v":0}]
[null,"Перевозка (таб.8) ТЦ",null,null,null,{"$f":"'Базовые концовки'!F585","v":0}]
[null,"Перевозка ТЦ  всего",null,null,null,{"$f":"'Базовые концовки'!F586","v":0}]
[null,"СТОИМОСТЬ ПУСКОНАЛАДОЧНЫХ РАБОТ -",null,null,null,{"$f":"'Базовые концовки'!F587","v":0},{"$f":"'Базовые концовки'!G587","v":0},{"$f":"'Базовые концовки'!H587","v":0},null,{"$f":"'Базовые концовки'!J587","v":0},null,null,null,{"$f":"'Базовые концовки'!L587","v":0},null,null,null,{"$f":"'Базовые концовки'!M587","v":0}]
[null,".   НАКЛАДНЫЕ РАСХОДЫ -",null,null,null,{"$f":"'Базовые концовки'!F588","v":0}]
[null,".   СМЕТНАЯ ПРИБЫЛЬ -",null,null,null,{"$f":"'Базовые концовки'!F589","v":0}]
[null,"ВСЕГО, СТОИМОСТЬ ПУСКОНАЛАДОЧНЫХ РАБОТ -",null,null,null,{"$f":"'Базовые концовки'!F590","v":0}]
[null,"Пусконаладочные работы ТЦ ЗП",null,null,null,{"$f":"'Базовые концовки'!F591","v":0}]
[null,"Пусконаладочные работы ТЦ НР",null,null,null,{"$f":"'Базовые концовки'!F592","v":0}]
[null,"Пусконаладочные работы ТЦ СП",null,null,null,{"$f":"'Базовые концовки'!F593","v":0}]
[null,"Пусконаладочные работы ТЦ всего",null,null,null,{"$f":"'Базовые концовки'!F594","v":0}]
[null,"СТОИМОСТЬ ПРОЧИХ РАБОТ (с НР и СП) -",null,null,null,{"$f":"'Базовые концовки'!F595","v":0},{"$f":"'Базовые концовки'!G595","v":0},{"$f":"'Базовые концовки'!H595","v":0},null,{"$f":"'Базовые концовки'!J595","v":0},null,null,null,{"$f":"'Базовые концовки'!L595","v":0},null,null,null,{"$f":"'Базовые концовки'!M595","v":0}]
[null,".   СТОИМОСТЬ ВОЗВРАЩАЕМЫХ МАТЕРИАЛОВ -",null,null,null,{"$f":"'Базовые концовки'!F596","v":0}]
[null,".   НАКЛАДНЫЕ РАСХОДЫ -",null,null,null,{"$f":"'Базовые концовки'!F597","v":0}]
[null,".   СМЕТНАЯ ПРИБЫЛЬ -",null,null,null,{"$f":"'Базовые концовки'!F598","v":0}]
[null,"ВСЕГО, СТОИМОСТЬ ПРОЧИХ РАБОТ (с НР и СП) -",null,null,null,{"$f":"'Базовые концовки'!F599","v":0}]
[null,"ВСЕГО, СТОИМОСТЬ ПРОЧИХ РАБОТ (без НР и СП) -",null,null,null,{"$f":"'Базовые концовки'!F600","v":0},{"$f":"'Базовые концовки'!G600","v":0},{"$f":"'Базовые концовки'!H600","v":0},null,{"$f":"'Базовые концовки'!J600","v":0},null,null,null,{"$f":"'Базовые концовки'!L600","v":0},null,null,null,{"$f":"'Базовые концовки'!M600","v":0}]
[null,".   СТОИМОСТЬ ВОЗВРАЩАЕМЫХ МАТЕРИАЛОВ -",null,null,null,{"$f":"'Базовые концовки'!F601","v":0}]
[null,"Прочие работы БЦ ЭМ",null,null,null,{"$f":"'Базовые концовки'!F602","v":0}]
[null,"Прочие работы БЦ ЗПМ",null,null,null,{"$f":"'Базовые концовки'!F603","v":0}]
[null,"Прочие работы ТЦ ЗП",null,null,null,{"$f":"'Базовые концовки'!F604","v":0}]
[null,"Прочие работы ТЦ ЗПМ",null,null,null,{"$f":"'Базовые концовки'!F605","v":0}]
[null,"Прочие работы ТЦ ЭМ",null,null,null,{"$f":"'Базовые концовки'!F606","v":0}]
[null,"Прочие работы ТЦ материалы",null,null,null,{"$f":"'Базовые концовки'!F607","v":0}]
[null,"Прочие работы ТЦ НР",null,null,null,{"$f":"'Базовые концовки'!F608","v":0}]
[null,"Прочие работы ТЦ СП",null,null,null,{"$f":"'Базовые концовки'!F609","v":0}]
[null,"Прочие работы ТЦ всего",null,null,null,{"$f":"'Базовые концовки'!F610","v":0}]
[null,". ВСЕГО  ПО  РАЗДЕЛУ 4",null,null,null,{"$f":"'Базовые концовки'!F611","v":23245},{"$f":"'Базовые концовки'!G611","v":0},{"$f":"'Базовые концовки'!H611","v":0},null,{"$f":"'Базовые концовки'!J611","v":0},null,null,null,{"$f":"'Базовые концовки'!L611","v":0},null,null,null,{"$f":"'Базовые концовки'!M611","v":0}]
[null,"ВСЕГО СТОИМОСТЬ ВОЗВРАЩАЕМЫХ МАТЕРИАЛОВ -",null,null,null,{"$f":"'Базовые концовки'!F612","v":0}]
[null,"ВСЕГО НАКЛАДНЫЕ РАСХОДЫ",null,null,null,{"$f":"'Базовые концовки'!F613","v":2967}]
[null,"ВСЕГО НАКЛАДНЫЕ РАСХОДЫ",null,null,null,{"$f":"'Базовые концовки'!F614","v":2967}]
[null,"ВСЕГО СМЕТНАЯ ПРИБЫЛЬ",null,null,null,{"$f":"'Базовые концовки'!F615","v":1707}]
[null,"ВСЕГО СМЕТНАЯ ПРИБЫЛЬ",null,null,null,{"$f":"'Базовые концовки'!F616","v":1707}]
[null,"в т.ч. Вспомогательные материалы на монтаж",null,null,null,{"$f":"'Базовые концовки'!F617","v":0},null,null,null,null,null,null,null,{"$f":"'Базовые концовки'!L617","v":0}]
[null,"в т.ч. Вспомогательные материалы от ОЗП",null,null,null,{"$f":"'Базовые концовки'!F618","v":0}]
[null,"Оплата основных рабочих",null,null,null,{"$f":"'Базовые концовки'!F619","v":2025}]
[null,"Оплата механизаторов",null,null,null,{"$f":"'Базовые концовки'!F620","v":-11}]
[null,"Стоимость механизмов",null,null,null,{"$f":"'Базовые концовки'!F621","v":-78}]
[null,"Сметная стоимость материалов",null,null,null,{"$f":"'Базовые концовки'!F622","v":16624},null,null,null,null,null,null,null,{"$f":"'Базовые концовки'!L622","v":16624}]
[null,"Трудозатраты осн. рабочих",null,null,null,null,null,null,null,{"$f":"'Базовые концовки'!J623","v":197.21520000000001}]
[null,"Трудозатраты механизаторов",null,null,null,null,null,null,null,{"$f":"'Базовые концовки'!J624","v":-0.64680000000000004}]
[null,"Нормативная трудоемкость",null,null,null,null,null,null,null,{"$f":"'Базовые концовки'!J625","v":196.5684}]
[null,"Оплата основных рабочих ТЦ",null,null,null,{"$f":"'Базовые концовки'!F626","v":43181}]
[null,"Оплата механизаторов ТЦ",null,null,null,{"$f":"'Базовые концовки'!F627","v":-235}]
[null,"Стоимость механизмов ТЦ",null,null,null,{"$f":"'Базовые концовки'!F628","v":-480}]
[null,"Стоимость материалов ТЦ",null,null,null,{"$f":"'Базовые концовки'!F629","v":105064}]
[null,"Оборудование ТЦ",null,null,null,{"$f":"'Базовые концовки'!F630","v":0}]
[null,"Перевозка ТЦ",null,null,null,{"$f":"'Базовые концовки'!F631","v":0}]
[null,"ИТОГО ТЦ",null,null,null,{"$f":"'Базовые концовки'!F632","v":147765}]
[null,"В Т.Ч. НАКЛАДНЫЕ РАСХОДЫ ТЦ",null,null,null,{"$f":"'Базовые концовки'!F633","v":0}]
[null,"В Т.Ч. СМЕТНАЯ ПРИБЫЛЬ ТЦ",null,null,null,{"$f":"'Базовые концовки'!F634","v":0}]
[null,"НАКЛАДНЫЕ РАСХОДЫ ТЦ",null,null,null,{"$f":"'Базовые концовки'!F635","v":63268}]
[null,"СМЕТНАЯ ПРИБЫЛЬ ТЦ",null,null,null,{"$f":"'Базовые концовки'!F636","v":36400}]
[null,"ВСЕГО ТЦ",null,null,null,{"$f":"'Базовые концовки'!F637","v":247433}]
[]
[null,"Раздел 5.  Устройство тротуаров"]
[]
["30.","Е27-07-002-01\nУстройство оснований толщиной 12 см под под тротуарные бордюры из щебня фр. 0-10мм, 100 м2 дорожек и тротуаров",0.43,{"$f":"'Базовые цены за единицу'!B50","v":592.78},{"$f":"'Базовые цены за единицу'!D50","v":322.22000000000003},{"$f":"'Базовые цены с учетом расхода'!B50","v":256},{"$f":"'Базовые цены с учетом расхода'!C50","v":115},{"$f":"'Базовые цены с учетом расхода'!D50","v":139},26.24,{"$f":"'Базовые цены с учетом расхода'!I50","v":11.283200000000001},"sum","IsZPR",null,{"$f":"'Базовые цены с учетом расхода'!F50","v":2}]
[null,null,null,{"$f":"'Базовые цены за единицу'!C50","v":266.60000000000002},{"$f":"'Базовые цены за единицу'!E50","v":42.03},null,null,{"$f":"'Базовые цены с учетом расхода'!E50","v":18},3.17,{"$f":"'Базовые цены с учетом расхода'!K50","v":1.3631},"sum_b","IsZPM"]
[null,{"$f":"IF(ROUND((215*0.2)/100,5)=C1219,\"Объем: 215*0,2\",\"\")","v":"Объем: 215*0,2"}]
[null,"   Вычт.ресурсы:  С408-0391:[ М-(4660.42=267.84*17.4) ]"]
[null,"Зарплата рабочих",null,null,null,115]
[null,"Эксплуатация машин",null,null,null,139]
[null,"в т.ч. зарплата машинистов",null,null,null,18]
[null,"Материалы",null,null,null,2]
[null,"в т.ч. Вспомогательные материалы от стоимости материалов"]
[null,"в т.ч. Вспомогательные ненормируемые материалы",null,null,null,null,null,null,null,null,"NenormMatOtZPR","IsMater"]
[null,"в т.ч. Ненормированная з.п. рабочих"]
[null,"в т.ч. Ненормированная стоимость эксплуатации машин"]
[null,"в т.ч. Ненормированная оплата механизаторов"]
[null,"Накладные расходы",142,null,null,{"$f":"IF('Базовые цены с учетом расхода'!N50>0,'Базовые цены с учетом расхода'!N50,IF('Базовые цены с учетом расхода'!N50<0,'Базовые цены с учетом расхода'!N50,\"\"))","v":189},null,null,null,null,null,"Nakl"]
[null,"НР от ЗПР",142,null,null,{"$f":"IF('Базовые цены с учетом расхода'!P50>0,'Базовые цены с учетом расхода'!P50,IF('Базовые цены с учетом расхода'!P50<0,'Базовые цены с учетом расхода'!P50,\"\"))","v":163},null,null,null,null,null,"Nakl_ZPR"]
[null,"НР от ЗПМ",142,null,null,{"$f":"IF('Базовые цены с учетом расхода'!Q50>0,'Базовые цены с учетом расхода'!Q50,IF('Базовые цены с учетом расхода'!Q50<0,'Базовые цены с учетом расхода'!Q50,\"\"))","v":26},null,null,null,null,null,"Nakl_ZPM"]
[null,"Сметная прибыль",81,null,null,{"$f":"IF('Базовые цены с учетом расхода'!O50>0,'Базовые цены с учетом расхода'!O50,IF('Базовые цены с учетом расхода'!O50<0,'Базовые цены с учетом расхода'!O50,\"\"))","v":108},null,null,null,null,null,"Plan"]
[null,"СП от ЗПР",81,null,null,{"$f":"IF('Базовые цены с учетом расхода'!R50>0,'Базовые цены с учетом расхода'!R50,IF('Базовые цены с учетом расхода'!R50<0,'Базовые цены с учетом расхода'!R50,\"\"))","v":93},null,null,null,null,null,"Plan_ZPR"]
[null,"СП от ЗПМ",81,null,null,{"$f":"IF('Базовые цены с учетом расхода'!S50>0,'Базовые цены с учетом расхода'!S50,IF('Базовые цены с учетом расхода'!S50<0,'Базовые цены с учетом расхода'!S50,\"\"))","v":15},null,null,null,null,null,"Plan_ZPM"]
[]
["31.","Е27-07-002-02\nПри изменении толщины оснований на каждый 1 см исключать до толщ 10см к норме 27-07-002-1 к=-2, 100 м2 дорожек и тротуаров",-0.86,{"$f":"'Базовые цены за единицу'!B51","v":14.02},{"$f":"'Базовые цены за единицу'!D51","v":8.5299999999999994},{"$f":"'Базовые цены с учетом расхода'!B51","v":-12},{"$f":"'Базовые цены с учетом расхода'!C51","v":-5},{"$f":"'Базовые цены с учетом расхода'!D51","v":-7},0.54,{"$f":"'Базовые цены с учетом расхода'!I51","v":-0.46439999999999998},"sum","IsZPR",null,{"$f":"'Базовые цены с учетом расхода'!F51","v":0}]
[null,null,null,{"$f":"'Базовые цены за единицу'!C51","v":5.49},{"$f":"'Базовые цены за единицу'!E51","v":1.21},null,null,{"$f":"'Базовые цены с учетом расхода'!E51","v":-1},0.1,{"$f":"'Базовые цены с учетом расхода'!K51","v":-8.5999999999999993E-2},"sum_b","IsZPM"]
[null,{"$f":"IF(ROUND((-2*215*0.2)/100,5)=C1239,\"Объем: -2*215*0,2\",\"\")","v":"Объем: -2*215*0,2"}]
[null,"   Вычт.ресурсы:  С408-0391:[ М-(401.76=267.84*1.5) ]"]
[null,"Зарплата рабочих",null,null,null,-5]
[null,"Эксплуатация машин",null,null,null,-7]
[null,"в т.ч. зарплата машинистов",null,null,null,-1]
[null,"Материалы"]
[null,"в т.ч. Вспомогательные материалы от стоимости материалов"]
[null,"в т.ч. Вспомогательные ненормируемые материалы",null,null,null,null,null,null,null,null,"NenormMatOtZPR","IsMater"]
[null,"в т.ч. Ненормированная з.п. рабочих"]
[null,"в т.ч. Ненормированная стоимость эксплуатации машин"]
[null,"в т.ч. Ненормированная оплата механизаторов"]
[null,"Накладные расходы",142,null,null,{"$f":"IF('Базовые цены с учетом расхода'!N51>0,'Базовые цены с учетом расхода'!N51,IF('Базовые цены с учетом расхода'!N51<0,'Базовые цены с учетом расхода'!N51,\"\"))","v":-9},null,null,null,null,null,"Nakl"]
[null,"НР от ЗПР",142,null,null,{"$f":"IF('Базовые цены с учетом расхода'!P51>0,'Базовые цены с учетом расхода'!P51,IF('Базовые цены с учетом расхода'!P51<0,'Базовые цены с учетом расхода'!P51,\"\"))","v":-7},null,null,null,null,null,"Nakl_ZPR"]
[null,"НР от ЗПМ",142,null,null,{"$f":"IF('Базовые цены с учетом расхода'!Q51>0,'Базовые цены с учетом расхода'!Q51,IF('Базовые цены с учетом расхода'!Q51<0,'Базовые цены с учетом расхода'!Q51,\"\"))","v":-1},null,null,null,null,null,"Nakl_ZPM"]
[null,"Сметная прибыль",81,null,null,{"$f":"IF('Базовые цены с учетом расхода'!O51>0,'Базовые цены с учетом расхода'!O51,IF('Базовые цены с учетом расхода'!O51<0,'Базовые цены с учетом расхода'!O51,\"\"))","v":-5},null,null,null,null,null,"Plan"]
[null,"СП от ЗПР",81,null,null,{"$f":"IF('Базовые цены с учетом расхода'!R51>0,'Базовые цены с учетом расхода'!R51,IF('Базовые цены с учетом расхода'!R51<0,'Базовые цены с учетом расхода'!R51,\"\"))","v":-4},null,null,null,null,null,"Plan_ZPR"]
[null,"СП от ЗПМ",81,null,null,{"$f":"IF('Базовые цены с учетом расхода'!S51>0,'Базовые цены с учетом расхода'!S51,IF('Базовые цены с учетом расхода'!S51<0,'Базовые цены с учетом расхода'!S51,\"\"))","v":-1},null,null,null,null,null,"Plan_ZPM"]
[]
["32.","С Прайс \"СГМК\".\nЩебень из доменного шлака фр. 0-10 т.ч. прил. 27.2 (376,04*1,02*1,103), м3",5.42,{"$f":"'Базовые цены за единицу'!B52","v":66.94},{"$f":"'Базовые цены за единицу'!D52","v":0},{"$f":"'Базовые цены с учетом расхода'!B52","v":363},{"$f":"'Базовые цены с учетом расхода'!C52","v":0},{"$f":"'Базовые цены с учетом расхода'!D52","v":0},null,{"$f":"'Базовые цены с учетом расхода'!I52","v":0},"sum","IsZPR",null,{"$f":"'Базовые цены с учетом расхода'!F52","v":363}]
[null,null,null,{"$f":"'Базовые цены за единицу'!C52","v":0},{"$f":"'Базовые цены за единицу'!E52","v":0},null,null,{"$f":"'Базовые цены с учетом расхода'!E52","v":0},null,{"$f":"'Базовые цены с учетом расхода'!K52","v":0},"sum_b","IsZPM"]
[null,{"$f":"IF(ROUND((215*0.2*0.1*1.26)/1,2)=C1259,\"Объем: 215*0,2*0,1*1,26\",\"\")","v":"Объем: 215*0,2*0,1*1,26"}]
[null,"   Поправки: М: =376.04*1.103*1.02/6.32"]
[null,"Зарплата рабочих"]
[null,"Эксплуатация машин"]
[null,"в т.ч. зарплата машинистов"]
[null,"Материалы",null,null,null,363]
[null,"в т.ч. Вспомогательные материалы от стоимости материалов"]
[null,"в т.ч. Вспомогательные ненормируемые материалы",null,null,null,null,null,null,null,null,"NenormMatOtZPR","IsMater"]
[null,"в т.ч. Ненормированная з.п. рабочих"]
[null,"в т.ч. Ненормированная стоимость эксплуатации машин"]
[null,"в т.ч. Ненормированная оплата механизаторов"]
[null,"Накладные расходы",null,null,null,{"$f":"IF('Базовые цены с учетом расхода'!N52>0,'Базовые цены с учетом расхода'!N52,IF('Базовые цены с учетом расхода'!N52<0,'Базовые цены с учетом расхода'!N52,\"\"))","v":""},null,null,null,null,null,"Nakl"]
[null,"НР от ЗПР",null,null,null,{"$f":"IF('Базовые цены с учетом расхода'!P52>0,'Базовые цены с учетом расхода'!P52,IF('Базовые цены с учетом расхода'!P52<0,'Базовые цены с учетом расхода'!P52,\"\"))","v":""},null,null,null,null,null,"Nakl_ZPR"]
[null,"НР от ЗПМ",null,null,null,{"$f":"IF('Базовые цены с учетом расхода'!Q52>0,'Базовые цены с учетом расхода'!Q52,IF('Базовые цены с учетом расхода'!Q52<0,'Базовые цены с учетом расхода'!Q52,\"\"))","v":""},null,null,null,null,null,"Nakl_ZPM"]
[null,"Сметная прибыль",null,null,null,{"$f":"IF('Базовые цены с учетом расхода'!O52>0,'Базовые цены с учетом расхода'!O52,IF('Базовые цены с учетом расхода'!O52<0,'Базовые цены с учетом расхода'!O52,\"\"))","v":""},null,null,null,null,null,"Plan"]
[null,"СП от ЗПР",null,null,null,{"$f":"IF('Базовые цены с учетом расхода'!R52>0,'Базовые цены с учетом расхода'!R52,IF('Базовые цены с учетом расхода'!R52<0,'Базовые цены с учетом расхода'!R52,\"\"))","v":""},null,null,null,null,null,"Plan_ZPR"]
[null,"СП от ЗПМ",null,null,null,{"$f":"IF('Базовые цены с учетом расхода'!S52>0,'Базовые цены с учетом расхода'!S52,IF('Базовые цены с учетом расхода'!S52<0,'Базовые цены с учетом расхода'!S52,\"\"))","v":""},null,null,null,null,null,"Plan_ZPM"]
[]
["33.","Е27-07-002-01\nУстройство оснований толщиной 12 см под тротуары из кирпичного или известнякового щебня фр. 0-10мм, 100 м2 дорожек и тротуаров",4.12,{"$f":"'Базовые цены за единицу'!B53","v":592.78},{"$f":"'Базовые цены за единицу'!D53","v":322.22000000000003},{"$f":"'Базовые цены с учетом расхода'!B53","v":2442},{"$f":"'Базовые цены с учетом расхода'!C53","v":1098},{"$f":"'Базовые цены с учетом расхода'!D53","v":1328},26.24,{"$f":"'Базовые цены с учетом расхода'!I53","v":108.1088},"sum","IsZPR",null,{"$f":"'Базовые цены с учетом расхода'!F53","v":16}]
[null,null,null,{"$f":"'Базовые цены за единицу'!C53","v":266.60000000000002},{"$f":"'Базовые цены за единицу'!E53","v":42.03},null,null,{"$f":"'Базовые цены с учетом расхода'!E53","v":173},3.17,{"$f":"'Базовые цены с учетом расхода'!K53","v":13.0604},"sum_b","IsZPM"]
[null,"   Вычт.ресурсы:  С408-0391:[ М-(4660.42=267.84*17.4) ]"]
[null,"Зарплата рабочих",null,null,null,1098]
[null,"Эксплуатация машин",null,null,null,1328]
[null,"в т.ч. зарплата машинистов",null,null,null,173]
[null,"Материалы",null,null,null,16]
[null,"в т.ч. Вспомогательные материалы от стоимости материалов"]
[null,"в т.ч. Вспомогательные ненормируемые материалы",null,null,null,null,null,null,null,null,"NenormMatOtZPR","IsMater"]
[null,"в т.ч. Ненормированная з.п. рабочих"]
[null,"в т.ч. Ненормированная стоимость эксплуатации машин"]
[null,"в т.ч. Ненормированная оплата механизаторов"]
[null,"Накладные расходы",142,null,null,{"$f":"IF('Базовые цены с учетом расхода'!N53>0,'Базовые цены с учетом расхода'!N53,IF('Базовые цены с учетом расхода'!N53<0,'Базовые цены с учетом расхода'!N53,\"\"))","v":1805},null,null,null,null,null,"Nakl"]
[null,"НР от ЗПР",142,null,null,{"$f":"IF('Базовые цены с учетом расхода'!P53>0,'Базовые цены с учетом расхода'!P53,IF('Базовые цены с учетом расхода'!P53<0,'Базовые цены с учетом расхода'!P53,\"\"))","v":1560},null,null,null,null,null,"Nakl_ZPR"]
[null,"НР от ЗПМ",142,null,null,{"$f":"IF('Базовые цены с учетом расхода'!Q53>0,'Базовые цены с учетом расхода'!Q53,IF('Базовые цены с учетом расхода'!Q53<0,'Базовые цены с учетом расхода'!Q53,\"\"))","v":246},null,null,null,null,null,"Nakl_ZPM"]
[null,"Сметная прибыль",81,null,null,{"$f":"IF('Базовые цены с учетом расхода'!O53>0,'Базовые цены с учетом расхода'!O53,IF('Базовые цены с учетом расхода'!O53<0,'Базовые цены с учетом расхода'!O53,\"\"))","v":1030},null,null,null,null,null,"Plan"]
[null,"СП от ЗПР",81,null,null,{"$f":"IF('Базовые цены с учетом расхода'!R53>0,'Базовые цены с учетом расхода'!R53,IF('Базовые цены с учетом расхода'!R53<0,'Базовые цены с учетом расхода'!R53,\"\"))","v":890},null,null,null,null,null,"Plan_ZPR"]
[null,"СП от ЗПМ",81,null,null,{"$f":"IF('Базовые цены с учетом расхода'!S53>0,'Базовые цены с учетом расхода'!S53,IF('Базовые цены с учетом расхода'!S53<0,'Базовые цены с учетом расхода'!S53,\"\"))","v":140},null,null,null,null,null,"Plan_ZPM"]
[]
["34.","Е27-07-002-02\nПри изменении толщины оснований на каждый 1 см исключать до толщ 10см к норме 27-07-002-1 к=-2, 100 м2 дорожек и тротуаров",-8.24,{"$f":"'Базовые цены за единицу'!B54","v":14.02},{"$f":"'Базовые цены за единицу'!D54","v":8.5299999999999994},{"$f":"'Базовые цены с учетом расхода'!B54","v":-115},{"$f":"'Базовые цены с учетом расхода'!C54","v":-45},{"$f":"'Базовые цены с учетом расхода'!D54","v":-70},0.54,{"$f":"'Базовые цены с учетом расхода'!I54","v":-4.4496000000000002},"sum","IsZPR",null,{"$f":"'Базовые цены с учетом расхода'!F54","v":0}]
[null,null,null,{"$f":"'Базовые цены за единицу'!C54","v":5.49},{"$f":"'Базовые цены за единицу'!E54","v":1.21},null,null,{"$f":"'Базовые цены с учетом расхода'!E54","v":-10},0.1,{"$f":"'Базовые цены с учетом расхода'!K54","v":-0.82399999999999995},"sum_b","IsZPM"]
[null,{"$f":"IF(ROUND((-2*412)/100,5)=C1298,\"Объем: -2*412\",\"\")","v":"Объем: -2*412"}]
[null,"   Вычт.ресурсы:  С408-0391:[ М-(401.76=267.84*1.5) ]"]
[null,"Зарплата рабочих",null,null,null,-45]
[null,"Эксплуатация машин",null,null,null,-70]
[null,"в т.ч. зарплата машинистов",null,null,null,-10]
[null,"Материалы"]
[null,"в т.ч. Вспомогательные материалы от стоимости материалов"]
[null,"в т.ч. Вспомогательные ненормируемые материалы",null,null,null,null,null,null,null,null,"NenormMatOtZPR","IsMater"]
[null,"в т.ч. Ненормированная з.п. рабочих"]
[null,"в т.ч. Ненормированная стоимость эксплуатации машин"]
[null,"в т.ч. Ненормированная оплата механизаторов"]
[null,"Накладные расходы",142,null,null,{"$f":"IF('Базовые цены с учетом расхода'!N54>0,'Базовые цены с учетом расхода'!N54,IF('Базовые цены с учетом расхода'!N54<0,'Базовые цены с учетом расхода'!N54,\"\"))","v":-78},null,null,null,null,null,"Nakl"]
[null,"НР от ЗПР",142,null,null,{"$f":"IF('Базовые цены с учетом расхода'!P54>0,'Базовые цены с учетом расхода'!P54,IF('Базовые цены с учетом расхода'!P54<0,'Базовые цены с учетом расхода'!P54,\"\"))","v":-64},null,null,null,null,null,"Nakl_ZPR"]
[null,"НР от ЗПМ",142,null,null,{"$f":"IF('Базовые цены с учетом расхода'!Q54>0,'Базовые цены с учетом расхода'!Q54,IF('Базовые цены с учетом расхода'!Q54<0,'Базовые цены с учетом расхода'!Q54,\"\"))","v":-14},null,null,null,null,null,"Nakl_ZPM"]
[null,"Сметная прибыль",81,null,null,{"$f":"IF('Базовые цены с учетом расхода'!O54>0,'Базовые цены с учетом расхода'!O54,IF('Базовые цены с учетом расхода'!O54<0,'Базовые цены с учетом расхода'!O54,\"\"))","v":-45},null,null,null,null,null,"Plan"]
[null,"СП от ЗПР",81,null,null,{"$f":"IF('Базовые цены с учетом расхода'!R54>0,'Базовые цены с учетом расхода'!R54,IF('Базовые цены с учетом расхода'!R54<0,'Базовые цены с учетом расхода'!R54,\"\"))","v":-37},null,null,null,null,null,"Plan_ZPR"]
[null,"СП от ЗПМ",81,null,null,{"$f":"IF('Базовые цены с учетом расхода'!S54>0,'Базовые цены с учетом расхода'!S54,IF('Базовые цены с учетом расхода'!S54<0,'Базовые цены с учетом расхода'!S54,\"\"))","v":-8},null,null,null,null,null,"Plan_ZPM"]
[]
["35.","С Прайс \"СГМК\".\nЩебень из доменного шлака фр. 0-10 т.ч. прил. 27.2 (376,04*1,02*1,103), м3",51.91,{"$f":"'Базовые цены за единицу'!B55","v":66.94},{"$f":"'Базовые цены за единицу'!D55","v":0},{"$f":"'Базовые цены с учетом расхода'!B55","v":3475},{"$f":"'Базовые цены с учетом расхода'!C55","v":0},{"$f":"'Базовые цены с учетом расхода'!D55","v":0},null,{"$f":"'Базовые цены с учетом расхода'!I55","v":0},"sum","IsZPR",null,{"$f":"'Базовые цены с учетом расхода'!F55","v":3475}]
[null,null,null,{"$f":"'Базовые цены за единицу'!C55","v":0},{"$f":"'Базовые цены за единицу'!E55","v":0},null,null,{"$f":"'Базовые цены с учетом расхода'!E55","v":0},null,{"$f":"'Базовые цены с учетом расхода'!K55","v":0},"sum_b","IsZPM"]
[null,{"$f":"IF(ROUND((412*0.1*1.26)/1,2)=C1318,\"Объем: 412*0,1*1,26\",\"\")","v":"Объем: 412*0,1*1,26"}]
[null,"   Поправки: М: =376.04*1.103*1.02/6.32"]
[null,"Зарплата рабочих"]
[null,"Эксплуатация машин"]
[null,"в т.ч. зарплата машинистов"]
[null,"Материалы",null,null,null,3475]
[null,"в т.ч. Вспомогательные материалы от стоимости материалов"]
[null,"в т.ч. Вспомогательные ненормируемые материалы",null,null,null,null,null,null,null,null,"NenormMatOtZPR","IsMater"]
[null,"в т.ч. Ненормированная з.п. рабочих"]
[null,"в т.ч. Ненормированная стоимость эксплуатации машин"]
[null,"в т.ч. Ненормированная оплата механизаторов"]
[null,"Накладные расходы",null,null,null,{"$f":"IF('Базовые цены с учетом расхода'!N55>0,'Базовые цены с учетом расхода'!N55,IF('Базовые цены с учетом расхода'!N55<0,'Базовые цены с учетом расхода'!N55,\"\"))","v":""},null,null,null,null,null,"Nakl"]
[null,"НР от ЗПР",null,null,null,{"$f":"IF('Базовые цены с учетом расхода'!P55>0,'Базовые цены с учетом расхода'!P55,IF('Базовые цены с учетом расхода'!P55<0,'Базовые цены с учетом расхода'!P55,\"\"))","v":""},null,null,null,null,null,"Nakl_ZPR"]
[null,"НР от ЗПМ",null,null,null,{"$f":"IF('Базовые цены с учетом расхода'!Q55>0,'Базовые цены с учетом расхода'!Q55,IF('Базовые цены с учетом расхода'!Q55<0,'Базовые цены с учетом расхода'!Q55,\"\"))","v":""},null,null,null,null,null,"Nakl_ZPM"]
[null,"Сметная прибыль",null,null,null,{"$f":"IF('Базовые цены с учетом расхода'!O55>0,'Базовые цены с учетом расхода'!O55,IF('Базовые цены с учетом расхода'!O55<0,'Базовые цены с учетом расхода'!O55,\"\"))","v":""},null,null,null,null,null,"Plan"]
[null,"СП от ЗПР",null,null,null,{"$f":"IF('Базовые цены с учетом расхода'!R55>0,'Базовые цены с учетом расхода'!R55,IF('Базовые цены с учетом расхода'!R55<0,'Базовые цены с учетом расхода'!R55,\"\"))","v":""},null,null,null,null,null,"Plan_ZPR"]
[null,"СП от ЗПМ",null,null,null,{"$f":"IF('Базовые цены с учетом расхода'!S55>0,'Базовые цены с учетом расхода'!S55,IF('Базовые цены с учетом расхода'!S55<0,'Базовые цены с учетом расхода'!S55,\"\"))","v":""},null,null,null,null,null,"Plan_ZPM"]
[]
["36.","Е27-07-001-04\nУстройство асфальтобетонных покрытий дорожек и тротуаров двухслойных верхний слой из песчаной асфальтобетонной смеси толщиной 3 см, 100 м2 покрытия",4.12,{"$f":"'Базовые цены за единицу'!B56","v":304.01},{"$f":"'Базовые цены за единицу'!D56","v":73.39},{"$f":"'Базовые цены с учетом расхода'!B56","v":1252},{"$f":"'Базовые цены с учетом расхода'!C56","v":486},{"$f":"'Базовые цены с учетом расхода'!D56","v":302},10.210000000000001,{"$f":"'Базовые цены с учетом расхода'!I56","v":42.065199999999997},"sum","IsZPR",null,{"$f":"'Базовые цены с учетом расхода'!F56","v":464}]
[null,null,null,{"$f":"'Базовые цены за единицу'!C56","v":118.03},{"$f":"'Базовые цены за единицу'!E56","v":0.32},null,null,{"$f":"'Базовые цены с учетом расхода'!E56","v":1},0.02,{"$f":"'Базовые цены с учетом расхода'!K56","v":8.2400000000000001E-2},"sum_b","IsZPM"]
[null,"   Вычт.ресурсы:  С410-0054:[ М-(3940.42=551.88*7.14) ]"]
[null,"Зарплата рабочих",null,null,null,486]
[null,"Эксплуатация машин",null,null,null,302]
[null,"в т.ч. зарплата машинистов",null,null,null,1]
[null,"Материалы",null,null,null,464]
[null,"в т.ч. Вспомогательные материалы от стоимости материалов"]
[null,"в т.ч. Вспомогательные ненормируемые материалы",null,null,null,null,null,null,null,null,"NenormMatOtZPR","IsMater"]
[null,"в т.ч. Ненормированная з.п. рабочих"]
[null,"в т.ч. Ненормированная стоимость эксплуатации машин"]
[null,"в т.ч. Ненормированная оплата механизаторов"]
[null,"Накладные расходы",142,null,null,{"$f":"IF('Базовые цены с учетом расхода'!N56>0,'Базовые цены с учетом расхода'!N56,IF('Базовые цены с учетом расхода'!N56<0,'Базовые цены с учетом расхода'!N56,\"\"))","v":692},null,null,null,null,null,"Nakl"]
[null,"НР от ЗПР",142,null,null,{"$f":"IF('Базовые цены с учетом расхода'!P56>0,'Базовые цены с учетом расхода'!P56,IF('Базовые цены с учетом расхода'!P56<0,'Базовые цены с учетом расхода'!P56,\"\"))","v":691},null,null,null,null,null,"Nakl_ZPR"]
[null,"НР от ЗПМ",142,null,null,{"$f":"IF('Базовые цены с учетом расхода'!Q56>0,'Базовые цены с учетом расхода'!Q56,IF('Базовые цены с учетом расхода'!Q56<0,'Базовые цены с учетом расхода'!Q56,\"\"))","v":2},null,null,null,null,null,"Nakl_ZPM"]
[null,"Сметная прибыль",81,null,null,{"$f":"IF('Базовые цены с учетом расхода'!O56>0,'Базовые цены с учетом расхода'!O56,IF('Базовые цены с учетом расхода'!O56<0,'Базовые цены с учетом расхода'!O56,\"\"))","v":394},null,null,null,null,null,"Plan"]
[null,"СП от ЗПР",81,null,null,{"$f":"IF('Базовые цены с учетом расхода'!R56>0,'Базовые цены с учетом расхода'!R56,IF('Базовые цены с учетом расхода'!R56<0,'Базовые цены с учетом расхода'!R56,\"\"))","v":394},null,null,null,null,null,"Plan_ZPR"]
[null,"СП от ЗПМ",81,null,null,{"$f":"IF('Базовые цены с учетом расхода'!S56>0,'Базовые цены с учетом расхода'!S56,IF('Базовые цены с учетом расхода'!S56<0,'Базовые цены с учетом расхода'!S56,\"\"))","v":1},null,null,null,null,null,"Plan_ZPM"]
[]
["37.","Е27-07-001-02\n(прим.)\nУстройство асфальтобетонных покрытий дорожек и тротуаров однослойных из литой мелкозернистой асфальто-бетонной смеси толщиной: при изменении толщины покрытия на 0,5 см добавлять к норме 07-001-1 до толщ. 4см к=2, 100 м2 покрытия",8.24,{"$f":"'Базовые цены за единицу'!B57","v":37.64},{"$f":"'Базовые цены за единицу'!D57","v":11.75},{"$f":"'Базовые цены с учетом расхода'!B57","v":310},{"$f":"'Базовые цены с учетом расхода'!C57","v":213},{"$f":"'Базовые цены с учетом расхода'!D57","v":97},2.3199999999999998,{"$f":"'Базовые цены с учетом расхода'!I57","v":19.116800000000001},"sum","IsZPR",null,{"$f":"'Базовые цены с учетом расхода'!F57","v":0}]
[null,null,null,{"$f":"'Базовые цены за единицу'!C57","v":25.89},{"$f":"'Базовые цены за единицу'!E57","v":0},null,null,{"$f":"'Базовые цены с учетом расхода'!E57","v":0},null,{"$f":"'Базовые цены с учетом расхода'!K57","v":0},"sum_b","IsZPM"]
[null,{"$f":"IF(ROUND((2*412)/100,5)=C1357,\"Объем: 2*412\",\"\")","v":"Объем: 2*412"}]
[null,"   Вычт.ресурсы:  С410-0054:[ М-(667.77=551.88*1.21) ]"]
[null,"Зарплата рабочих",null,null,null,213]
[null,"Эксплуатация машин",null,null,null,97]
[null,"в т.ч. зарплата машинистов"]
[null,"Материалы"]
[null,"в т.ч. Вспомогательные материалы от стоимости материалов"]
[null,"в т.ч. Вспомогательные ненормируемые материалы",null,null,null,null,null,null,null,null,"NenormMatOtZPR","IsMater"]
[null,"в т.ч. Ненормированная з.п. рабочих"]
[null,"в т.ч. Ненормированная стоимость эксплуатации машин"]
[null,"в т.ч. Ненормированная оплата механизаторов"]
[null,"Накладные расходы",142,null,null,{"$f":"IF('Базовые цены с учетом расхода'!N57>0,'Базовые цены с учетом расхода'!N57,IF('Базовые цены с учетом расхода'!N57<0,'Базовые цены с учетом расхода'!N57,\"\"))","v":302},null,null,null,null,null,"Nakl"]
[null,"НР от ЗПР",142,null,null,{"$f":"IF('Базовые цены с учетом расхода'!P57>0,'Базовые цены с учетом расхода'!P57,IF('Базовые цены с учетом расхода'!P57<0,'Базовые цены с учетом расхода'!P57,\"\"))","v":303},null,null,null,null,null,"Nakl_ZPR"]
[null,"НР от ЗПМ",null,null,null,{"$f":"IF('Базовые цены с учетом расхода'!Q57>0,'Базовые цены с учетом расхода'!Q57,IF('Базовые цены с учетом расхода'!Q57<0,'Базовые цены с учетом расхода'!Q57,\"\"))","v":""},null,null,null,null,null,"Nakl_ZPM"]
[null,"Сметная прибыль",81,null,null,{"$f":"IF('Базовые цены с учетом расхода'!O57>0,'Базовые цены с учетом расхода'!O57,IF('Базовые цены с учетом расхода'!O57<0,'Базовые цены с учетом расхода'!O57,\"\"))","v":173},null,null,null,null,null,"Plan"]
[null,"СП от ЗПР",81,null,null,{"$f":"IF('Базовые цены с учетом расхода'!R57>0,'Базовые цены с учетом расхода'!R57,IF('Базовые цены с учетом расхода'!R57<0,'Базовые цены с учетом расхода'!R57,\"\"))","v":173},null,null,null,null,null,"Plan_ZPR"]
[null,"СП от ЗПМ",null,null,null,{"$f":"IF('Базовые цены с учетом расхода'!S57>0,'Базовые цены с учетом расхода'!S57,IF('Базовые цены с учетом расхода'!S57<0,'Базовые цены с учетом расхода'!S57,\"\"))","v":""},null,null,null,null,null,"Plan_ZPM"]
[]
["38.","С410-0006\nАсфальтобетонные смеси дорожные, аэродромные и асфальтобетон (горячие и теплые для плотного асфальтобетона мелко и крупнозернистые, песчаные), марка II, тип Б, т",39.39,{"$f":"'Базовые цены за единицу'!B58","v":570.70000000000005},{"$f":"'Базовые цены за единицу'!D58","v":0},{"$f":"'Базовые цены с учетом расхода'!B58","v":22480},{"$f":"'Базовые цены с учетом расхода'!C58","v":0},{"$f":"'Базовые цены с учетом расхода'!D58","v":0},null,{"$f":"'Базовые цены с учетом расхода'!I58","v":0},"sum","IsZPR",null,{"$f":"'Базовые цены с учетом расхода'!F58","v":22480}]
[null,null,null,{"$f":"'Базовые цены за единицу'!C58","v":0},{"$f":"'Базовые цены за единицу'!E58","v":0},null,null,{"$f":"'Базовые цены с учетом расхода'!E58","v":0},null,{"$f":"'Базовые цены с учетом расхода'!K58","v":0},"sum_b","IsZPM"]
[null,{"$f":"IF(ROUND(((7.14+1.21*2)*4.12)/1,2)=C1377,\"Объем: (7,14+1,21*2)*4,12\",\"\")","v":"Объем: (7,14+1,21*2)*4,12"}]
[null,"Зарплата рабочих"]
[null,"Эксплуатация машин"]
[null,"в т.ч. зарплата машинистов"]
[null,"Материалы",null,null,null,22480]
[null,"в т.ч. Вспомогательные материалы от стоимости материалов"]
[null,"в т.ч. Вспомогательные ненормируемые материалы",null,null,null,null,null,null,null,null,"NenormMatOtZPR","IsMater"]
[null,"в т.ч. Ненормированная з.п. рабочих"]
[null,"в т.ч. Ненормированная стоимость эксплуатации машин"]
[null,"в т.ч. Ненормированная оплата механизаторов"]
[null,"Накладные расходы",null,null,null,{"$f":"IF('Базовые цены с учетом расхода'!N58>0,'Базовые цены с учетом расхода'!N58,IF('Базовые цены с учетом расхода'!N58<0,'Базовые цены с учетом расхода'!N58,\"\"))","v":""},null,null,null,null,null,"Nakl"]
[null,"НР от ЗПР",null,null,null,{"$f":"IF('Базовые цены с учетом расхода'!P58>0,'Базовые цены с учетом расхода'!P58,IF('Базовые цены с учетом расхода'!P58<0,'Базовые цены с учетом расхода'!P58,\"\"))","v":""},null,null,null,null,null,"Nakl_ZPR"]
[null,"НР от ЗПМ",null,null,null,{"$f":"IF('Базовые цены с учетом расхода'!Q58>0,'Базовые цены с учетом расхода'!Q58,IF('Базовые цены с учетом расхода'!Q58<0,'Базовые цены с учетом расхода'!Q58,\"\"))","v":""},null,null,null,null,null,"Nakl_ZPM"]
[null,"Сметная прибыль",null,null,null,{"$f":"IF('Базовые цены с учетом расхода'!O58>0,'Базовые цены с учетом расхода'!O58,IF('Базовые цены с учетом расхода'!O58<0,'Базовые цены с учетом расхода'!O58,\"\"))","v":""},null,null,null,null,null,"Plan"]
[null,"СП от ЗПР",null,null,null,{"$f":"IF('Базовые цены с учетом расхода'!R58>0,'Базовые цены с учетом расхода'!R58,IF('Базовые цены с учетом расхода'!R58<0,'Базовые цены с учетом расхода'!R58,\"\"))","v":""},null,null,null,null,null,"Plan_ZPR"]
[null,"СП от ЗПМ",null,null,null,{"$f":"IF('Базовые цены с учетом расхода'!S58>0,'Базовые цены с учетом расхода'!S58,IF('Базовые цены с учетом расхода'!S58<0,'Базовые цены с учетом расхода'!S58,\"\"))","v":""},null,null,null,null,null,"Plan_ZPM"]
[]
[null,".    ИТОГО  ПО  РАЗДЕЛУ 5",null,null,null,{"$f":"'Базовые концовки'!F642","v":30451},{"$f":"'Базовые концовки'!G642","v":1862},{"$f":"'Базовые концовки'!H642","v":1789},null,{"$f":"'Базовые концовки'!J642","v":175.66},null,null,null,{"$f":"'Базовые концовки'!L642","v":26800},null,null,null,{"$f":"'Базовые концовки'!M642","v":0}]
[null,null,null,null,null,null,null,{"$f":"'Базовые концовки'!I642","v":181},null,{"$f":"'Базовые концовки'!K642","v":13.5959}]
[null,"СТОИМОСТЬ ОБОРУДОВАНИЯ -",null,null,null,{"$f":"'Базовые концовки'!F643","v":0},{"$f":"'Базовые концовки'!G643","v":0},{"$f":"'Базовые концовки'!H643","v":0},null,{"$f":"'Базовые концовки'!J643","v":0},null,null,null,{"$f":"'Базовые концовки'!L643","v":0},null,null,null,{"$f":"'Базовые концовки'!M643","v":0}]
[null,".   ЗАПАСНЫЕ ЧАСТИ -",null,null,null,{"$f":"'Базовые концовки'!F644","v":0}]
[null,".   ТАРА И УПАКОВКА -",null,null,null,{"$f":"'Базовые концовки'!F645","v":0}]
[null,".   ТРАНСПОРТНЫЕ РАСХОДЫ -",null,null,null,{"$f":"'Базовые концовки'!F646","v":0}]
[null,".   КОМПЛЕКТАЦИЯ -",null,null,null,{"$f":"'Базовые концовки'!F647","v":0}]
[null,".   НАЦЕНКА СНАБА -",null,null,null,{"$f":"'Базовые концовки'!F648","v":0}]
[null,".   ЗАГОТОВИТЕЛЬНО-СКЛАДСКИЕ РАСХОДЫ -",null,null,null,{"$f":"'Базовые концовки'!F649","v":0}]
[null,". ШЕФМОНТАЖ ПО ОБОРУДОВАНИЮ -",null,null,null,{"$f":"'Базовые концовки'!F650","v":0}]
[null,". ШЕФМОНТАЖ -",null,null,null,{"$f":"'Базовые концовки'!F651","v":0}]
[null,"ВСЕГО, СТОИМОСТЬ ОБОРУДОВАНИЯ -",null,null,null,{"$f":"'Базовые концовки'!F652","v":0}]
[null,"Оборудование ТЦ",null,null,null,{"$f":"'Базовые концовки'!F653","v":0}]
[null,"СТОИМОСТЬ МОНТАЖНЫХ РАБОТ -",null,null,null,{"$f":"'Базовые концовки'!F654","v":0},{"$f":"'Базовые концовки'!G654","v":0},{"$f":"'Базовые концовки'!H654","v":0},null,{"$f":"'Базовые концовки'!J654","v":0},null,null,null,{"$f":"'Базовые концовки'!L654","v":0},null,null,null,{"$f":"'Базовые концовки'!M654","v":0}]
[null,".     В ТОМ ЧИСЛЕ:"]
[null,". ОТКЛОНЕНИЕ ПО ЗАРАБОТНОЙ ПЛАТЕ -",null,null,null,null,{"$f":"'Базовые концовки'!G656","v":0}]
[null,". КОСВЕННЫЕ РАСХОДЫ -",null,null,null,{"$f":"'Базовые концовки'!F657","v":0}]
[null,". МАТЕРИАЛЬНЫЕ РЕСУРСЫ НЕ УЧТЕННЫЕ В РАСЦЕНКАХ -",null,null,null,{"$f":"'Базовые концовки'!F658","v":0}]
[null,".   СТОИМОСТЬ ВОЗВРАЩАЕМЫХ МАТЕРИАЛОВ -",null,null,null,{"$f":"'Базовые концовки'!F659","v":0}]
[null,".   НАКЛАДНЫЕ РАСХОДЫ -",null,null,null,{"$f":"'Базовые концовки'!F660","v":0}]
[null,".   СМЕТНАЯ ПРИБЫЛЬ -",null,null,null,{"$f":"'Базовые концовки'!F661","v":0}]
[null,". ШЕФМОНТАЖ -",null,null,null,{"$f":"'Базовые концовки'!F662","v":0}]
[null,"ВСЕГО, СТОИМОСТЬ МОНТАЖНЫХ РАБОТ -",null,null,null,{"$f":"'Базовые концовки'!F663","v":0}]
[null,"Монтажные работы БЦ ЭМ",null,null,null,{"$f":"'Базовые концовки'!F664","v":0}]
[null,"Монтажные работы БЦ ЗПМ",null,null,null,{"$f":"'Базовые концовки'!F665","v":0}]
[null,"Монтажные работы ТЦ ЗП",null,null,null,{"$f":"'Базовые концовки'!F666","v":0}]
[null,"Монтажные работы ТЦ ЗПМ",null,null,null,{"$f":"'Базовые концовки'!F667","v":0}]
[null,"Монтажные работы ТЦ ЭМ",null,null,null,{"$f":"'Базовые концовки'!F668","v":0}]
[null,"Монтажные работы ТЦ материалы",null,null,null,{"$f":"'Базовые концовки'!F669","v":0}]
[null,"Монтажные работы ТЦ НР",null,null,null,{"$f":"'Базовые концовки'!F670","v":0}]
[null,"Монтажные работы ТЦ СП",null,null,null,{"$f":"'Базовые концовки'!F671","v":0}]
[null,"Монтажные работы ТЦ всего",null,null,null,{"$f":"'Базовые концовки'!F672","v":0}]
[null,"СТОИМОСТЬ ОБЩЕСТРОИТЕЛЬНЫХ РАБОТ -",null,null,null,{"$f":"'Базовые концовки'!F673","v":30451},{"$f":"'Базовые концовки'!G673","v":1862},{"$f":"'Базовые концовки'!H673","v":1789},null,{"$f":"'Базовые концовки'!J673","v":175.66},null,null,null,{"$f":"'Базовые концовки'!L673","v":26800},null,null,null,{"$f":"'Базовые концовки'!M673","v":0}]
[null,null,null,null,null,null,null,{"$f":"'Базовые концовки'!I673","v":181},null,{"$f":"'Базовые концовки'!K673","v":13.5959}]
[null,".     В ТОМ ЧИСЛЕ:"]
[null,".       МАТЕРИАЛОВ -",null,null,null,{"$f":"'Базовые концовки'!F675","v":22480}]
[null,".   СТОИМОСТЬ ВОЗВРАЩАЕМЫХ МАТЕРИАЛОВ -",null,null,null,{"$f":"'Базовые концовки'!F676","v":0}]
[null,".   НАКЛАДНЫЕ РАСХОДЫ - (%=142 - по стр. 30, 31, 33, 34, 36, 37)",null,null,null,{"$f":"'Базовые концовки'!F677","v":2901}]
[null,".   СМЕТНАЯ ПРИБЫЛЬ - (%=81 - по стр. 30, 31, 33, 34, 36, 37)",null,null,null,{"$f":"'Базовые концовки'!F678","v":1655}]
[null,"ВСЕГО, СТОИМОСТЬ ОБЩЕСТРОИТЕЛЬНЫХ РАБОТ -",null,null,null,{"$f":"'Базовые концовки'!F679","v":35007}]
[null,"СТОИМОСТЬ МЕТАЛЛОМОНТАЖНЫХ РАБОТ -",null,null,null,{"$f":"'Базовые концовки'!F680","v":0},{"$f":"'Базовые концовки'!G680","v":0},{"$f":"'Базовые концовки'!H680","v":0},null,{"$f":"'Базовые концовки'!J680","v":0},null,null,null,{"$f":"'Базовые концовки'!L680","v":0},null,null,null,{"$f":"'Базовые концовки'!M680","v":0}]
[null,".   СТОИМОСТЬ ВОЗВРАЩАЕМЫХ МАТЕРИАЛОВ -",null,null,null,{"$f":"'Базовые концовки'!F681","v":0}]
[null,".   НАКЛАДНЫЕ РАСХОДЫ -",null,null,null,{"$f":"'Базовые концовки'!F682","v":0}]
[null,".   СМЕТНАЯ ПРИБЫЛЬ -",null,null,null,{"$f":"'Базовые концовки'!F683","v":0}]
[null,"ВСЕГО, СТОИМОСТЬ МЕТАЛЛОМОНТАЖНЫХ РАБОТ -",null,null,null,{"$f":"'Базовые концовки'!F684","v":0}]
[null,"СТОИМОСТЬ САНТЕХНИЧЕСКИХ РАБОТ -",null,null,null,{"$f":"'Базовые концовки'!F685","v":0},{"$f":"'Базовые концовки'!G685","v":0},{"$f":"'Базовые концовки'!H685","v":0},null,{"$f":"'Базовые концовки'!J685","v":0},null,null,null,{"$f":"'Базовые концовки'!L685","v":0},null,null,null,{"$f":"'Базовые концовки'!M685","v":0}]
[null,".     В ТОМ ЧИСЛЕ:"]
[null,". СДАЧА И ИСПЫТАНИЕ -",null,null,null,{"$f":"'Базовые концовки'!F687","v":0},{"$f":"'Базовые концовки'!G687","v":0},{"$f":"'Базовые концовки'!H687","v":0},null,{"$f":"'Базовые концовки'!J687","v":0},null,null,null,{"$f":"'Базовые концовки'!L687","v":0},null,null,null,{"$f":"'Базовые концовки'!M687","v":0}]
[null,".   СТОИМОСТЬ ВОЗВРАЩАЕМЫХ МАТЕРИАЛОВ -",null,null,null,{"$f":"'Базовые концовки'!F688","v":0}]
[null,".   НАКЛАДНЫЕ РАСХОДЫ -",null,null,null,{"$f":"'Базовые концовки'!F689","v":0}]
[null,".   СМЕТНАЯ ПРИБЫЛЬ -",null,null,null,{"$f":"'Базовые концовки'!F690","v":0}]
[null,". ШЕФМОНТАЖ -",null,null,null,{"$f":"'Базовые концовки'!F691","v":0}]
[null,"ВСЕГО, СТОИМОСТЬ САНТЕХНИЧЕСКИХ РАБОТ -",null,null,null,{"$f":"'Базовые концовки'!F692","v":0}]
[null,"СТОИМОСТЬ БУРО-ВЗРЫВНЫХ РАБОТ -",null,null,null,{"$f":"'Базовые концовки'!F693","v":0},{"$f":"'Базовые концовки'!G693","v":0},{"$f":"'Базовые концовки'!H693","v":0},null,{"$f":"'Базовые концовки'!J693","v":0},null,null,null,{"$f":"'Базовые концовки'!L693","v":0},null,null,null,{"$f":"'Базовые концовки'!M693","v":0}]
[null,".   СТОИМОСТЬ ВОЗВРАЩАЕМЫХ МАТЕРИАЛОВ -",null,null,null,{"$f":"'Базовые концовки'!F694","v":0}]
[null,".   НАКЛАДНЫЕ РАСХОДЫ -",null,null,null,{"$f":"'Базовые концовки'!F695","v":0}]
[null,".   СМЕТНАЯ ПРИБЫЛЬ -",null,null,null,{"$f":"'Базовые концовки'!F696","v":0}]
[null,"ВСЕГО, СТОИМОСТЬ БУРО-ВЗРЫВНЫХ РАБОТ -",null,null,null,{"$f":"'Базовые концовки'!F697","v":0}]
[null,"СТОИМОСТЬ ГОРНОПРОХОДЧЕСКИХ РАБОТ -",null,null,null,{"$f":"'Базовые концовки'!F698","v":0},{"$f":"'Базовые концовки'!G698","v":0},{"$f":"'Базовые концовки'!H698","v":0},null,{"$f":"'Базовые концовки'!J698","v":0},null,null,null,{"$f":"'Базовые концовки'!L698","v":0},null,null,null,{"$f":"'Базовые концовки'!M698","v":0}]
[null,".   СТОИМОСТЬ ВОЗВРАЩАЕМЫХ МАТЕРИАЛОВ -",null,null,null,{"$f":"'Базовые концовки'!F699","v":0}]
[null,".   НАКЛАДНЫЕ РАСХОДЫ -",null,null,null,{"$f":"'Базовые концовки'!F700","v":0}]
[null,".   СМЕТНАЯ ПРИБЫЛЬ -",null,null,null,{"$f":"'Базовые концовки'!F701","v":0}]
[null,"ВСЕГО, СТОИМОСТЬ ГОРНОПРОХОДЧЕСКИХ РАБОТ -",null,null,null,{"$f":"'Базовые концовки'!F702","v":0}]
[null,"СТОИМОСТЬ РЕСТАВРАЦИОННЫХ РАБОТ -",null,null,null,{"$f":"'Базовые концовки'!F703","v":0},{"$f":"'Базовые концовки'!G703","v":0},{"$f":"'Базовые концовки'!H703","v":0},null,{"$f":"'Базовые концовки'!J703","v":0},null,null,null,{"$f":"'Базовые концовки'!L703","v":0},null,null,null,{"$f":"'Базовые концовки'!M703","v":0}]
[null,".     В ТОМ ЧИСЛЕ:"]
[null,". МАТЕРИАЛЫ -",null,null,null,{"$f":"'Базовые концовки'!F705","v":22480}]
[null,".   СТОИМОСТЬ ВОЗВРАЩАЕМЫХ МАТЕРИАЛОВ -",null,null,null,{"$f":"'Базовые концовки'!F706","v":0}]
[null,".   НАКЛАДНЫЕ РАСХОДЫ -",null,null,null,{"$f":"'Базовые концовки'!F707","v":0}]
[null,".   СМЕТНАЯ ПРИБЫЛЬ -",null,null,null,{"$f":"'Базовые концовки'!F708","v":0}]
[null,"ВСЕГО, СТОИМОСТЬ РЕСТАВРАЦИОННЫХ РАБОТ -",null,null,null,{"$f":"'Базовые концовки'!F709","v":0}]
[null,"Строительные работы БЦ ЭМ",null,null,null,{"$f":"'Базовые концовки'!F710","v":1789}]
[null,"Строительные работы БЦ ЗПМ",null,null,null,{"$f":"'Базовые концовки'!F711","v":181}]
[null,"Строительные работы ТЦ ЗП",21.324000000000002,null,null,{"$f":"'Базовые концовки'!F712","v":39705}]
[null,"Строительные работы ТЦ ЗПМ",21.324000000000002,null,null,{"$f":"'Базовые концовки'!F713","v":3860}]
[null,"Строительные работы ТЦ ЭМ",6.1520000000000001,null,null,{"$f":"'Базовые концовки'!F714","v":11006}]
[null,"Строительные работы ТЦ материалы",6.32,null,null,{"$f":"'Базовые концовки'!F715","v":169376}]
[null,"Строительные работы ТЦ НР",21.324000000000002,null,null,{"$f":"'Базовые концовки'!F716","v":61861}]
[null,"Строительные работы ТЦ СП",21.324000000000002,null,null,{"$f":"'Базовые концовки'!F717","v":35291}]
[null,"Строительные работы ТЦ всего",null,null,null,{"$f":"'Базовые концовки'!F718","v":317239}]
[null,"СТОИМОСТЬ ПЕРЕВОЗКИ ГРУЗОВ -",null,null,null,{"$f":"'Базовые концовки'!F719","v":0},{"$f":"'Базовые концовки'!G719","v":0},{"$f":"'Базовые концовки'!H719","v":0},null,{"$f":"'Базовые концовки'!J719","v":0},null,null,null,{"$f":"'Базовые концовки'!L719","v":0},null,null,null,{"$f":"'Базовые концовки'!M719","v":0}]
[null,"СТОИМОСТЬ ПОГРУЗКИ-РАЗГРУЗКИ",null,null,null,{"$f":"'Базовые концовки'!F720","v":0},{"$f":"'Базовые концовки'!G720","v":0},{"$f":"'Базовые концовки'!H720","v":0},null,{"$f":"'Базовые концовки'!J720","v":0},null,null,null,{"$f":"'Базовые концовки'!L720","v":0},null,null,null,{"$f":"'Базовые концовки'!M720","v":0}]
[null,".   В Т.Ч. НАКЛАДНЫЕ РАСХОДЫ -",null,null,null,{"$f":"'Базовые концовки'!F721","v":0}]
[null,".   В Т.Ч. СМЕТНАЯ ПРИБЫЛЬ -",null,null,null,{"$f":"'Базовые концовки'!F722","v":0}]
[null,".   НАКЛАДНЫЕ РАСХОДЫ -",null,null,null,{"$f":"'Базовые концовки'!F723","v":0}]
[null,".   СМЕТНАЯ ПРИБЫЛЬ -",null,null,null,{"$f":"'Базовые концовки'!F724","v":0}]
[null,"ВСЕГО, СТОИМОСТЬ ПЕРЕВОЗКИ ГРУЗОВ -",null,null,null,{"$f":"'Базовые концовки'!F725","v":0}]
[null,"ВСЕГО, СТОИМОСТЬ ПОГРУЗКИ-РАЗГРУЗКИ -",null,null,null,{"$f":"'Базовые концовки'!F726","v":0}]
[null,"Погрузка-разгрузка БЦ ЭМ",null,null,null,{"$f":"'Базовые концовки'!F727","v":0}]
[null,"Погрузка-разгрузка БЦ ЗПМ",null,null,null,{"$f":"'Базовые концовки'!F728","v":0}]
[null,"Погрузка-разгрузка ТЦ ЗП",null,null,null,{"$f":"'Базовые концовки'!F729","v":0}]
[null,"Погрузка-разгрузка ТЦ ЗПМ",null,null,null,{"$f":"'Базовые концовки'!F730","v":0}]
[null,"Погрузка-разгрузка ТЦ ЭМ",null,null,null,{"$f":"'Базовые концовки'!F731","v":0}]
[null,"Погрузка-разгрузка ТЦ материалы",null,null,null,{"$f":"'Базовые концовки'!F732","v":0}]
[null,"Погрузка-разгрузка ТЦ в т.ч. НР",null,null,null,{"$f":"'Базовые концовки'!F733","v":0}]
[null,"Погрузка-разгрузка ТЦ в т.ч. СП",null,null,null,{"$f":"'Базовые концовки'!F734","v":0}]
[null,"Погрузка-разгрузка ТЦ НР",null,null,null,{"$f":"'Базовые концовки'!F735","v":0}]
[null,"Погрузка-разгрузка ТЦ СП",null,null,null,{"$f":"'Базовые концовки'!F736","v":0}]
[null,"Погрузка-разгрузка ТЦ всего",null,null,null,{"$f":"'Базовые концовки'!F737","v":0}]
[null,"ПЕРЕВОЗКА (таб.6)",null,null,null,{"$f":"'Базовые концовки'!F738","v":0},{"$f":"'Базовые концовки'!G738","v":0},{"$f":"'Базовые концовки'!H738","v":0},null,{"$f":"'Базовые концовки'!J738","v":0},null,null,null,{"$f":"'Базовые концовки'!L738","v":0},null,null,null,{"$f":"'Базовые концовки'!M738","v":0}]
[null,"ПЕРЕВОЗКА (таб.7)",null,null,null,{"$f":"'Базовые концовки'!F739","v":0},{"$f":"'Базовые концовки'!G739","v":0},{"$f":"'Базовые концовки'!H739","v":0},null,{"$f":"'Базовые концовки'!J739","v":0},null,null,null,{"$f":"'Базовые концовки'!L739","v":0},null,null,null,{"$f":"'Базовые концовки'!M739","v":0}]
[null,"ПЕРЕВОЗКА (таб.8)",null,null,null,{"$f":"'Базовые концовки'!F740","v":0},{"$f":"'Базовые концовки'!G740","v":0},{"$f":"'Базовые концовки'!H740","v":0},null,{"$f":"'Базовые концовки'!J740","v":0},null,null,null,{"$f":"'Базовые концовки'!L740","v":0},null,null,null,{"$f":"'Базовые концовки'!M740","v":0}]
[null,"Перевозка (таб.6) ТЦ",null,null,null,{"$f":"'Базовые концовки'!F741","v":0}]
[null,"Перевозка (таб.7) ТЦ",null,null,null,{"$f":"'Базовые концовки'!F742","v":0}]
[null,"Перевозка (таб.8) ТЦ",null,null,null,{"$f":"'Базовые концовки'!F743","v":0}]
[null,"Перевозка ТЦ  всего",null,null,null,{"$f":"'Базовые концовки'!F744","v":0}]
[null,"СТОИМОСТЬ ПУСКОНАЛАДОЧНЫХ РАБОТ -",null,null,null,{"$f":"'Базовые концовки'!F745","v":0},{"$f":"'Базовые концовки'!G745","v":0},{"$f":"'Базовые концовки'!H745","v":0},null,{"$f":"'Базовые концовки'!J745","v":0},null,null,null,{"$f":"'Базовые концовки'!L745","v":0},null,null,null,{"$f":"'Базовые концовки'!M745","v":0}]
[null,".   НАКЛАДНЫЕ РАСХОДЫ -",null,null,null,{"$f":"'Базовые концовки'!F746","v":0}]
[null,".   СМЕТНАЯ ПРИБЫЛЬ -",null,null,null,{"$f":"'Базовые концовки'!F747","v":0}]
[null,"ВСЕГО, СТОИМОСТЬ ПУСКОНАЛАДОЧНЫХ РАБОТ -",null,null,null,{"$f":"'Базовые концовки'!F748","v":0}]
[null,"Пусконаладочные работы ТЦ ЗП",null,null,null,{"$f":"'Базовые концовки'!F749","v":0}]
[null,"Пусконаладочные работы ТЦ НР",null,null,null,{"$f":"'Базовые концовки'!F750","v":0}]
[null,"Пусконаладочные работы ТЦ СП",null,null,null,{"$f":"'Базовые концовки'!F751","v":0}]
[null,"Пусконаладочные работы ТЦ всего",null,null,null,{"$f":"'Базовые концовки'!F752","v":0}]
[null,"СТОИМОСТЬ ПРОЧИХ РАБОТ (с НР и СП) -",null,null,null,{"$f":"'Базовые концовки'!F753","v":0},{"$f":"'Базовые концовки'!G753","v":0},{"$f":"'Базовые концовки'!H753","v":0},null,{"$f":"'Базовые концовки'!J753","v":0},null,null,null,{"$f":"'Базовые концовки'!L753","v":0},null,null,null,{"$f":"'Базовые концовки'!M753","v":0}]
[null,".   СТОИМОСТЬ ВОЗВРАЩАЕМЫХ МАТЕРИАЛОВ -",null,null,null,{"$f":"'Базовые концовки'!F754","v":0}]
[null,".   НАКЛАДНЫЕ РАСХОДЫ -",null,null,null,{"$f":"'Базовые концовки'!F755","v":0}]
[null,".   СМЕТНАЯ ПРИБЫЛЬ -",null,null,null,{"$f":"'Базовые концовки'!F756","v":0}]
[null,"ВСЕГО, СТОИМОСТЬ ПРОЧИХ РАБОТ (с НР и СП) -",null,null,null,{"$f":"'Базовые концовки'!F757","v":0}]
[null,"ВСЕГО, СТОИМОСТЬ ПРОЧИХ РАБОТ (без НР и СП) -",null,null,null,{"$f":"'Базовые концовки'!F758","v":0},{"$f":"'Базовые концовки'!G758","v":0},{"$f":"'Базовые концовки'!H758","v":0},null,{"$f":"'Базовые концовки'!J758","v":0},null,null,null,{"$f":"'Базовые концовки'!L758","v":0},null,null,null,{"$f":"'Базовые концовки'!M758","v":0}]
[null,".   СТОИМОСТЬ ВОЗВРАЩАЕМЫХ МАТЕРИАЛОВ -",null,null,null,{"$f":"'Базовые концовки'!F759","v":0}]
[null,"Прочие работы БЦ ЭМ",null,null,null,{"$f":"'Базовые концовки'!F760","v":0}]
[null,"Прочие работы БЦ ЗПМ",null,null,null,{"$f":"'Базовые концовки'!F761","v":0}]
[null,"Прочие работы ТЦ ЗП",null,null,null,{"$f":"'Базовые концовки'!F762","v":0}]
[null,"Прочие работы ТЦ ЗПМ",null,null,null,{"$f":"'Базовые концовки'!F763","v":0}]
[null,"Прочие работы ТЦ ЭМ",null,null,null,{"$f":"'Базовые концовки'!F764","v":0}]
[null,"Прочие работы ТЦ материалы",null,null,null,{"$f":"'Базовые концовки'!F765","v":0}]
[null,"Прочие работы ТЦ НР",null,null,null,{"$f":"'Базовые концовки'!F766","v":0}]
[null,"Прочие работы ТЦ СП",null,null,null,{"$f":"'Базовые концовки'!F767","v":0}]
[null,"Прочие работы ТЦ всего",null,null,null,{"$f":"'Базовые концовки'!F768","v":0}]
[null,". ВСЕГО  ПО  РАЗДЕЛУ 5",null,null,null,{"$f":"'Базовые концовки'!F769","v":35007},{"$f":"'Базовые концовки'!G769","v":0},{"$f":"'Базовые концовки'!H769","v":0},null,{"$f":"'Базовые концовки'!J769","v":0},null,null,null,{"$f":"'Базовые концовки'!L769","v":0},null,null,null,{"$f":"'Базовые концовки'!M769","v":0}]
[null,"ВСЕГО СТОИМОСТЬ ВОЗВРАЩАЕМЫХ МАТЕРИАЛОВ -",null,null,null,{"$f":"'Базовые концовки'!F770","v":0}]
[null,"ВСЕГО НАКЛАДНЫЕ РАСХОДЫ",null,null,null,{"$f":"'Базовые концовки'!F771","v":2901}]
[null,"ВСЕГО НАКЛАДНЫЕ РАСХОДЫ",null,null,null,{"$f":"'Базовые концовки'!F772","v":2901}]
[null,"ВСЕГО СМЕТНАЯ ПРИБЫЛЬ",null,null,null,{"$f":"'Базовые концовки'!F773","v":1655}]
[null,"ВСЕГО СМЕТНАЯ ПРИБЫЛЬ",null,null,null,{"$f":"'Базовые концовки'!F774","v":1655}]
[null,"в т.ч. Вспомогательные материалы на монтаж",null,null,null,{"$f":"'Базовые концовки'!F775","v":0},null,null,null,null,null,null,null,{"$f":"'Базовые концовки'!L775","v":0}]
[null,"в т.ч. Вспомогательные материалы от ОЗП",null,null,null,{"$f":"'Базовые концовки'!F776","v":0}]
[null,"Оплата основных рабочих",null,null,null,{"$f":"'Базовые концовки'!F777","v":1862}]
[null,"Оплата механизаторов",null,null,null,{"$f":"'Базовые концовки'!F778","v":181}]
[null,"Стоимость механизмов",null,null,null,{"$f":"'Базовые концовки'!F779","v":1789}]
[null,"Сметная стоимость материалов",null,null,null,{"$f":"'Базовые концовки'!F780","v":26800},null,null,null,null,null,null,null,{"$f":"'Базовые концовки'!L780","v":26800}]
[null,"Трудозатраты осн. рабочих",null,null,null,null,null,null,null,{"$f":"'Базовые концовки'!J781","v":175.66}]
[null,"Трудозатраты механизаторов",null,null,null,null,null,null,null,{"$f":"'Базовые концовки'!J782","v":13.5959}]
[null,"Нормативная трудоемкость",null,null,null,null,null,null,null,{"$f":"'Базовые концовки'!J783","v":189.2559}]
[null,"Оплата основных рабочих ТЦ",null,null,null,{"$f":"'Базовые концовки'!F784","v":39705}]
[null,"Оплата механизаторов ТЦ",null,null,null,{"$f":"'Базовые концовки'!F785","v":3860}]
[null,"Стоимость механизмов ТЦ",null,null,null,{"$f":"'Базовые концовки'!F786","v":11006}]
[null,"Стоимость материалов ТЦ",null,null,null,{"$f":"'Базовые концовки'!F787","v":169376}]
[null,"Оборудование ТЦ",null,null,null,{"$f":"'Базовые концовки'!F788","v":0}]
[null,"Перевозка ТЦ",null,null,null,{"$f":"'Базовые концовки'!F789","v":0}]
[null,"ИТОГО ТЦ",null,null,null,{"$f":"'Базовые концовки'!F790","v":220087}]
[null,"В Т.Ч. НАКЛАДНЫЕ РАСХОДЫ ТЦ",null,null,null,{"$f":"'Базовые концовки'!F791","v":0}]
[null,"В Т.Ч. СМЕТНАЯ ПРИБЫЛЬ ТЦ",null,null,null,{"$f":"'Базовые концовки'!F792","v":0}]
[null,"НАКЛАДНЫЕ РАСХОДЫ ТЦ",null,null,null,{"$f":"'Базовые концовки'!F793","v":61861}]
[null,"СМЕТНАЯ ПРИБЫЛЬ ТЦ",null,null,null,{"$f":"'Базовые концовки'!F794","v":35291}]
[null,"ВСЕГО ТЦ",null,null,null,{"$f":"'Базовые концовки'!F795","v":317239}]
[]
[null,"Раздел 6.  Восстановление газонов"]
[]
["39.","Е47-01-046-04\nПодготовка почвы для устройства партерного и обыкновенного газона с внесением растительной земли слоем 15 см вручную, 100 м2",3,{"$f":"'Базовые цены за единицу'!B62","v":2061.5500000000002},{"$f":"'Базовые цены за единицу'!D62","v":0},{"$f":"'Базовые цены с учетом расхода'!B62","v":6185},{"$f":"'Базовые цены с учетом расхода'!C62","v":1146},{"$f":"'Базовые цены с учетом расхода'!D62","v":0},40,{"$f":"'Базовые цены с учетом расхода'!I62","v":120},"sum","IsZPR",null,{"$f":"'Базовые цены с учетом расхода'!F62","v":5039}]
[null,null,null,{"$f":"'Базовые цены за единицу'!C62","v":382},{"$f":"'Базовые цены за единицу'!E62","v":0},null,null,{"$f":"'Базовые цены с учетом расхода'!E62","v":0},null,{"$f":"'Базовые цены с учетом расхода'!K62","v":0},"sum_b","IsZPM"]
[null,"Зарплата рабочих",null,null,null,1146]
[null,"Эксплуатация машин"]
[null,"в т.ч. зарплата машинистов"]
[null,"Материалы",null,null,null,5039]
[null,"в т.ч. Вспомогательные материалы от стоимости материалов"]
[null,"в т.ч. Вспомогательные ненормируемые материалы",null,null,null,null,null,null,null,null,"NenormMatOtZPR","IsMater"]
[null,"в т.ч. Ненормированная з.п. рабочих"]
[null,"в т.ч. Ненормированная стоимость эксплуатации машин"]
[null,"в т.ч. Ненормированная оплата механизаторов"]
[null,"Накладные расходы",115,null,null,{"$f":"IF('Базовые цены с учетом расхода'!N62>0,'Базовые цены с учетом расхода'!N62,IF('Базовые цены с учетом расхода'!N62<0,'Базовые цены с учетом расхода'!N62,\"\"))","v":1318},null,null,null,null,null,"Nakl"]
[null,"НР от ЗПР",115,null,null,{"$f":"IF('Базовые цены с учетом расхода'!P62>0,'Базовые цены с учетом расхода'!P62,IF('Базовые цены с учетом расхода'!P62<0,'Базовые цены с учетом расхода'!P62,\"\"))","v":1318},null,null,null,null,null,"Nakl_ZPR"]
[null,"НР от ЗПМ",null,null,null,{"$f":"IF('Базовые цены с учетом расхода'!Q62>0,'Базовые цены с учетом расхода'!Q62,IF('Базовые цены с учетом расхода'!Q62<0,'Базовые цены с учетом расхода'!Q62,\"\"))","v":""},null,null,null,null,null,"Nakl_ZPM"]
[null,"Сметная прибыль",77,null,null,{"$f":"IF('Базовые цены с учетом расхода'!O62>0,'Базовые цены с учетом расхода'!O62,IF('Базовые цены с учетом расхода'!O62<0,'Базовые цены с учетом расхода'!O62,\"\"))","v":882},null,null,null,null,null,"Plan"]
[null,"СП от ЗПР",77,null,null,{"$f":"IF('Базовые цены с учетом расхода'!R62>0,'Базовые цены с учетом расхода'!R62,IF('Базовые цены с учетом расхода'!R62<0,'Базовые цены с учетом расхода'!R62,\"\"))","v":882},null,null,null,null,null,"Plan_ZPR"]
[null,"СП от ЗПМ",null,null,null,{"$f":"IF('Базовые цены с учетом расхода'!S62>0,'Базовые цены с учетом расхода'!S62,IF('Базовые цены с учетом расхода'!S62<0,'Базовые цены с учетом расхода'!S62,\"\"))","v":""},null,null,null,null,null,"Plan_ZPM"]
[]
[null,".    ИТОГО  ПО  РАЗДЕЛУ 6",null,null,null,{"$f":"'Базовые концовки'!F800","v":6185},{"$f":"'Базовые концовки'!G800","v":1146},{"$f":"'Базовые концовки'!H800","v":0},null,{"$f":"'Базовые концовки'!J800","v":120},null,null,null,{"$f":"'Базовые концовки'!L800","v":5039},null,null,null,{"$f":"'Базовые концовки'!M800","v":0}]
[null,"СТОИМОСТЬ ОБОРУДОВАНИЯ -",null,null,null,{"$f":"'Базовые концовки'!F801","v":0},{"$f":"'Базовые концовки'!G801","v":0},{"$f":"'Базовые концовки'!H801","v":0},null,{"$f":"'Базовые концовки'!J801","v":0},null,null,null,{"$f":"'Базовые концовки'!L801","v":0},null,null,null,{"$f":"'Базовые концовки'!M801","v":0}]
[null,".   ЗАПАСНЫЕ ЧАСТИ -",null,null,null,{"$f":"'Базовые концовки'!F802","v":0}]
[null,".   ТАРА И УПАКОВКА -",null,null,null,{"$f":"'Базовые концовки'!F803","v":0}]
[null,".   ТРАНСПОРТНЫЕ РАСХОДЫ -",null,null,null,{"$f":"'Базовые концовки'!F804","v":0}]
[null,".   КОМПЛЕКТАЦИЯ -",null,null,null,{"$f":"'Базовые концовки'!F805","v":0}]
[null,".   НАЦЕНКА СНАБА -",null,null,null,{"$f":"'Базовые концовки'!F806","v":0}]
[null,".   ЗАГОТОВИТЕЛЬНО-СКЛАДСКИЕ РАСХОДЫ -",null,null,null,{"$f":"'Базовые концовки'!F807","v":0}]
[null,". ШЕФМОНТАЖ ПО ОБОРУДОВАНИЮ -",null,null,null,{"$f":"'Базовые концовки'!F808","v":0}]
[null,". ШЕФМОНТАЖ -",null,null,null,{"$f":"'Базовые концовки'!F809","v":0}]
[null,"ВСЕГО, СТОИМОСТЬ ОБОРУДОВАНИЯ -",null,null,null,{"$f":"'Базовые концовки'!F810","v":0}]
[null,"Оборудование ТЦ",null,null,null,{"$f":"'Базовые концовки'!F811","v":0}]
[null,"СТОИМОСТЬ МОНТАЖНЫХ РАБОТ -",null,null,null,{"$f":"'Базовые концовки'!F812","v":0},{"$f":"'Базовые концовки'!G812","v":0},{"$f":"'Базовые концовки'!H812","v":0},null,{"$f":"'Базовые концовки'!J812","v":0},null,null,null,{"$f":"'Базовые концовки'!L812","v":0},null,null,null,{"$f":"'Базовые концовки'!M812","v":0}]
[null,".     В ТОМ ЧИСЛЕ:"]
[null,". ОТКЛОНЕНИЕ ПО ЗАРАБОТНОЙ ПЛАТЕ -",null,null,null,null,{"$f":"'Базовые концовки'!G814","v":0}]
[null,". КОСВЕННЫЕ РАСХОДЫ -",null,null,null,{"$f":"'Базовые концовки'!F815","v":0}]
[null,". МАТЕРИАЛЬНЫЕ РЕСУРСЫ НЕ УЧТЕННЫЕ В РАСЦЕНКАХ -",null,null,null,{"$f":"'Базовые концовки'!F816","v":0}]
[null,".   СТОИМОСТЬ ВОЗВРАЩАЕМЫХ МАТЕРИАЛОВ -",null,null,null,{"$f":"'Базовые концовки'!F817","v":0}]
[null,".   НАКЛАДНЫЕ РАСХОДЫ -",null,null,null,{"$f":"'Базовые концовки'!F818","v":0}]
[null,".   СМЕТНАЯ ПРИБЫЛЬ -",null,null,null,{"$f":"'Базовые концовки'!F819","v":0}]
[null,". ШЕФМОНТАЖ -",null,null,null,{"$f":"'Базовые концовки'!F820","v":0}]
[null,"ВСЕГО, СТОИМОСТЬ МОНТАЖНЫХ РАБОТ -",null,null,null,{"$f":"'Базовые концовки'!F821","v":0}]
[null,"Монтажные работы БЦ ЭМ",null,null,null,{"$f":"'Базовые концовки'!F822","v":0}]
[null,"Монтажные работы БЦ ЗПМ",null,null,null,{"$f":"'Базовые концовки'!F823","v":0}]
[null,"Монтажные работы ТЦ ЗП",null,null,null,{"$f":"'Базовые концовки'!F824","v":0}]
[null,"Монтажные работы ТЦ ЗПМ",null,null,null,{"$f":"'Базовые концовки'!F825","v":0}]
[null,"Монтажные работы ТЦ ЭМ",null,null,null,{"$f":"'Базовые концовки'!F826","v":0}]
[null,"Монтажные работы ТЦ материалы",null,null,null,{"$f":"'Базовые концовки'!F827","v":0}]
[null,"Монтажные работы ТЦ НР",null,null,null,{"$f":"'Базовые концовки'!F828","v":0}]
[null,"Монтажные работы ТЦ СП",null,null,null,{"$f":"'Базовые концовки'!F829","v":0}]
[null,"Монтажные работы ТЦ всего",null,null,null,{"$f":"'Базовые концовки'!F830","v":0}]
[null,"СТОИМОСТЬ ОБЩЕСТРОИТЕЛЬНЫХ РАБОТ -",null,null,null,{"$f":"'Базовые концовки'!F831","v":6185},{"$f":"'Базовые концовки'!G831","v":1146},{"$f":"'Базовые концовки'!H831","v":0},null,{"$f":"'Базовые концовки'!J831","v":120},null,null,null,{"$f":"'Базовые концовки'!L831","v":5039},null,null,null,{"$f":"'Базовые концовки'!M831","v":0}]
[null,".     В ТОМ ЧИСЛЕ:"]
[null,".       МАТЕРИАЛОВ -",null,null,null,{"$f":"'Базовые концовки'!F833","v":0}]
[null,".   СТОИМОСТЬ ВОЗВРАЩАЕМЫХ МАТЕРИАЛОВ -",null,null,null,{"$f":"'Базовые концовки'!F834","v":0}]
[null,".   НАКЛАДНЫЕ РАСХОДЫ - (%=115)",null,null,null,{"$f":"'Базовые концовки'!F835","v":1318}]
[null,".   СМЕТНАЯ ПРИБЫЛЬ - (%=77)",null,null,null,{"$f":"'Базовые концовки'!F836","v":882}]
[null,"ВСЕГО, СТОИМОСТЬ ОБЩЕСТРОИТЕЛЬНЫХ РАБОТ -",null,null,null,{"$f":"'Базовые концовки'!F837","v":8385}]
[null,"СТОИМОСТЬ МЕТАЛЛОМОНТАЖНЫХ РАБОТ -",null,null,null,{"$f":"'Базовые концовки'!F838","v":0},{"$f":"'Базовые концовки'!G838","v":0},{"$f":"'Базовые концовки'!H838","v":0},null,{"$f":"'Базовые концовки'!J838","v":0},null,null,null,{"$f":"'Базовые концовки'!L838","v":0},null,null,null,{"$f":"'Базовые концовки'!M838","v":0}]
[null,".   СТОИМОСТЬ ВОЗВРАЩАЕМЫХ МАТЕРИАЛОВ -",null,null,null,{"$f":"'Базовые концовки'!F839","v":0}]
[null,".   НАКЛАДНЫЕ РАСХОДЫ -",null,null,null,{"$f":"'Базовые концовки'!F840","v":0}]
[null,".   СМЕТНАЯ ПРИБЫЛЬ -",null,null,null,{"$f":"'Базовые концовки'!F841","v":0}]
[null,"ВСЕГО, СТОИМОСТЬ МЕТАЛЛОМОНТАЖНЫХ РАБОТ -",null,null,null,{"$f":"'Базовые концовки'!F842","v":0}]
[null,"СТОИМОСТЬ САНТЕХНИЧЕСКИХ РАБОТ -",null,null,null,{"$f":"'Базовые концовки'!F843","v":0},{"$f":"'Базовые концовки'!G843","v":0},{"$f":"'Базовые концовки'!H843","v":0},null,{"$f":"'Базовые концовки'!J843","v":0},null,null,null,{"$f":"'Базовые концовки'!L843","v":0},null,null,null,{"$f":"'Базовые концовки'!M843","v":0}]
[null,".     В ТОМ ЧИСЛЕ:"]
[null,". СДАЧА И ИСПЫТАНИЕ -",null,null,null,{"$f":"'Базовые концовки'!F845","v":0},{"$f":"'Базовые концовки'!G845","v":0},{"$f":"'Базовые концовки'!H845","v":0},null,{"$f":"'Базовые концовки'!J845","v":0},null,null,null,{"$f":"'Базовые концовки'!L845","v":0},null,null,null,{"$f":"'Базовые концовки'!M845","v":0}]
[null,".   СТОИМОСТЬ ВОЗВРАЩАЕМЫХ МАТЕРИАЛОВ -",null,null,null,{"$f":"'Базовые концовки'!F846","v":0}]
[null,".   НАКЛАДНЫЕ РАСХОДЫ -",null,null,null,{"$f":"'Базовые концовки'!F847","v":0}]
[null,".   СМЕТНАЯ ПРИБЫЛЬ -",null,null,null,{"$f":"'Базовые концовки'!F848","v":0}]
[null,". ШЕФМОНТАЖ -",null,null,null,{"$f":"'Базовые концовки'!F849","v":0}]
[null,"ВСЕГО, СТОИМОСТЬ САНТЕХНИЧЕСКИХ РАБОТ -",null,null,null,{"$f":"'Базовые концовки'!F850","v":0}]
[null,"СТОИМОСТЬ БУРО-ВЗРЫВНЫХ РАБОТ -",null,null,null,{"$f":"'Базовые концовки'!F851","v":0},{"$f":"'Базовые концовки'!G851","v":0},{"$f":"'Базовые концовки'!H851","v":0},null,{"$f":"'Базовые концовки'!J851","v":0},null,null,null,{"$f":"'Базовые концовки'!L851","v":0},null,null,null,{"$f":"'Базовые концовки'!M851","v":0}]
[null,".   СТОИМОСТЬ ВОЗВРАЩАЕМЫХ МАТЕРИАЛОВ -",null,null,null,{"$f":"'Базовые концовки'!F852","v":0}]
[null,".   НАКЛАДНЫЕ РАСХОДЫ -",null,null,null,{"$f":"'Базовые концовки'!F853","v":0}]
[null,".   СМЕТНАЯ ПРИБЫЛЬ -",null,null,null,{"$f":"'Базовые концовки'!F854","v":0}]
[null,"ВСЕГО, СТОИМОСТЬ БУРО-ВЗРЫВНЫХ РАБОТ -",null,null,null,{"$f":"'Базовые концовки'!F855","v":0}]
[null,"СТОИМОСТЬ ГОРНОПРОХОДЧЕСКИХ РАБОТ -",null,null,null,{"$f":"'Базовые концовки'!F856","v":0},{"$f":"'Базовые концовки'!G856","v":0},{"$f":"'Базовые концовки'!H856","v":0},null,{"$f":"'Базовые концовки'!J856","v":0},null,null,null,{"$f":"'Базовые концовки'!L856","v":0},null,null,null,{"$f":"'Базовые концовки'!M856","v":0}]
[null,".   СТОИМОСТЬ ВОЗВРАЩАЕМЫХ МАТЕРИАЛОВ -",null,null,null,{"$f":"'Базовые концовки'!F857","v":0}]
[null,".   НАКЛАДНЫЕ РАСХОДЫ -",null,null,null,{"$f":"'Базовые концовки'!F858","v":0}]
[null,".   СМЕТНАЯ ПРИБЫЛЬ -",null,null,null,{"$f":"'Базовые концовки'!F859","v":0}]
[null,"ВСЕГО, СТОИМОСТЬ ГОРНОПРОХОДЧЕСКИХ РАБОТ -",null,null,null,{"$f":"'Базовые концовки'!F860","v":0}]
[null,"СТОИМОСТЬ РЕСТАВРАЦИОННЫХ РАБОТ -",null,null,null,{"$f":"'Базовые концовки'!F861","v":0},{"$f":"'Базовые концовки'!G861","v":0},{"$f":"'Базовые концовки'!H861","v":0},null,{"$f":"'Базовые концовки'!J861","v":0},null,null,null,{"$f":"'Базовые концовки'!L861","v":0},null,null,null,{"$f":"'Базовые концовки'!M861","v":0}]
[null,".     В ТОМ ЧИСЛЕ:"]
[null,". МАТЕРИАЛЫ -",null,null,null,{"$f":"'Базовые концовки'!F863","v":0}]
[null,".   СТОИМОСТЬ ВОЗВРАЩАЕМЫХ МАТЕРИАЛОВ -",null,null,null,{"$f":"'Базовые концовки'!F864","v":0}]
[null,".   НАКЛАДНЫЕ РАСХОДЫ -",null,null,null,{"$f":"'Базовые концовки'!F865","v":0}]
[null,".   СМЕТНАЯ ПРИБЫЛЬ -",null,null,null,{"$f":"'Базовые концовки'!F866","v":0}]
[null,"ВСЕГО, СТОИМОСТЬ РЕСТАВРАЦИОННЫХ РАБОТ -",null,null,null,{"$f":"'Базовые концовки'!F867","v":0}]
[null,"Строительные работы БЦ ЭМ",null,null,null,{"$f":"'Базовые концовки'!F868","v":0}]
[null,"Строительные работы БЦ ЗПМ",null,null,null,{"$f":"'Базовые концовки'!F869","v":0}]
[null,"Строительные работы ТЦ ЗП",21.324000000000002,null,null,{"$f":"'Базовые концовки'!F870","v":24437}]
[null,"Строительные работы ТЦ ЗПМ",null,null,null,{"$f":"'Базовые концовки'!F871","v":0}]
[null,"Строительные работы ТЦ ЭМ",null,null,null,{"$f":"'Базовые концовки'!F872","v":0}]
[null,"Строительные работы ТЦ материалы",6.32,null,null,{"$f":"'Базовые концовки'!F873","v":31846}]
[null,"Строительные работы ТЦ НР",21.324000000000002,null,null,{"$f":"'Базовые концовки'!F874","v":28105}]
[null,"Строительные работы ТЦ СП",21.324000000000002,null,null,{"$f":"'Базовые концовки'!F875","v":18808}]
[null,"Строительные работы ТЦ всего",null,null,null,{"$f":"'Базовые концовки'!F876","v":103196}]
[null,"СТОИМОСТЬ ПЕРЕВОЗКИ ГРУЗОВ -",null,null,null,{"$f":"'Базовые концовки'!F877","v":0},{"$f":"'Базовые концовки'!G877","v":0},{"$f":"'Базовые концовки'!H877","v":0},null,{"$f":"'Базовые концовки'!J877","v":0},null,null,null,{"$f":"'Базовые концовки'!L877","v":0},null,null,null,{"$f":"'Базовые концовки'!M877","v":0}]
[null,"СТОИМОСТЬ ПОГРУЗКИ-РАЗГРУЗКИ",null,null,null,{"$f":"'Базовые концовки'!F878","v":0},{"$f":"'Базовые концовки'!G878","v":0},{"$f":"'Базовые концовки'!H878","v":0},null,{"$f":"'Базовые концовки'!J878","v":0},null,null,null,{"$f":"'Базовые концовки'!L878","v":0},null,null,null,{"$f":"'Базовые концовки'!M878","v":0}]
[null,".   В Т.Ч. НАКЛАДНЫЕ РАСХОДЫ -",null,null,null,{"$f":"'Базовые концовки'!F879","v":0}]
[null,".   В Т.Ч. СМЕТНАЯ ПРИБЫЛЬ -",null,null,null,{"$f":"'Базовые концовки'!F880","v":0}]
[null,".   НАКЛАДНЫЕ РАСХОДЫ -",null,null,null,{"$f":"'Базовые концовки'!F881","v":0}]
[null,".   СМЕТНАЯ ПРИБЫЛЬ -",null,null,null,{"$f":"'Базовые концовки'!F882","v":0}]
[null,"ВСЕГО, СТОИМОСТЬ ПЕРЕВОЗКИ ГРУЗОВ -",null,null,null,{"$f":"'Базовые концовки'!F883","v":0}]
[null,"ВСЕГО, СТОИМОСТЬ ПОГРУЗКИ-РАЗГРУЗКИ -",null,null,null,{"$f":"'Базовые концовки'!F884","v":0}]
[null,"Погрузка-разгрузка БЦ ЭМ",null,null,null,{"$f":"'Базовые концовки'!F885","v":0}]
[null,"Погрузка-разгрузка БЦ ЗПМ",null,null,null,{"$f":"'Базовые концовки'!F886","v":0}]
[null,"Погрузка-разгрузка ТЦ ЗП",null,null,null,{"$f":"'Базовые концовки'!F887","v":0}]
[null,"Погрузка-разгрузка ТЦ ЗПМ",null,null,null,{"$f":"'Базовые концовки'!F888","v":0}]
[null,"Погрузка-разгрузка ТЦ ЭМ",null,null,null,{"$f":"'Базовые концовки'!F889","v":0}]
[null,"Погрузка-разгрузка ТЦ материалы",null,null,null,{"$f":"'Базовые концовки'!F890","v":0}]
[null,"Погрузка-разгрузка ТЦ в т.ч. НР",null,null,null,{"$f":"'Базовые концовки'!F891","v":0}]
[null,"Погрузка-разгрузка ТЦ в т.ч. СП",null,null,null,{"$f":"'Базовые концовки'!F892","v":0}]
[null,"Погрузка-разгрузка ТЦ НР",null,null,null,{"$f":"'Базовые концовки'!F893","v":0}]
[null,"Погрузка-разгрузка ТЦ СП",null,null,null,{"$f":"'Базовые концовки'!F894","v":0}]
[null,"Погрузка-разгрузка ТЦ всего",null,null,null,{"$f":"'Базовые концовки'!F895","v":0}]
[null,"ПЕРЕВОЗКА (таб.6)",null,null,null,{"$f":"'Базовые концовки'!F896","v":0},{"$f":"'Базовые концовки'!G896","v":0},{"$f":"'Базовые концовки'!H896","v":0},null,{"$f":"'Базовые концовки'!J896","v":0},null,null,null,{"$f":"'Базовые концовки'!L896","v":0},null,null,null,{"$f":"'Базовые концовки'!M896","v":0}]
[null,"ПЕРЕВОЗКА (таб.7)",null,null,null,{"$f":"'Базовые концовки'!F897","v":0},{"$f":"'Базовые концовки'!G897","v":0},{"$f":"'Базовые концовки'!H897","v":0},null,{"$f":"'Базовые концовки'!J897","v":0},null,null,null,{"$f":"'Базовые концовки'!L897","v":0},null,null,null,{"$f":"'Базовые концовки'!M897","v":0}]
[null,"ПЕРЕВОЗКА (таб.8)",null,null,null,{"$f":"'Базовые концовки'!F898","v":0},{"$f":"'Базовые концовки'!G898","v":0},{"$f":"'Базовые концовки'!H898","v":0},null,{"$f":"'Базовые концовки'!J898","v":0},null,null,null,{"$f":"'Базовые концовки'!L898","v":0},null,null,null,{"$f":"'Базовые концовки'!M898","v":0}]
[null,"Перевозка (таб.6) ТЦ",null,null,null,{"$f":"'Базовые концовки'!F899","v":0}]
[null,"Перевозка (таб.7) ТЦ",null,null,null,{"$f":"'Базовые концовки'!F900","v":0}]
[null,"Перевозка (таб.8) ТЦ",null,null,null,{"$f":"'Базовые концовки'!F901","v":0}]
[null,"Перевозка ТЦ  всего",null,null,null,{"$f":"'Базовые концовки'!F902","v":0}]
[null,"СТОИМОСТЬ ПУСКОНАЛАДОЧНЫХ РАБОТ -",null,null,null,{"$f":"'Базовые концовки'!F903","v":0},{"$f":"'Базовые концовки'!G903","v":0},{"$f":"'Базовые концовки'!H903","v":0},null,{"$f":"'Базовые концовки'!J903","v":0},null,null,null,{"$f":"'Базовые концовки'!L903","v":0},null,null,null,{"$f":"'Базовые концовки'!M903","v":0}]
[null,".   НАКЛАДНЫЕ РАСХОДЫ -",null,null,null,{"$f":"'Базовые концовки'!F904","v":0}]
[null,".   СМЕТНАЯ ПРИБЫЛЬ -",null,null,null,{"$f":"'Базовые концовки'!F905","v":0}]
[null,"ВСЕГО, СТОИМОСТЬ ПУСКОНАЛАДОЧНЫХ РАБОТ -",null,null,null,{"$f":"'Базовые концовки'!F906","v":0}]
[null,"Пусконаладочные работы ТЦ ЗП",null,null,null,{"$f":"'Базовые концовки'!F907","v":0}]
[null,"Пусконаладочные работы ТЦ НР",null,null,null,{"$f":"'Базовые концовки'!F908","v":0}]
[null,"Пусконаладочные работы ТЦ СП",null,null,null,{"$f":"'Базовые концовки'!F909","v":0}]
[null,"Пусконаладочные работы ТЦ всего",null,null,null,{"$f":"'Базовые концовки'!F910","v":0}]
[null,"СТОИМОСТЬ ПРОЧИХ РАБОТ (с НР и СП) -",null,null,null,{"$f":"'Базовые концовки'!F911","v":0},{"$f":"'Базовые концовки'!G911","v":0},{"$f":"'Базовые концовки'!H911","v":0},null,{"$f":"'Базовые концовки'!J911","v":0},null,null,null,{"$f":"'Базовые концовки'!L911","v":0},null,null,null,{"$f":"'Базовые концовки'!M911","v":0}]
[null,".   СТОИМОСТЬ ВОЗВРАЩАЕМЫХ МАТЕРИАЛОВ -",null,null,null,{"$f":"'Базовые концовки'!F912","v":0}]
[null,".   НАКЛАДНЫЕ РАСХОДЫ -",null,null,null,{"$f":"'Базовые концовки'!F913","v":0}]
[null,".   СМЕТНАЯ ПРИБЫЛЬ -",null,null,null,{"$f":"'Базовые концовки'!F914","v":0}]
[null,"ВСЕГО, СТОИМОСТЬ ПРОЧИХ РАБОТ (с НР и СП) -",null,null,null,{"$f":"'Базовые концовки'!F915","v":0}]
[null,"ВСЕГО, СТОИМОСТЬ ПРОЧИХ РАБОТ (без НР и СП) -",null,null,null,{"$f":"'Базовые концовки'!F916","v":0},{"$f":"'Базовые концовки'!G916","v":0},{"$f":"'Базовые концовки'!H916","v":0},null,{"$f":"'Базовые концовки'!J916","v":0},null,null,null,{"$f":"'Базовые концовки'!L916","v":0},null,null,null,{"$f":"'Базовые концовки'!M916","v":0}]
[null,".   СТОИМОСТЬ ВОЗВРАЩАЕМЫХ МАТЕРИАЛОВ -",null,null,null,{"$f":"'Базовые концовки'!F917","v":0}]
[null,"Прочие работы БЦ ЭМ",null,null,null,{"$f":"'Базовые концовки'!F918","v":0}]
[null,"Прочие работы БЦ ЗПМ",null,null,null,{"$f":"'Базовые концовки'!F919","v":0}]
[null,"Прочие работы ТЦ ЗП",null,null,null,{"$f":"'Базовые концовки'!F920","v":0}]
[null,"Прочие работы ТЦ ЗПМ",null,null,null,{"$f":"'Базовые концовки'!F921","v":0}]
[null,"Прочие работы ТЦ ЭМ",null,null,null,{"$f":"'Базовые концовки'!F922","v":0}]
[null,"Прочие работы ТЦ материалы",null,null,null,{"$f":"'Базовые концовки'!F923","v":0}]
[null,"Прочие работы ТЦ НР",null,null,null,{"$f":"'Базовые концовки'!F924","v":0}]
[null,"Прочие работы ТЦ СП",null,null,null,{"$f":"'Базовые концовки'!F925","v":0}]
[null,"Прочие работы ТЦ всего",null,null,null,{"$f":"'Базовые концовки'!F926","v":0}]
[null,". ВСЕГО  ПО  РАЗДЕЛУ 6",null,null,null,{"$f":"'Базовые концовки'!F927","v":8385},{"$f":"'Базовые концовки'!G927","v":0},{"$f":"'Базовые концовки'!H927","v":0},null,{"$f":"'Базовые концовки'!J927","v":0},null,null,null,{"$f":"'Базовые концовки'!L927","v":0},null,null,null,{"$f":"'Базовые концовки'!M927","v":0}]
[null,"ВСЕГО СТОИМОСТЬ ВОЗВРАЩАЕМЫХ МАТЕРИАЛОВ -",null,null,null,{"$f":"'Базовые концовки'!F928","v":0}]
[null,"ВСЕГО НАКЛАДНЫЕ РАСХОДЫ",null,null,null,{"$f":"'Базовые концовки'!F929","v":1318}]
[null,"ВСЕГО НАКЛАДНЫЕ РАСХОДЫ",null,null,null,{"$f":"'Базовые концовки'!F930","v":1318}]
[null,"ВСЕГО СМЕТНАЯ ПРИБЫЛЬ",null,null,null,{"$f":"'Базовые концовки'!F931","v":882}]
[null,"ВСЕГО СМЕТНАЯ ПРИБЫЛЬ",null,null,null,{"$f":"'Базовые концовки'!F932","v":882}]
[null,"в т.ч. Вспомогательные материалы на монтаж",null,null,null,{"$f":"'Базовые концовки'!F933","v":0},null,null,null,null,null,null,null,{"$f":"'Базовые концовки'!L933","v":0}]
[null,"в т.ч. Вспомогательные материалы от ОЗП",null,null,null,{"$f":"'Базовые концовки'!F934","v":0}]
[null,"Оплата основных рабочих",null,null,null,{"$f":"'Базовые концовки'!F935","v":1146}]
[null,"Оплата механизаторов",null,null,null,{"$f":"'Базовые концовки'!F936","v":0}]
[null,"Стоимость механизмов",null,null,null,{"$f":"'Базовые концовки'!F937","v":0}]
[null,"Сметная стоимость материалов",null,null,null,{"$f":"'Базовые концовки'!F938","v":5039},null,null,null,null,null,null,null,{"$f":"'Базовые концовки'!L938","v":5039}]
[null,"Трудозатраты осн. рабочих",null,null,null,null,null,null,null,{"$f":"'Базовые концовки'!J939","v":120}]
[null,"Трудозатраты механизаторов",null,null,null,null,null,null,null,{"$f":"'Базовые концовки'!J940","v":0}]
[null,"Нормативная трудоемкость",null,null,null,null,null,null,null,{"$f":"'Базовые концовки'!J941","v":120}]
[null,"Оплата основных рабочих ТЦ",null,null,null,{"$f":"'Базовые концовки'!F942","v":24437}]
[null,"Оплата механизаторов ТЦ",null,null,null,{"$f":"'Базовые концовки'!F943","v":0}]
[null,"Стоимость механизмов ТЦ",null,null,null,{"$f":"'Базовые концовки'!F944","v":0}]
[null,"Стоимость материалов ТЦ",null,null,null,{"$f":"'Базовые концовки'!F945","v":31846}]
[null,"Оборудование ТЦ",null,null,null,{"$f":"'Базовые концовки'!F946","v":0}]
[null,"Перевозка ТЦ",null,null,null,{"$f":"'Базовые концовки'!F947","v":0}]
[null,"ИТОГО ТЦ",null,null,null,{"$f":"'Базовые концовки'!F948","v":56283}]
[null,"В Т.Ч. НАКЛАДНЫЕ РАСХОДЫ ТЦ",null,null,null,{"$f":"'Базовые концовки'!F949","v":0}]
[null,"В Т.Ч. СМЕТНАЯ ПРИБЫЛЬ ТЦ",null,null,null,{"$f":"'Базовые концовки'!F950","v":0}]
[null,"НАКЛАДНЫЕ РАСХОДЫ ТЦ",null,null,null,{"$f":"'Базовые концовки'!F951","v":28105}]
[null,"СМЕТНАЯ ПРИБЫЛЬ ТЦ",null,null,null,{"$f":"'Базовые концовки'!F952","v":18808}]
[null,"ВСЕГО ТЦ",null,null,null,{"$f":"'Базовые концовки'!F953","v":103196}]
[]
[null,"Раздел 7.  Наращивание колодцев"]
[]
["40.","Е23-04-011-01\n(К=0,6 п.3.2.30(г) ТМУ-2205)\nДемонтаж  люка, 1 шт.",8,{"$f":"'Базовые цены за единицу'!B66","v":13.33},{"$f":"'Базовые цены за единицу'!D66","v":5.17},{"$f":"'Базовые цены с учетом расхода'!B66","v":106},{"$f":"'Базовые цены с учетом расхода'!C66","v":65},{"$f":"'Базовые цены с учетом расхода'!D66","v":41},0.78600000000000003,{"$f":"'Базовые цены с учетом расхода'!I66","v":6.2880000000000003},"sum","IsZPR",null,{"$f":"'Базовые цены с учетом расхода'!F66","v":0}]
[null,null,null,{"$f":"'Базовые цены за единицу'!C66","v":8.16},{"$f":"'Базовые цены за единицу'!E66","v":0},null,null,{"$f":"'Базовые цены с учетом расхода'!E66","v":0},null,{"$f":"'Базовые цены с учетом расхода'!K66","v":0},"sum_b","IsZPM"]
[null,"   Вычт.ресурсы:  С101-2536:[ М-(1079.46=1079.46*1) ];  С401-0007:[ М-(0.49=617.20*0.0008) ]"]
[null,"Зарплата рабочих",null,null,null,65]
[null,"Эксплуатация машин",null,null,null,41]
[null,"в т.ч. зарплата машинистов"]
[null,"Материалы"]
[null,"в т.ч. Вспомогательные материалы от стоимости материалов"]
[null,"в т.ч. Вспомогательные ненормируемые материалы",null,null,null,null,null,null,null,null,"NenormMatOtZPR","IsMater"]
[null,"в т.ч. Ненормированная з.п. рабочих"]
[null,"в т.ч. Ненормированная стоимость эксплуатации машин"]
[null,"в т.ч. Ненормированная оплата механизаторов"]
[null,"Накладные расходы",130,null,null,{"$f":"IF('Базовые цены с учетом расхода'!N66>0,'Базовые цены с учетом расхода'!N66,IF('Базовые цены с учетом расхода'!N66<0,'Базовые цены с учетом расхода'!N66,\"\"))","v":85},null,null,null,null,null,"Nakl"]
[null,"НР от ЗПР",130,null,null,{"$f":"IF('Базовые цены с учетом расхода'!P66>0,'Базовые цены с учетом расхода'!P66,IF('Базовые цены с учетом расхода'!P66<0,'Базовые цены с учетом расхода'!P66,\"\"))","v":85},null,null,null,null,null,"Nakl_ZPR"]
[null,"НР от ЗПМ",null,null,null,{"$f":"IF('Базовые цены с учетом расхода'!Q66>0,'Базовые цены с учетом расхода'!Q66,IF('Базовые цены с учетом расхода'!Q66<0,'Базовые цены с учетом расхода'!Q66,\"\"))","v":""},null,null,null,null,null,"Nakl_ZPM"]
[null,"Сметная прибыль",76,null,null,{"$f":"IF('Базовые цены с учетом расхода'!O66>0,'Базовые цены с учетом расхода'!O66,IF('Базовые цены с учетом расхода'!O66<0,'Базовые цены с учетом расхода'!O66,\"\"))","v":49},null,null,null,null,null,"Plan"]
[null,"СП от ЗПР",76,null,null,{"$f":"IF('Базовые цены с учетом расхода'!R66>0,'Базовые цены с учетом расхода'!R66,IF('Базовые цены с учетом расхода'!R66<0,'Базовые цены с учетом расхода'!R66,\"\"))","v":50},null,null,null,null,null,"Plan_ZPR"]
[null,"СП от ЗПМ",null,null,null,{"$f":"IF('Базовые цены с учетом расхода'!S66>0,'Базовые цены с учетом расхода'!S66,IF('Базовые цены с учетом расхода'!S66<0,'Базовые цены с учетом расхода'!S66,\"\"))","v":""},null,null,null,null,null,"Plan_ZPM"]
[]
["41.","Е07-02-002-01\nУстановка опор из плит и колец диаметром до 1000 мм, 100 м3 сборных железобетонных конструкций",1.6000000000000001E-3,{"$f":"'Базовые цены за единицу'!B67","v":36619.72},{"$f":"'Базовые цены за единицу'!D67","v":29076.89},{"$f":"'Базовые цены с учетом расхода'!B67","v":59},{"$f":"'Базовые цены с учетом расхода'!C67","v":9},{"$f":"'Базовые цены с учетом расхода'!D67","v":47},547.55999999999995,{"$f":"'Базовые цены с учетом расхода'!I67","v":0.87609599999999999},"sum","IsZPR",null,{"$f":"'Базовые цены с учетом расхода'!F67","v":3}]
[null,null,null,{"$f":"'Базовые цены за единицу'!C67","v":5897.22},{"$f":"'Базовые цены за единицу'!E67","v":2719.39},null,null,{"$f":"'Базовые цены с учетом расхода'!E67","v":4},167.76,{"$f":"'Базовые цены с учетом расхода'!K67","v":0.26841599999999999},"sum_b","IsZPM"]
[null,{"$f":"IF(ROUND((0.02*8)/100,5)=C1749,\"Объем: 0,02*8\",\"\")","v":"Объем: 0,02*8"}]
[null,"Зарплата рабочих",null,null,null,9]
[null,"Эксплуатация машин",null,null,null,47]
[null,"в т.ч. зарплата машинистов",null,null,null,4]
[null,"Материалы",null,null,null,3]
[null,"в т.ч. Вспомогательные материалы от стоимости материалов"]
[null,"в т.ч. Вспомогательные ненормируемые материалы",null,null,null,null,null,null,null,null,"NenormMatOtZPR","IsMater"]
[null,"в т.ч. Ненормированная з.п. рабочих"]
[null,"в т.ч. Ненормированная стоимость эксплуатации машин"]
[null,"в т.ч. Ненормированная оплата механизаторов"]
[null,"Накладные расходы",130,null,null,{"$f":"IF('Базовые цены с учетом расхода'!N67>0,'Базовые цены с учетом расхода'!N67,IF('Базовые цены с учетом расхода'!N67<0,'Базовые цены с учетом расхода'!N67,\"\"))","v":17},null,null,null,null,null,"Nakl"]
[null,"НР от ЗПР",130,null,null,{"$f":"IF('Базовые цены с учетом расхода'!P67>0,'Базовые цены с учетом расхода'!P67,IF('Базовые цены с учетом расхода'!P67<0,'Базовые цены с учетом расхода'!P67,\"\"))","v":12},null,null,null,null,null,"Nakl_ZPR"]
[null,"НР от ЗПМ",130,null,null,{"$f":"IF('Базовые цены с учетом расхода'!Q67>0,'Базовые цены с учетом расхода'!Q67,IF('Базовые цены с учетом расхода'!Q67<0,'Базовые цены с учетом расхода'!Q67,\"\"))","v":6},null,null,null,null,null,"Nakl_ZPM"]
[null,"Сметная прибыль",72,null,null,{"$f":"IF('Базовые цены с учетом расхода'!O67>0,'Базовые цены с учетом расхода'!O67,IF('Базовые цены с учетом расхода'!O67<0,'Базовые цены с учетом расхода'!O67,\"\"))","v":9},null,null,null,null,null,"Plan"]
[null,"СП от ЗПР",72,null,null,{"$f":"IF('Базовые цены с учетом расхода'!R67>0,'Базовые цены с учетом расхода'!R67,IF('Базовые цены с учетом расхода'!R67<0,'Базовые цены с учетом расхода'!R67,\"\"))","v":7},null,null,null,null,null,"Plan_ZPR"]
[null,"СП от ЗПМ",72,null,null,{"$f":"IF('Базовые цены с учетом расхода'!S67>0,'Базовые цены с учетом расхода'!S67,IF('Базовые цены с учетом расхода'!S67<0,'Базовые цены с учетом расхода'!S67,\"\"))","v":3},null,null,null,null,null,"Plan_ZPM"]
[]
["42.","С ЦС 3 2017 с.55\nКольцо опорное КО7-1 (11880*1,02*1,103), м3",0.16,{"$f":"'Базовые цены за единицу'!B68","v":2114.83},{"$f":"'Базовые цены за единицу'!D68","v":0},{"$f":"'Базовые цены с учетом расхода'!B68","v":338},{"$f":"'Базовые цены с учетом расхода'!C68","v":0},{"$f":"'Базовые цены с учетом расхода'!D68","v":0},null,{"$f":"'Базовые цены с учетом расхода'!I68","v":0},"sum","IsZPR",null,{"$f":"'Базовые цены с учетом расхода'!F68","v":338}]
[null,null,null,{"$f":"'Базовые цены за единицу'!C68","v":0},{"$f":"'Базовые цены за единицу'!E68","v":0},null,null,{"$f":"'Базовые цены с учетом расхода'!E68","v":0},null,{"$f":"'Базовые цены с учетом расхода'!K68","v":0},"sum_b","IsZPM"]
[null,{"$f":"IF(ROUND((0.02*8)/1,5)=C1768,\"Объем: 0,02*8\",\"\")","v":"Объем: 0,02*8"}]
[null,"   Поправки: М: =11880*1.103*1.02/6.32"]
[null,"Зарплата рабочих"]
[null,"Эксплуатация машин"]
[null,"в т.ч. зарплата машинистов"]
[null,"Материалы",null,null,null,338]
[null,"в т.ч. Вспомогательные материалы от стоимости материалов"]
[null,"в т.ч. Вспомогательные ненормируемые материалы",null,null,null,null,null,null,null,null,"NenormMatOtZPR","IsMater"]
[null,"в т.ч. Ненормированная з.п. рабочих"]
[null,"в т.ч. Ненормированная стоимость эксплуатации машин"]
[null,"в т.ч. Ненормированная оплата механизаторов"]
[null,"Накладные расходы",null,null,null,{"$f":"IF('Базовые цены с учетом расхода'!N68>0,'Базовые цены с учетом расхода'!N68,IF('Базовые цены с учетом расхода'!N68<0,'Базовые цены с учетом расхода'!N68,\"\"))","v":""},null,null,null,null,null,"Nakl"]
[null,"НР от ЗПР",null,null,null,{"$f":"IF('Базовые цены с учетом расхода'!P68>0,'Базовые цены с учетом расхода'!P68,IF('Базовые цены с учетом расхода'!P68<0,'Базовые цены с учетом расхода'!P68,\"\"))","v":""},null,null,null,null,null,"Nakl_ZPR"]
[null,"НР от ЗПМ",null,null,null,{"$f":"IF('Базовые цены с учетом расхода'!Q68>0,'Базовые цены с учетом расхода'!Q68,IF('Базовые цены с учетом расхода'!Q68<0,'Базовые цены с учетом расхода'!Q68,\"\"))","v":""},null,null,null,null,null,"Nakl_ZPM"]
[null,"Сметная прибыль",null,null,null,{"$f":"IF('Базовые цены с учетом расхода'!O68>0,'Базовые цены с учетом расхода'!O68,IF('Базовые цены с учетом расхода'!O68<0,'Базовые цены с учетом расхода'!O68,\"\"))","v":""},null,null,null,null,null,"Plan"]
[null,"СП от ЗПР",null,null,null,{"$f":"IF('Базовые цены с учетом расхода'!R68>0,'Базовые цены с учетом расхода'!R68,IF('Базовые цены с учетом расхода'!R68<0,'Базовые цены с учетом расхода'!R68,\"\"))","v":""},null,null,null,null,null,"Plan_ZPR"]
[null,"СП от ЗПМ",null,null,null,{"$f":"IF('Базовые цены с учетом расхода'!S68>0,'Базовые цены с учетом расхода'!S68,IF('Базовые цены с учетом расхода'!S68<0,'Базовые цены с учетом расхода'!S68,\"\"))","v":""},null,null,null,null,null,"Plan_ZPM"]
[]
["43.","Е23-04-011-01\nУстановка люка, 1 шт.",8,{"$f":"'Базовые цены за единицу'!B69","v":1102.1600000000001},{"$f":"'Базовые цены за единицу'!D69","v":8.61},{"$f":"'Базовые цены с учетом расхода'!B69","v":8818},{"$f":"'Базовые цены с учетом расхода'!C69","v":109},{"$f":"'Базовые цены с учетом расхода'!D69","v":69},1.31,{"$f":"'Базовые цены с учетом расхода'!I69","v":10.48},"sum","IsZPR",null,{"$f":"'Базовые цены с учетом расхода'!F69","v":8640}]
[null,null,null,{"$f":"'Базовые цены за единицу'!C69","v":13.6},{"$f":"'Базовые цены за единицу'!E69","v":0},null,null,{"$f":"'Базовые цены с учетом расхода'!E69","v":0},null,{"$f":"'Базовые цены с учетом расхода'!K69","v":0},"sum_b","IsZPM"]
[null,"Зарплата рабочих",null,null,null,109]
[null,"Эксплуатация машин",null,null,null,69]
[null,"в т.ч. зарплата машинистов"]
[null,"Материалы",null,null,null,8640]
[null,"в т.ч. Вспомогательные материалы от стоимости материалов"]
[null,"в т.ч. Вспомогательные ненормируемые материалы",null,null,null,null,null,null,null,null,"NenormMatOtZPR","IsMater"]
[null,"в т.ч. Ненормированная з.п. рабочих"]
[null,"в т.ч. Ненормированная стоимость эксплуатации машин"]
[null,"в т.ч. Ненормированная оплата механизаторов"]
[null,"Накладные расходы",130,null,null,{"$f":"IF('Базовые цены с учетом расхода'!N69>0,'Базовые цены с учетом расхода'!N69,IF('Базовые цены с учетом расхода'!N69<0,'Базовые цены с учетом расхода'!N69,\"\"))","v":142},null,null,null,null,null,"Nakl"]
[null,"НР от ЗПР",130,null,null,{"$f":"IF('Базовые цены с учетом расхода'!P69>0,'Базовые цены с учетом расхода'!P69,IF('Базовые цены с учетом расхода'!P69<0,'Базовые цены с учетом расхода'!P69,\"\"))","v":141},null,null,null,null,null,"Nakl_ZPR"]
[null,"НР от ЗПМ",null,null,null,{"$f":"IF('Базовые цены с учетом расхода'!Q69>0,'Базовые цены с учетом расхода'!Q69,IF('Базовые цены с учетом расхода'!Q69<0,'Базовые цены с учетом расхода'!Q69,\"\"))","v":""},null,null,null,null,null,"Nakl_ZPM"]
[null,"Сметная прибыль",76,null,null,{"$f":"IF('Базовые цены с учетом расхода'!O69>0,'Базовые цены с учетом расхода'!O69,IF('Базовые цены с учетом расхода'!O69<0,'Базовые цены с учетом расхода'!O69,\"\"))","v":83},null,null,null,null,null,"Plan"]
[null,"СП от ЗПР",76,null,null,{"$f":"IF('Базовые цены с учетом расхода'!R69>0,'Базовые цены с учетом расхода'!R69,IF('Базовые цены с учетом расхода'!R69<0,'Базовые цены с учетом расхода'!R69,\"\"))","v":83},null,null,null,null,null,"Plan_ZPR"]
[null,"СП от ЗПМ",null,null,null,{"$f":"IF('Базовые цены с учетом расхода'!S69>0,'Базовые цены с учетом расхода'!S69,IF('Базовые цены с учетом расхода'!S69<0,'Базовые цены с учетом расхода'!S69,\"\"))","v":""},null,null,null,null,null,"Plan_ZPM"]
[]
[null,".    ИТОГО  ПО  РАЗДЕЛУ 7",null,null,null,{"$f":"'Базовые концовки'!F958","v":9321},{"$f":"'Базовые концовки'!G958","v":183},{"$f":"'Базовые концовки'!H958","v":157},null,{"$f":"'Базовые концовки'!J958","v":17.644096000000001},null,null,null,{"$f":"'Базовые концовки'!L958","v":8981},null,null,null,{"$f":"'Базовые концовки'!M958","v":0}]
[null,null,null,null,null,null,null,{"$f":"'Базовые концовки'!I958","v":4},null,{"$f":"'Базовые концовки'!K958","v":0.26841599999999999}]
[null,"СТОИМОСТЬ ОБОРУДОВАНИЯ -",null,null,null,{"$f":"'Базовые концовки'!F959","v":0},{"$f":"'Базовые концовки'!G959","v":0},{"$f":"'Базовые концовки'!H959","v":0},null,{"$f":"'Базовые концовки'!J959","v":0},null,null,null,{"$f":"'Базовые концовки'!L959","v":0},null,null,null,{"$f":"'Базовые концовки'!M959","v":0}]
[null,".   ЗАПАСНЫЕ ЧАСТИ -",null,null,null,{"$f":"'Базовые концовки'!F960","v":0}]
[null,".   ТАРА И УПАКОВКА -",null,null,null,{"$f":"'Базовые концовки'!F961","v":0}]
[null,".   ТРАНСПОРТНЫЕ РАСХОДЫ -",null,null,null,{"$f":"'Базовые концовки'!F962","v":0}]
[null,".   КОМПЛЕКТАЦИЯ -",null,null,null,{"$f":"'Базовые концовки'!F963","v":0}]
[null,".   НАЦЕНКА СНАБА -",null,null,null,{"$f":"'Базовые концовки'!F964","v":0}]
[null,".   ЗАГОТОВИТЕЛЬНО-СКЛАДСКИЕ РАСХОДЫ -",null,null,null,{"$f":"'Базовые концовки'!F965","v":0}]
[null,". ШЕФМОНТАЖ ПО ОБОРУДОВАНИЮ -",null,null,null,{"$f":"'Базовые концовки'!F966","v":0}]
[null,". ШЕФМОНТАЖ -",null,null,null,{"$f":"'Базовые концовки'!F967","v":0}]
[null,"ВСЕГО, СТОИМОСТЬ ОБОРУДОВАНИЯ -",null,null,null,{"$f":"'Базовые концовки'!F968","v":0}]
[null,"Оборудование ТЦ",null,null,null,{"$f":"'Базовые концовки'!F969","v":0}]
[null,"СТОИМОСТЬ МОНТАЖНЫХ РАБОТ -",null,null,null,{"$f":"'Базовые концовки'!F970","v":0},{"$f":"'Базовые концовки'!G970","v":0},{"$f":"'Базовые концовки'!H970","v":0},null,{"$f":"'Базовые концовки'!J970","v":0},null,null,null,{"$f":"'Базовые концовки'!L970","v":0},null,null,null,{"$f":"'Базовые концовки'!M970","v":0}]
[null,".     В ТОМ ЧИСЛЕ:"]
[null,". ОТКЛОНЕНИЕ ПО ЗАРАБОТНОЙ ПЛАТЕ -",null,null,null,null,{"$f":"'Базовые концовки'!G972","v":0}]
[null,". КОСВЕННЫЕ РАСХОДЫ -",null,null,null,{"$f":"'Базовые концовки'!F973","v":0}]
[null,". МАТЕРИАЛЬНЫЕ РЕСУРСЫ НЕ УЧТЕННЫЕ В РАСЦЕНКАХ -",null,null,null,{"$f":"'Базовые концовки'!F974","v":0}]
[null,".   СТОИМОСТЬ ВОЗВРАЩАЕМЫХ МАТЕРИАЛОВ -",null,null,null,{"$f":"'Базовые концовки'!F975","v":0}]
[null,".   НАКЛАДНЫЕ РАСХОДЫ -",null,null,null,{"$f":"'Базовые концовки'!F976","v":0}]
[null,".   СМЕТНАЯ ПРИБЫЛЬ -",null,null,null,{"$f":"'Базовые концовки'!F977","v":0}]
[null,". ШЕФМОНТАЖ -",null,null,null,{"$f":"'Базовые концовки'!F978","v":0}]
[null,"ВСЕГО, СТОИМОСТЬ МОНТАЖНЫХ РАБОТ -",null,null,null,{"$f":"'Базовые концовки'!F979","v":0}]
[null,"Монтажные работы БЦ ЭМ",null,null,null,{"$f":"'Базовые концовки'!F980","v":0}]
[null,"Монтажные работы БЦ ЗПМ",null,null,null,{"$f":"'Базовые концовки'!F981","v":0}]
[null,"Монтажные работы ТЦ ЗП",null,null,null,{"$f":"'Базовые концовки'!F982","v":0}]
[null,"Монтажные работы ТЦ ЗПМ",null,null,null,{"$f":"'Базовые концовки'!F983","v":0}]
[null,"Монтажные работы ТЦ ЭМ",null,null,null,{"$f":"'Базовые концовки'!F984","v":0}]
[null,"Монтажные работы ТЦ материалы",null,null,null,{"$f":"'Базовые концовки'!F985","v":0}]
[null,"Монтажные работы ТЦ НР",null,null,null,{"$f":"'Базовые концовки'!F986","v":0}]
[null,"Монтажные работы ТЦ СП",null,null,null,{"$f":"'Базовые концовки'!F987","v":0}]
[null,"Монтажные работы ТЦ всего",null,null,null,{"$f":"'Базовые концовки'!F988","v":0}]
[null,"СТОИМОСТЬ ОБЩЕСТРОИТЕЛЬНЫХ РАБОТ -",null,null,null,{"$f":"'Базовые концовки'!F989","v":9321},{"$f":"'Базовые концовки'!G989","v":183},{"$f":"'Базовые концовки'!H989","v":157},null,{"$f":"'Базовые концовки'!J989","v":17.644096000000001},null,null,null,{"$f":"'Базовые концовки'!L989","v":8981},null,null,null,{"$f":"'Базовые концовки'!M989","v":0}]
[null,null,null,null,null,null,null,{"$f":"'Базовые концовки'!I989","v":4},null,{"$f":"'Базовые концовки'!K989","v":0.26841599999999999}]
[null,".     В ТОМ ЧИСЛЕ:"]
[null,".       МАТЕРИАЛОВ -",null,null,null,{"$f":"'Базовые концовки'!F991","v":0}]
[null,".   СТОИМОСТЬ ВОЗВРАЩАЕМЫХ МАТЕРИАЛОВ -",null,null,null,{"$f":"'Базовые концовки'!F992","v":0}]
[null,".   НАКЛАДНЫЕ РАСХОДЫ - (%=130 - по стр. 40, 41, 43)",null,null,null,{"$f":"'Базовые концовки'!F993","v":244}]
[null,".   СМЕТНАЯ ПРИБЫЛЬ - (%=76 - по стр. 40, 43; %=72 - по стр. 41)",null,null,null,{"$f":"'Базовые концовки'!F994","v":141}]
[null,"ВСЕГО, СТОИМОСТЬ ОБЩЕСТРОИТЕЛЬНЫХ РАБОТ -",null,null,null,{"$f":"'Базовые концовки'!F995","v":9706}]
[null,"СТОИМОСТЬ МЕТАЛЛОМОНТАЖНЫХ РАБОТ -",null,null,null,{"$f":"'Базовые концовки'!F996","v":0},{"$f":"'Базовые концовки'!G996","v":0},{"$f":"'Базовые концовки'!H996","v":0},null,{"$f":"'Базовые концовки'!J996","v":0},null,null,null,{"$f":"'Базовые концовки'!L996","v":0},null,null,null,{"$f":"'Базовые концовки'!M996","v":0}]
[null,".   СТОИМОСТЬ ВОЗВРАЩАЕМЫХ МАТЕРИАЛОВ -",null,null,null,{"$f":"'Базовые концовки'!F997","v":0}]
[null,".   НАКЛАДНЫЕ РАСХОДЫ -",null,null,null,{"$f":"'Базовые концовки'!F998","v":0}]
[null,".   СМЕТНАЯ ПРИБЫЛЬ -",null,null,null,{"$f":"'Базовые концовки'!F999","v":0}]
[null,"ВСЕГО, СТОИМОСТЬ МЕТАЛЛОМОНТАЖНЫХ РАБОТ -",null,null,null,{"$f":"'Базовые концовки'!F1000","v":0}]
[null,"СТОИМОСТЬ САНТЕХНИЧЕСКИХ РАБОТ -",null,null,null,{"$f":"'Базовые концовки'!F1001","v":0},{"$f":"'Базовые концовки'!G1001","v":0},{"$f":"'Базовые концовки'!H1001","v":0},null,{"$f":"'Базовые концовки'!J1001","v":0},null,null,null,{"$f":"'Базовые концовки'!L1001","v":0},null,null,null,{"$f":"'Базовые концовки'!M1001","v":0}]
[null,".     В ТОМ ЧИСЛЕ:"]
[null,". СДАЧА И ИСПЫТАНИЕ -",null,null,null,{"$f":"'Базовые концовки'!F1003","v":0},{"$f":"'Базовые концовки'!G1003","v":0},{"$f":"'Базовые концовки'!H1003","v":0},null,{"$f":"'Базовые концовки'!J1003","v":0},null,null,null,{"$f":"'Базовые концовки'!L1003","v":0},null,null,null,{"$f":"'Базовые концовки'!M1003","v":0}]
[null,".   СТОИМОСТЬ ВОЗВРАЩАЕМЫХ МАТЕРИАЛОВ -",null,null,null,{"$f":"'Базовые концовки'!F1004","v":0}]
[null,".   НАКЛАДНЫЕ РАСХОДЫ -",null,null,null,{"$f":"'Базовые концовки'!F1005","v":0}]
[null,".   СМЕТНАЯ ПРИБЫЛЬ -",null,null,null,{"$f":"'Базовые концовки'!F1006","v":0}]
[null,". ШЕФМОНТАЖ -",null,null,null,{"$f":"'Базовые концовки'!F1007","v":0}]
[null,"ВСЕГО, СТОИМОСТЬ САНТЕХНИЧЕСКИХ РАБОТ -",null,null,null,{"$f":"'Базовые концовки'!F1008","v":0}]
[null,"СТОИМОСТЬ БУРО-ВЗРЫВНЫХ РАБОТ -",null,null,null,{"$f":"'Базовые концовки'!F1009","v":0},{"$f":"'Базовые концовки'!G1009","v":0},{"$f":"'Базовые концовки'!H1009","v":0},null,{"$f":"'Базовые концовки'!J1009","v":0},null,null,null,{"$f":"'Базовые концовки'!L1009","v":0},null,null,null,{"$f":"'Базовые концовки'!M1009","v":0}]
[null,".   СТОИМОСТЬ ВОЗВРАЩАЕМЫХ МАТЕРИАЛОВ -",null,null,null,{"$f":"'Базовые концовки'!F1010","v":0}]
[null,".   НАКЛАДНЫЕ РАСХОДЫ -",null,null,null,{"$f":"'Базовые концовки'!F1011","v":0}]
[null,".   СМЕТНАЯ ПРИБЫЛЬ -",null,null,null,{"$f":"'Базовые концовки'!F1012","v":0}]
[null,"ВСЕГО, СТОИМОСТЬ БУРО-ВЗРЫВНЫХ РАБОТ -",null,null,null,{"$f":"'Базовые концовки'!F1013","v":0}]
[null,"СТОИМОСТЬ ГОРНОПРОХОДЧЕСКИХ РАБОТ -",null,null,null,{"$f":"'Базовые концовки'!F1014","v":0},{"$f":"'Базовые концовки'!G1014","v":0},{"$f":"'Базовые концовки'!H1014","v":0},null,{"$f":"'Базовые концовки'!J1014","v":0},null,null,null,{"$f":"'Базовые концовки'!L1014","v":0},null,null,null,{"$f":"'Базовые концовки'!M1014","v":0}]
[null,".   СТОИМОСТЬ ВОЗВРАЩАЕМЫХ МАТЕРИАЛОВ -",null,null,null,{"$f":"'Базовые концовки'!F1015","v":0}]
[null,".   НАКЛАДНЫЕ РАСХОДЫ -",null,null,null,{"$f":"'Базовые концовки'!F1016","v":0}]
[null,".   СМЕТНАЯ ПРИБЫЛЬ -",null,null,null,{"$f":"'Базовые концовки'!F1017","v":0}]
[null,"ВСЕГО, СТОИМОСТЬ ГОРНОПРОХОДЧЕСКИХ РАБОТ -",null,null,null,{"$f":"'Базовые концовки'!F1018","v":0}]
[null,"СТОИМОСТЬ РЕСТАВРАЦИОННЫХ РАБОТ -",null,null,null,{"$f":"'Базовые концовки'!F1019","v":0},{"$f":"'Базовые концовки'!G1019","v":0},{"$f":"'Базовые концовки'!H1019","v":0},null,{"$f":"'Базовые концовки'!J1019","v":0},null,null,null,{"$f":"'Базовые концовки'!L1019","v":0},null,null,null,{"$f":"'Базовые концовки'!M1019","v":0}]
[null,".     В ТОМ ЧИСЛЕ:"]
[null,". МАТЕРИАЛЫ -",null,null,null,{"$f":"'Базовые концовки'!F1021","v":0}]
[null,".   СТОИМОСТЬ ВОЗВРАЩАЕМЫХ МАТЕРИАЛОВ -",null,null,null,{"$f":"'Базовые концовки'!F1022","v":0}]
[null,".   НАКЛАДНЫЕ РАСХОДЫ -",null,null,null,{"$f":"'Базовые концовки'!F1023","v":0}]
[null,".   СМЕТНАЯ ПРИБЫЛЬ -",null,null,null,{"$f":"'Базовые концовки'!F1024","v":0}]
[null,"ВСЕГО, СТОИМОСТЬ РЕСТАВРАЦИОННЫХ РАБОТ -",null,null,null,{"$f":"'Базовые концовки'!F1025","v":0}]
[null,"Строительные работы БЦ ЭМ",null,null,null,{"$f":"'Базовые концовки'!F1026","v":157}]
[null,"Строительные работы БЦ ЗПМ",null,null,null,{"$f":"'Базовые концовки'!F1027","v":4}]
[null,"Строительные работы ТЦ ЗП",21.324000000000002,null,null,{"$f":"'Базовые концовки'!F1028","v":3902}]
[null,"Строительные работы ТЦ ЗПМ",21.324000000000002,null,null,{"$f":"'Базовые концовки'!F1029","v":85}]
[null,"Строительные работы ТЦ ЭМ",6.1520000000000001,null,null,{"$f":"'Базовые концовки'!F1030","v":966}]
[null,"Строительные работы ТЦ материалы",6.32,null,null,{"$f":"'Базовые концовки'!F1031","v":56760}]
[null,"Строительные работы ТЦ НР",21.324000000000002,null,null,{"$f":"'Базовые концовки'!F1032","v":5203}]
[null,"Строительные работы ТЦ СП",21.324000000000002,null,null,{"$f":"'Базовые концовки'!F1033","v":3007}]
[null,"Строительные работы ТЦ всего",null,null,null,{"$f":"'Базовые концовки'!F1034","v":69838}]
[null,"СТОИМОСТЬ ПЕРЕВОЗКИ ГРУЗОВ -",null,null,null,{"$f":"'Базовые концовки'!F1035","v":0},{"$f":"'Базовые концовки'!G1035","v":0},{"$f":"'Базовые концовки'!H1035","v":0},null,{"$f":"'Базовые концовки'!J1035","v":0},null,null,null,{"$f":"'Базовые концовки'!L1035","v":0},null,null,null,{"$f":"'Базовые концовки'!M1035","v":0}]
[null,"СТОИМОСТЬ ПОГРУЗКИ-РАЗГРУЗКИ",null,null,null,{"$f":"'Базовые концовки'!F1036","v":0},{"$f":"'Базовые концовки'!G1036","v":0},{"$f":"'Базовые концовки'!H1036","v":0},null,{"$f":"'Базовые концовки'!J1036","v":0},null,null,null,{"$f":"'Базовые концовки'!L1036","v":0},null,null,null,{"$f":"'Базовые концовки'!M1036","v":0}]
[null,".   В Т.Ч. НАКЛАДНЫЕ РАСХОДЫ -",null,null,null,{"$f":"'Базовые концовки'!F1037","v":0}]
[null,".   В Т.Ч. СМЕТНАЯ ПРИБЫЛЬ -",null,null,null,{"$f":"'Базовые концовки'!F1038","v":0}]
[null,".   НАКЛАДНЫЕ РАСХОДЫ -",null,null,null,{"$f":"'Базовые концовки'!F1039","v":0}]
[null,".   СМЕТНАЯ ПРИБЫЛЬ -",null,null,null,{"$f":"'Базовые концовки'!F1040","v":0}]
[null,"ВСЕГО, СТОИМОСТЬ ПЕРЕВОЗКИ ГРУЗОВ -",null,null,null,{"$f":"'Базовые концовки'!F1041","v":0}]
[null,"ВСЕГО, СТОИМОСТЬ ПОГРУЗКИ-РАЗГРУЗКИ -",null,null,null,{"$f":"'Базовые концовки'!F1042","v":0}]
[null,"Погрузка-разгрузка БЦ ЭМ",null,null,null,{"$f":"'Базовые концовки'!F1043","v":0}]
[null,"Погрузка-разгрузка БЦ ЗПМ",null,null,null,{"$f":"'Базовые концовки'!F1044","v":0}]
[null,"Погрузка-разгрузка ТЦ ЗП",null,null,null,{"$f":"'Базовые концовки'!F1045","v":0}]
[null,"Погрузка-разгрузка ТЦ ЗПМ",null,null,null,{"$f":"'Базовые концовки'!F1046","v":0}]
[null,"Погрузка-разгрузка ТЦ ЭМ",null,null,null,{"$f":"'Базовые концовки'!F1047","v":0}]
[null,"Погрузка-разгрузка ТЦ материалы",null,null,null,{"$f":"'Базовые концовки'!F1048","v":0}]
[null,"Погрузка-разгрузка ТЦ в т.ч. НР",null,null,null,{"$f":"'Базовые концовки'!F1049","v":0}]
[null,"Погрузка-разгрузка ТЦ в т.ч. СП",null,null,null,{"$f":"'Базовые концовки'!F1050","v":0}]
[null,"Погрузка-разгрузка ТЦ НР",null,null,null,{"$f":"'Базовые концовки'!F1051","v":0}]
[null,"Погрузка-разгрузка ТЦ СП",null,null,null,{"$f":"'Базовые концовки'!F1052","v":0}]
[null,"Погрузка-разгрузка ТЦ всего",null,null,null,{"$f":"'Базовые концовки'!F1053","v":0}]
[null,"ПЕРЕВОЗКА (таб.6)",null,null,null,{"$f":"'Базовые концовки'!F1054","v":0},{"$f":"'Базовые концовки'!G1054","v":0},{"$f":"'Базовые концовки'!H1054","v":0},null,{"$f":"'Базовые концовки'!J1054","v":0},null,null,null,{"$f":"'Базовые концовки'!L1054","v":0},null,null,null,{"$f":"'Базовые концовки'!M1054","v":0}]
[null,"ПЕРЕВОЗКА (таб.7)",null,null,null,{"$f":"'Базовые концовки'!F1055","v":0},{"$f":"'Базовые концовки'!G1055","v":0},{"$f":"'Базовые концовки'!H1055","v":0},null,{"$f":"'Базовые концовки'!J1055","v":0},null,null,null,{"$f":"'Базовые концовки'!L1055","v":0},null,null,null,{"$f":"'Базовые концовки'!M1055","v":0}]
[null,"ПЕРЕВОЗКА (таб.8)",null,null,null,{"$f":"'Базовые концовки'!F1056","v":0},{"$f":"'Базовые концовки'!G1056","v":0},{"$f":"'Базовые концовки'!H1056","v":0},null,{"$f":"'Базовые концовки'!J1056","v":0},null,null,null,{"$f":"'Базовые концовки'!L1056","v":0},null,null,null,{"$f":"'Базовые концовки'!M1056","v":0}]
[null,"Перевозка (таб.6) ТЦ",null,null,null,{"$f":"'Базовые концовки'!F1057","v":0}]
[null,"Перевозка (таб.7) ТЦ",null,null,null,{"$f":"'Базовые концовки'!F1058","v":0}]
[null,"Перевозка (таб.8) ТЦ",null,null,null,{"$f":"'Базовые концовки'!F1059","v":0}]
[null,"Перевозка ТЦ  всего",null,null,null,{"$f":"'Базовые концовки'!F1060","v":0}]
[null,"СТОИМОСТЬ ПУСКОНАЛАДОЧНЫХ РАБОТ -",null,null,null,{"$f":"'Базовые концовки'!F1061","v":0},{"$f":"'Базовые концовки'!G1061","v":0},{"$f":"'Базовые концовки'!H1061","v":0},null,{"$f":"'Базовые концовки'!J1061","v":0},null,null,null,{"$f":"'Базовые концовки'!L1061","v":0},null,null,null,{"$f":"'Базовые концовки'!M1061","v":0}]
[null,".   НАКЛАДНЫЕ РАСХОДЫ -",null,null,null,{"$f":"'Базовые концовки'!F1062","v":0}]
[null,".   СМЕТНАЯ ПРИБЫЛЬ -",null,null,null,{"$f":"'Базовые концовки'!F1063","v":0}]
[null,"ВСЕГО, СТОИМОСТЬ ПУСКОНАЛАДОЧНЫХ РАБОТ -",null,null,null,{"$f":"'Базовые концовки'!F1064","v":0}]
[null,"Пусконаладочные работы ТЦ ЗП",null,null,null,{"$f":"'Базовые концовки'!F1065","v":0}]
[null,"Пусконаладочные работы ТЦ НР",null,null,null,{"$f":"'Базовые концовки'!F1066","v":0}]
[null,"Пусконаладочные работы ТЦ СП",null,null,null,{"$f":"'Базовые концовки'!F1067","v":0}]
[null,"Пусконаладочные работы ТЦ всего",null,null,null,{"$f":"'Базовые концовки'!F1068","v":0}]
[null,"СТОИМОСТЬ ПРОЧИХ РАБОТ (с НР и СП) -",null,null,null,{"$f":"'Базовые концовки'!F1069","v":0},{"$f":"'Базовые концовки'!G1069","v":0},{"$f":"'Базовые концовки'!H1069","v":0},null,{"$f":"'Базовые концовки'!J1069","v":0},null,null,null,{"$f":"'Базовые концовки'!L1069","v":0},null,null,null,{"$f":"'Базовые концовки'!M1069","v":0}]
[null,".   СТОИМОСТЬ ВОЗВРАЩАЕМЫХ МАТЕРИАЛОВ -",null,null,null,{"$f":"'Базовые концовки'!F1070","v":0}]
[null,".   НАКЛАДНЫЕ РАСХОДЫ -",null,null,null,{"$f":"'Базовые концовки'!F1071","v":0}]
[null,".   СМЕТНАЯ ПРИБЫЛЬ -",null,null,null,{"$f":"'Базовые концовки'!F1072","v":0}]
[null,"ВСЕГО, СТОИМОСТЬ ПРОЧИХ РАБОТ (с НР и СП) -",null,null,null,{"$f":"'Базовые концовки'!F1073","v":0}]
[null,"ВСЕГО, СТОИМОСТЬ ПРОЧИХ РАБОТ (без НР и СП) -",null,null,null,{"$f":"'Базовые концовки'!F1074","v":0},{"$f":"'Базовые концовки'!G1074","v":0},{"$f":"'Базовые концовки'!H1074","v":0},null,{"$f":"'Базовые концовки'!J1074","v":0},null,null,null,{"$f":"'Базовые концовки'!L1074","v":0},null,null,null,{"$f":"'Базовые концовки'!M1074","v":0}]
[null,".   СТОИМОСТЬ ВОЗВРАЩАЕМЫХ МАТЕРИАЛОВ -",null,null,null,{"$f":"'Базовые концовки'!F1075","v":0}]
[null,"Прочие работы БЦ ЭМ",null,null,null,{"$f":"'Базовые концовки'!F1076","v":0}]
[null,"Прочие работы БЦ ЗПМ",null,null,null,{"$f":"'Базовые концовки'!F1077","v":0}]
[null,"Прочие работы ТЦ ЗП",null,null,null,{"$f":"'Базовые концовки'!F1078","v":0}]
[null,"Прочие работы ТЦ ЗПМ",null,null,null,{"$f":"'Базовые концовки'!F1079","v":0}]
[null,"Прочие работы ТЦ ЭМ",null,null,null,{"$f":"'Базовые концовки'!F1080","v":0}]
[null,"Прочие работы ТЦ материалы",null,null,null,{"$f":"'Базовые концовки'!F1081","v":0}]
[null,"Прочие работы ТЦ НР",null,null,null,{"$f":"'Базовые концовки'!F1082","v":0}]
[null,"Прочие работы ТЦ СП",null,null,null,{"$f":"'Базовые концовки'!F1083","v":0}]
[null,"Прочие работы ТЦ всего",null,null,null,{"$f":"'Базовые концовки'!F1084","v":0}]
[null,". ВСЕГО  ПО  РАЗДЕЛУ 7",null,null,null,{"$f":"'Базовые концовки'!F1085","v":9706},{"$f":"'Базовые концовки'!G1085","v":0},{"$f":"'Базовые концовки'!H1085","v":0},null,{"$f":"'Базовые концовки'!J1085","v":0},null,null,null,{"$f":"'Базовые концовки'!L1085","v":0},null,null,null,{"$f":"'Базовые концовки'!M1085","v":0}]
[null,"ВСЕГО СТОИМОСТЬ ВОЗВРАЩАЕМЫХ МАТЕРИАЛОВ -",null,null,null,{"$f":"'Базовые концовки'!F1086","v":0}]
[null,"ВСЕГО НАКЛАДНЫЕ РАСХОДЫ",null,null,null,{"$f":"'Базовые концовки'!F1087","v":244}]
[null,"ВСЕГО НАКЛАДНЫЕ РАСХОДЫ",null,null,null,{"$f":"'Базовые концовки'!F1088","v":244}]
[null,"ВСЕГО СМЕТНАЯ ПРИБЫЛЬ",null,null,null,{"$f":"'Базовые концовки'!F1089","v":141}]
[null,"ВСЕГО СМЕТНАЯ ПРИБЫЛЬ",null,null,null,{"$f":"'Базовые концовки'!F1090","v":141}]
[null,"в т.ч. Вспомогательные материалы на монтаж",null,null,null,{"$f":"'Базовые концовки'!F1091","v":0},null,null,null,null,null,null,null,{"$f":"'Базовые концовки'!L1091","v":0}]
[null,"в т.ч. Вспомогательные материалы от ОЗП",null,null,null,{"$f":"'Базовые концовки'!F1092","v":0}]
[null,"Оплата основных рабочих",null,null,null,{"$f":"'Базовые концовки'!F1093","v":183}]
[null,"Оплата механизаторов",null,null,null,{"$f":"'Базовые концовки'!F1094","v":4}]
[null,"Стоимость механизмов",null,null,null,{"$f":"'Базовые концовки'!F1095","v":157}]
[null,"Сметная стоимость материалов",null,null,null,{"$f":"'Базовые концовки'!F1096","v":8981},null,null,null,null,null,null,null,{"$f":"'Базовые концовки'!L1096","v":8981}]
[null,"Трудозатраты осн. рабочих",null,null,null,null,null,null,null,{"$f":"'Базовые концовки'!J1097","v":17.644096000000001}]
[null,"Трудозатраты механизаторов",null,null,null,null,null,null,null,{"$f":"'Базовые концовки'!J1098","v":0.26841599999999999}]
[null,"Нормативная трудоемкость",null,null,null,null,null,null,null,{"$f":"'Базовые концовки'!J1099","v":17.912512}]
[null,"Оплата основных рабочих ТЦ",null,null,null,{"$f":"'Базовые концовки'!F1100","v":3902}]
[null,"Оплата механизаторов ТЦ",null,null,null,{"$f":"'Базовые концовки'!F1101","v":85}]
[null,"Стоимость механизмов ТЦ",null,null,null,{"$f":"'Базовые концовки'!F1102","v":966}]
[null,"Стоимость материалов ТЦ",null,null,null,{"$f":"'Базовые концовки'!F1103","v":56760}]
[null,"Оборудование ТЦ",null,null,null,{"$f":"'Базовые концовки'!F1104","v":0}]
[null,"Перевозка ТЦ",null,null,null,{"$f":"'Базовые концовки'!F1105","v":0}]
[null,"ИТОГО ТЦ",null,null,null,{"$f":"'Базовые концовки'!F1106","v":61628}]
[null,"В Т.Ч. НАКЛАДНЫЕ РАСХОДЫ ТЦ",null,null,null,{"$f":"'Базовые концовки'!F1107","v":0}]
[null,"В Т.Ч. СМЕТНАЯ ПРИБЫЛЬ ТЦ",null,null,null,{"$f":"'Базовые концовки'!F1108","v":0}]
[null,"НАКЛАДНЫЕ РАСХОДЫ ТЦ",null,null,null,{"$f":"'Базовые концовки'!F1109","v":5203}]
[null,"СМЕТНАЯ ПРИБЫЛЬ ТЦ",null,null,null,{"$f":"'Базовые концовки'!F1110","v":3007}]
[null,"ВСЕГО ТЦ",null,null,null,{"$f":"'Базовые концовки'!F1111","v":69838}]
[]
[null,".    ИТОГО  ПО  СМЕТЕ",null,null,null,{"$f":"'Базовые концовки'!F1113","v":201531},{"$f":"'Базовые концовки'!G1113","v":9345},{"$f":"'Базовые концовки'!H1113","v":30893},null,{"$f":"'Базовые концовки'!J1113","v":922.54929000000004},null,null,null,{"$f":"'Базовые концовки'!L1113","v":158006},null,null,null,{"$f":"'Базовые концовки'!M1113","v":0}]
[null,null,null,null,null,null,null,{"$f":"'Базовые концовки'!I1113","v":2693},null,{"$f":"'Базовые концовки'!K1113","v":186.46529200000001}]
[null,"СТОИМОСТЬ ОБОРУДОВАНИЯ -",null,null,null,{"$f":"'Базовые концовки'!F1114","v":0},{"$f":"'Базовые концовки'!G1114","v":0},{"$f":"'Базовые концовки'!H1114","v":0},null,{"$f":"'Базовые концовки'!J1114","v":0},null,null,null,{"$f":"'Базовые концовки'!L1114","v":0},null,null,null,{"$f":"'Базовые концовки'!M1114","v":0}]
[null,".   ЗАПАСНЫЕ ЧАСТИ -",null,null,null,{"$f":"'Базовые концовки'!F1115","v":0}]
[null,".   ТАРА И УПАКОВКА -",null,null,null,{"$f":"'Базовые концовки'!F1116","v":0}]
[null,".   ТРАНСПОРТНЫЕ РАСХОДЫ -",null,null,null,{"$f":"'Базовые концовки'!F1117","v":0}]
[null,".   КОМПЛЕКТАЦИЯ -",null,null,null,{"$f":"'Базовые концовки'!F1118","v":0}]
[null,".   НАЦЕНКА СНАБА -",null,null,null,{"$f":"'Базовые концовки'!F1119","v":0}]
[null,".   ЗАГОТОВИТЕЛЬНО-СКЛАДСКИЕ РАСХОДЫ -",null,null,null,{"$f":"'Базовые концовки'!F1120","v":0}]
[null,". ШЕФМОНТАЖ ПО ОБОРУДОВАНИЮ -",null,null,null,{"$f":"'Базовые концовки'!F1121","v":0}]
[null,". ШЕФМОНТАЖ -",null,null,null,{"$f":"'Базовые концовки'!F1122","v":0}]
[null,"ВСЕГО, СТОИМОСТЬ ОБОРУДОВАНИЯ -",null,null,null,{"$f":"'Базовые концовки'!F1123","v":0}]
[null,"Оборудование ТЦ",null,null,null,{"$f":"'Базовые концовки'!F1124","v":0}]
[null,"СТОИМОСТЬ МОНТАЖНЫХ РАБОТ -",null,null,null,{"$f":"'Базовые концовки'!F1125","v":0},{"$f":"'Базовые концовки'!G1125","v":0},{"$f":"'Базовые концовки'!H1125","v":0},null,{"$f":"'Базовые концовки'!J1125","v":0},null,null,null,{"$f":"'Базовые концовки'!L1125","v":0},null,null,null,{"$f":"'Базовые концовки'!M1125","v":0}]
[null,".     В ТОМ ЧИСЛЕ:"]
[null,". ОТКЛОНЕНИЕ ПО ЗАРАБОТНОЙ ПЛАТЕ -",null,null,null,null,{"$f":"'Базовые концовки'!G1127","v":0}]
[null,". КОСВЕННЫЕ РАСХОДЫ -",null,null,null,{"$f":"'Базовые концовки'!F1128","v":0}]
[null,". МАТЕРИАЛЬНЫЕ РЕСУРСЫ НЕ УЧТЕННЫЕ В РАСЦЕНКАХ -",null,null,null,{"$f":"'Базовые концовки'!F1129","v":0}]
[null,".   СТОИМОСТЬ ВОЗВРАЩАЕМЫХ МАТЕРИАЛОВ -",null,null,null,{"$f":"'Базовые концовки'!F1130","v":0}]
[null,".   НАКЛАДНЫЕ РАСХОДЫ -",null,null,null,{"$f":"'Базовые концовки'!F1131","v":0}]
[null,".   СМЕТНАЯ ПРИБЫЛЬ -",null,null,null,{"$f":"'Базовые концовки'!F1132","v":0}]
[null,". ШЕФМОНТАЖ -",null,null,null,{"$f":"'Базовые концовки'!F1133","v":0}]
[null,"ВСЕГО, СТОИМОСТЬ МОНТАЖНЫХ РАБОТ -",null,null,null,{"$f":"'Базовые концовки'!F1134","v":0}]
[null,"Монтажные работы БЦ ЭМ",null,null,null,{"$f":"'Базовые концовки'!F1135","v":0}]
[null,"Монтажные работы БЦ ЗПМ",null,null,null,{"$f":"'Базовые концовки'!F1136","v":0}]
[null,"Монтажные работы ТЦ ЗП",null,null,null,{"$f":"'Базовые концовки'!F1137","v":0}]
[null,"Монтажные работы ТЦ ЗПМ",null,null,null,{"$f":"'Базовые концовки'!F1138","v":0}]
[null,"Монтажные работы ТЦ ЭМ",null,null,null,{"$f":"'Базовые концовки'!F1139","v":0}]
[null,"Монтажные работы ТЦ материалы",null,null,null,{"$f":"'Базовые концовки'!F1140","v":0}]
[null,"Монтажные работы ТЦ НР",null,null,null,{"$f":"'Базовые концовки'!F1141","v":0}]
[null,"Монтажные работы ТЦ СП",null,null,null,{"$f":"'Базовые концовки'!F1142","v":0}]
[null,"Монтажные работы ТЦ всего",null,null,null,{"$f":"'Базовые концовки'!F1143","v":0}]
[null,"СТОИМОСТЬ ОБЩЕСТРОИТЕЛЬНЫХ РАБОТ -",null,null,null,{"$f":"'Базовые концовки'!F1144","v":184272},{"$f":"'Базовые концовки'!G1144","v":7983},{"$f":"'Базовые концовки'!H1144","v":18283},null,{"$f":"'Базовые концовки'!J1144","v":777.29499999999996},null,null,null,{"$f":"'Базовые концовки'!L1144","v":158006},null,null,null,{"$f":"'Базовые концовки'!M1144","v":0}]
[null,null,null,null,null,null,null,{"$f":"'Базовые концовки'!I1144","v":2000},null,{"$f":"'Базовые концовки'!K1144","v":129.16775200000001}]
[null,".     В ТОМ ЧИСЛЕ:"]
[null,".       МАТЕРИАЛОВ -",null,null,null,{"$f":"'Базовые концовки'!F1146","v":104985}]
[null,".   СТОИМОСТЬ ВОЗВРАЩАЕМЫХ МАТЕРИАЛОВ -",null,null,null,{"$f":"'Базовые концовки'!F1147","v":0}]
[null,".   НАКЛАДНЫЕ РАСХОДЫ - (%=104 - по стр. 1, 2, 9; %=80 - по стр. 3-5; %=95 - по стр. 12; %=142 - по стр. 15, 18, 20, 22, 23, 25, 30, 31, 33, 34, 36, 37; %=105 - по стр. 26; %=115 - по стр. 39; %=130 - по стр. 40, 41, 43)",null,null,null,{"$f":"'Базовые концовки'!F1148","v":13224}]
[null,".   СМЕТНАЯ ПРИБЫЛЬ - (%=60 - по стр. 1, 2, 9; %=38 - по стр. 3-5; %=43 - по стр. 12; %=81 - по стр. 15, 18, 20, 22, 23, 25, 30, 31, 33, 34, 36, 37; %=55 - по стр. 26; %=77 - по стр. 39; %=76 - по стр. 40, 43; %=72 - по стр. 41)",null,null,null,{"$f":"'Базовые концовки'!F1149","v":7699}]
[null,"ВСЕГО, СТОИМОСТЬ ОБЩЕСТРОИТЕЛЬНЫХ РАБОТ -",null,null,null,{"$f":"'Базовые концовки'!F1150","v":205195}]
[null,"СТОИМОСТЬ МЕТАЛЛОМОНТАЖНЫХ РАБОТ -",null,null,null,{"$f":"'Базовые концовки'!F1151","v":0},{"$f":"'Базовые концовки'!G1151","v":0},{"$f":"'Базовые концовки'!H1151","v":0},null,{"$f":"'Базовые концовки'!J1151","v":0},null,null,null,{"$f":"'Базовые концовки'!L1151","v":0},null,null,null,{"$f":"'Базовые концовки'!M1151","v":0}]
[null,".   СТОИМОСТЬ ВОЗВРАЩАЕМЫХ МАТЕРИАЛОВ -",null,null,null,{"$f":"'Базовые концовки'!F1152","v":0}]
[null,".   НАКЛАДНЫЕ РАСХОДЫ -",null,null,null,{"$f":"'Базовые концовки'!F1153","v":0}]
[null,".   СМЕТНАЯ ПРИБЫЛЬ -",null,null,null,{"$f":"'Базовые концовки'!F1154","v":0}]
[null,"ВСЕГО, СТОИМОСТЬ МЕТАЛЛОМОНТАЖНЫХ РАБОТ -",null,null,null,{"$f":"'Базовые концовки'!F1155","v":0}]
[null,"СТОИМОСТЬ САНТЕХНИЧЕСКИХ РАБОТ -",null,null,null,{"$f":"'Базовые концовки'!F1156","v":0},{"$f":"'Базовые концовки'!G1156","v":0},{"$f":"'Базовые концовки'!H1156","v":0},null,{"$f":"'Базовые концовки'!J1156","v":0},null,null,null,{"$f":"'Базовые концовки'!L1156","v":0},null,null,null,{"$f":"'Базовые концовки'!M1156","v":0}]
[null,".     В ТОМ ЧИСЛЕ:"]
[null,". СДАЧА И ИСПЫТАНИЕ -",null,null,null,{"$f":"'Базовые концовки'!F1158","v":0},{"$f":"'Базовые концовки'!G1158","v":0},{"$f":"'Базовые концовки'!H1158","v":0},null,{"$f":"'Базовые концовки'!J1158","v":0},null,null,null,{"$f":"'Базовые концовки'!L1158","v":0},null,null,null,{"$f":"'Базовые концовки'!M1158","v":0}]
[null,".   СТОИМОСТЬ ВОЗВРАЩАЕМЫХ МАТЕРИАЛОВ -",null,null,null,{"$f":"'Базовые концовки'!F1159","v":0}]
[null,".   НАКЛАДНЫЕ РАСХОДЫ -",null,null,null,{"$f":"'Базовые концовки'!F1160","v":0}]
[null,".   СМЕТНАЯ ПРИБЫЛЬ -",null,null,null,{"$f":"'Базовые концовки'!F1161","v":0}]
[null,". ШЕФМОНТАЖ -",null,null,null,{"$f":"'Базовые концовки'!F1162","v":0}]
[null,"ВСЕГО, СТОИМОСТЬ САНТЕХНИЧЕСКИХ РАБОТ -",null,null,null,{"$f":"'Базовые концовки'!F1163","v":0}]
[null,"СТОИМОСТЬ БУРО-ВЗРЫВНЫХ РАБОТ -",null,null,null,{"$f":"'Базовые концовки'!F1164","v":0},{"$f":"'Базовые концовки'!G1164","v":0},{"$f":"'Базовые концовки'!H1164","v":0},null,{"$f":"'Базовые концовки'!J1164","v":0},null,null,null,{"$f":"'Базовые концовки'!L1164","v":0},null,null,null,{"$f":"'Базовые концовки'!M1164","v":0}]
[null,".   СТОИМОСТЬ ВОЗВРАЩАЕМЫХ МАТЕРИАЛОВ -",null,null,null,{"$f":"'Базовые концовки'!F1165","v":0}]
[null,".   НАКЛАДНЫЕ РАСХОДЫ -",null,null,null,{"$f":"'Базовые концовки'!F1166","v":0}]
[null,".   СМЕТНАЯ ПРИБЫЛЬ -",null,null,null,{"$f":"'Базовые концовки'!F1167","v":0}]
[null,"ВСЕГО, СТОИМОСТЬ БУРО-ВЗРЫВНЫХ РАБОТ -",null,null,null,{"$f":"'Базовые концовки'!F1168","v":0}]
[null,"СТОИМОСТЬ ГОРНОПРОХОДЧЕСКИХ РАБОТ -",null,null,null,{"$f":"'Базовые концовки'!F1169","v":0},{"$f":"'Базовые концовки'!G1169","v":0},{"$f":"'Базовые концовки'!H1169","v":0},null,{"$f":"'Базовые концовки'!J1169","v":0},null,null,null,{"$f":"'Базовые концовки'!L1169","v":0},null,null,null,{"$f":"'Базовые концовки'!M1169","v":0}]
[null,".   СТОИМОСТЬ ВОЗВРАЩАЕМЫХ МАТЕРИАЛОВ -",null,null,null,{"$f":"'Базовые концовки'!F1170","v":0}]
[null,".   НАКЛАДНЫЕ РАСХОДЫ -",null,null,null,{"$f":"'Базовые концовки'!F1171","v":0}]
[null,".   СМЕТНАЯ ПРИБЫЛЬ -",null,null,null,{"$f":"'Базовые концовки'!F1172","v":0}]
[null,"ВСЕГО, СТОИМОСТЬ ГОРНОПРОХОДЧЕСКИХ РАБОТ -",null,null,null,{"$f":"'Базовые концовки'!F1173","v":0}]
[null,"СТОИМОСТЬ РЕСТАВРАЦИОННЫХ РАБОТ -",null,null,null,{"$f":"'Базовые концовки'!F1174","v":0},{"$f":"'Базовые концовки'!G1174","v":0},{"$f":"'Базовые концовки'!H1174","v":0},null,{"$f":"'Базовые концовки'!J1174","v":0},null,null,null,{"$f":"'Базовые концовки'!L1174","v":0},null,null,null,{"$f":"'Базовые концовки'!M1174","v":0}]
[null,".     В ТОМ ЧИСЛЕ:"]
[null,". МАТЕРИАЛЫ -",null,null,null,{"$f":"'Базовые концовки'!F1176","v":104985}]
[null,".   СТОИМОСТЬ ВОЗВРАЩАЕМЫХ МАТЕРИАЛОВ -",null,null,null,{"$f":"'Базовые концовки'!F1177","v":0}]
[null,".   НАКЛАДНЫЕ РАСХОДЫ -",null,null,null,{"$f":"'Базовые концовки'!F1178","v":0}]
[null,".   СМЕТНАЯ ПРИБЫЛЬ -",null,null,null,{"$f":"'Базовые концовки'!F1179","v":0}]
[null,"ВСЕГО, СТОИМОСТЬ РЕСТАВРАЦИОННЫХ РАБОТ -",null,null,null,{"$f":"'Базовые концовки'!F1180","v":0}]
[null,"Строительные работы БЦ ЭМ",null,null,null,{"$f":"'Базовые концовки'!F1181","v":18283}]
[null,"Строительные работы БЦ ЗПМ",null,null,null,{"$f":"'Базовые концовки'!F1182","v":2000}]
[null,"Расчет стоимости работ в текущем уровне цен на март 2017 г. Протокол №03И/2017 от 14.03.2017"]
[]
[null,"Строительные работы ТЦ ЗП",21.324000000000002,null,null,{"$f":"'Базовые концовки'!F1183","v":170229}]
[null,"Строительные работы ТЦ ЗПМ",21.324000000000002,null,null,{"$f":"'Базовые концовки'!F1184","v":42648}]
[null,"Строительные работы ТЦ ЭМ",6.1520000000000001,null,null,{"$f":"'Базовые концовки'!F1185","v":112477}]
[null,"Строительные работы ТЦ материалы","Расчет",null,null,{"$f":"[1]Рес.см.расчет!$I$33","v":1139631}]
[null,"Строительные работы ТЦ НР","с к-0,85",null,null,204358]
[null,"Строительные работы ТЦ СП","с к-0,8",null,null,112325]
[null,"Строительные работы ТЦ всего",null,null,null,{"$f":"F2037+F2039+F2040+F2041+F2042","v":1739020}]
[null,"СТОИМОСТЬ ПЕРЕВОЗКИ ГРУЗОВ -",null,null,null,{"$f":"'Базовые концовки'!F1190","v":17259},{"$f":"'Базовые концовки'!G1190","v":1362},{"$f":"'Базовые концовки'!H1190","v":12610},null,{"$f":"'Базовые концовки'!J1190","v":145.25429},null,null,null,{"$f":"'Базовые концовки'!L1190","v":0},null,null,null,{"$f":"'Базовые концовки'!M1190","v":0}]
[null,null,null,null,null,null,null,{"$f":"'Базовые концовки'!I1190","v":693},null,{"$f":"'Базовые концовки'!K1190","v":57.297539999999998}]
[null,"СТОИМОСТЬ ПОГРУЗКИ-РАЗГРУЗКИ",null,null,null,{"$f":"'Базовые концовки'!F1191","v":9539},{"$f":"'Базовые концовки'!G1191","v":1362},{"$f":"'Базовые концовки'!H1191","v":4890},null,{"$f":"'Базовые концовки'!J1191","v":145.25429},null,null,null,{"$f":"'Базовые концовки'!L1191","v":0},null,null,null,{"$f":"'Базовые концовки'!M1191","v":0}]
[null,null,null,null,null,null,null,{"$f":"'Базовые концовки'!I1191","v":693},null,{"$f":"'Базовые концовки'!K1191","v":57.297539999999998}]
[null,".   В Т.Ч. НАКЛАДНЫЕ РАСХОДЫ - (%=100 - по стр. 7, 10, 13)",null,null,null,{"$f":"'Базовые концовки'!F1192","v":2056}]
[null,".   В Т.Ч. СМЕТНАЯ ПРИБЫЛЬ - (%=60 - по стр. 7, 10, 13)",null,null,null,{"$f":"'Базовые концовки'!F1193","v":1231}]
[null,".   НАКЛАДНЫЕ РАСХОДЫ -",null,null,null,{"$f":"'Базовые концовки'!F1194","v":0}]
[null,".   СМЕТНАЯ ПРИБЫЛЬ -",null,null,null,{"$f":"'Базовые концовки'!F1195","v":0}]
[null,"ВСЕГО, СТОИМОСТЬ ПЕРЕВОЗКИ ГРУЗОВ -",null,null,null,{"$f":"'Базовые концовки'!F1196","v":17259}]
[null,"ВСЕГО, СТОИМОСТЬ ПОГРУЗКИ-РАЗГРУЗКИ -",null,null,null,{"$f":"'Базовые концовки'!F1197","v":9539}]
[null,"Погрузка-разгрузка БЦ ЭМ",null,null,null,{"$f":"'Базовые концовки'!F1198","v":4890}]
[null,"Погрузка-разгрузка БЦ ЗПМ",null,null,null,{"$f":"'Базовые концовки'!F1199","v":693}]
[null,"Погрузка-разгрузка ТЦ ЗП",21.324000000000002,null,null,{"$f":"'Базовые концовки'!F1200","v":29043}]
[null,"Погрузка-разгрузка ТЦ ЗПМ",21.324000000000002,null,null,{"$f":"'Базовые концовки'!F1201","v":14778}]
[null,"Погрузка-разгрузка ТЦ ЭМ",6.1520000000000001,null,null,{"$f":"'Базовые концовки'!F1202","v":30083}]
[null,"Погрузка-разгрузка ТЦ материалы",null,null,null,{"$f":"'Базовые концовки'!F1203","v":0}]
[null,"Погрузка-разгрузка ТЦ в т.ч. НР",21.324000000000002,null,null,{"$f":"'Базовые концовки'!F1204","v":43842}]
[null,"Погрузка-разгрузка ТЦ в т.ч. СП",21.324000000000002,null,null,{"$f":"'Базовые концовки'!F1205","v":26250}]
[null,"Погрузка-разгрузка ТЦ НР",null,null,null,{"$f":"'Базовые концовки'!F1206","v":0}]
[null,"Погрузка-разгрузка ТЦ СП",null,null,null,{"$f":"'Базовые концовки'!F1207","v":0}]
[null,"Погрузка-разгрузка ТЦ всего",null,null,null,{"$f":"'Базовые концовки'!F1208","v":129218}]
[null,"ПЕРЕВОЗКА (таб.6)",null,null,null,{"$f":"'Базовые концовки'!F1209","v":0},{"$f":"'Базовые концовки'!G1209","v":0},{"$f":"'Базовые концовки'!H1209","v":0},null,{"$f":"'Базовые концовки'!J1209","v":0},null,null,null,{"$f":"'Базовые концовки'!L1209","v":0},null,null,null,{"$f":"'Базовые концовки'!M1209","v":0}]
[null,"ПЕРЕВОЗКА (таб.7)",null,null,null,{"$f":"'Базовые концовки'!F1210","v":0},{"$f":"'Базовые концовки'!G1210","v":0},{"$f":"'Базовые концовки'!H1210","v":0},null,{"$f":"'Базовые концовки'!J1210","v":0},null,null,null,{"$f":"'Базовые концовки'!L1210","v":0},null,null,null,{"$f":"'Базовые концовки'!M1210","v":0}]
[null,"ПЕРЕВОЗКА (таб.8)",null,null,null,{"$f":"'Базовые концовки'!F1211","v":7720},{"$f":"'Базовые концовки'!G1211","v":0},{"$f":"'Базовые концовки'!H1211","v":7720},null,{"$f":"'Базовые концовки'!J1211","v":0},null,null,null,{"$f":"'Базовые концовки'!L1211","v":0},null,null,null,{"$f":"'Базовые концовки'!M1211","v":0}]
[null,"Перевозка (таб.6) ТЦ",null,null,null,{"$f":"'Базовые концовки'!F1212","v":0}]
[null,"Перевозка (таб.7) ТЦ",null,null,null,{"$f":"'Базовые концовки'!F1213","v":0}]
[null,"Перевозка (таб.8) ТЦ",10.144,null,null,{"$f":"'Базовые концовки'!F1214","v":78312}]
[null,"Перевозка ТЦ  всего",null,null,null,{"$f":"'Базовые концовки'!F1215","v":78312}]
[null,"СТОИМОСТЬ ПУСКОНАЛАДОЧНЫХ РАБОТ -",null,null,null,{"$f":"'Базовые концовки'!F1216","v":0},{"$f":"'Базовые концовки'!G1216","v":0},{"$f":"'Базовые концовки'!H1216","v":0},null,{"$f":"'Базовые концовки'!J1216","v":0},null,null,null,{"$f":"'Базовые концовки'!L1216","v":0},null,null,null,{"$f":"'Базовые концовки'!M1216","v":0}]
[null,".   НАКЛАДНЫЕ РАСХОДЫ -",null,null,null,{"$f":"'Базовые концовки'!F1217","v":0}]
[null,".   СМЕТНАЯ ПРИБЫЛЬ -",null,null,null,{"$f":"'Базовые концовки'!F1218","v":0}]
[null,"ВСЕГО, СТОИМОСТЬ ПУСКОНАЛАДОЧНЫХ РАБОТ -",null,null,null,{"$f":"'Базовые концовки'!F1219","v":0}]
[null,"Пусконаладочные работы ТЦ ЗП",null,null,null,{"$f":"'Базовые концовки'!F1220","v":0}]
[null,"Пусконаладочные работы ТЦ НР",null,null,null,{"$f":"'Базовые концовки'!F1221","v":0}]
[null,"Пусконаладочные работы ТЦ СП",null,null,null,{"$f":"'Базовые концовки'!F1222","v":0}]
[null,"Пусконаладочные работы ТЦ всего",null,null,null,{"$f":"'Базовые концовки'!F1223","v":0}]
[null,"СТОИМОСТЬ ПРОЧИХ РАБОТ (с НР и СП) -",null,null,null,{"$f":"'Базовые концовки'!F1224","v":0},{"$f":"'Базовые концовки'!G1224","v":0},{"$f":"'Базовые концовки'!H1224","v":0},null,{"$f":"'Базовые концовки'!J1224","v":0},null,null,null,{"$f":"'Базовые концовки'!L1224","v":0},null,null,null,{"$f":"'Базовые концовки'!M1224","v":0}]
[null,".   СТОИМОСТЬ ВОЗВРАЩАЕМЫХ МАТЕРИАЛОВ -",null,null,null,{"$f":"'Базовые концовки'!F1225","v":0}]
[null,".   НАКЛАДНЫЕ РАСХОДЫ -",null,null,null,{"$f":"'Базовые концовки'!F1226","v":0}]
[null,".   СМЕТНАЯ ПРИБЫЛЬ -",null,null,null,{"$f":"'Базовые концовки'!F1227","v":0}]
[null,"ВСЕГО, СТОИМОСТЬ ПРОЧИХ РАБОТ (с НР и СП) -",null,null,null,{"$f":"'Базовые концовки'!F1228","v":0}]
[null,"ВСЕГО, СТОИМОСТЬ ПРОЧИХ РАБОТ (без НР и СП) -",null,null,null,{"$f":"'Базовые концовки'!F1229","v":0},{"$f":"'Базовые концовки'!G1229","v":0},{"$f":"'Базовые концовки'!H1229","v":0},null,{"$f":"'Базовые концовки'!J1229","v":0},null,null,null,{"$f":"'Базовые концовки'!L1229","v":0},null,null,null,{"$f":"'Базовые концовки'!M1229","v":0}]
[null,".   СТОИМОСТЬ ВОЗВРАЩАЕМЫХ МАТЕРИАЛОВ -",null,null,null,{"$f":"'Базовые концовки'!F1230","v":0}]
[null,"Прочие работы БЦ ЭМ",null,null,null,{"$f":"'Базовые концовки'!F1231","v":0}]
[null,"Прочие работы БЦ ЗПМ",null,null,null,{"$f":"'Базовые концовки'!F1232","v":0}]
[null,"Прочие работы ТЦ ЗП",null,null,null,{"$f":"'Базовые концовки'!F1233","v":0}]
[null,"Прочие работы ТЦ ЗПМ",null,null,null,{"$f":"'Базовые концовки'!F1234","v":0}]
[null,"Прочие работы ТЦ ЭМ",null,null,null,{"$f":"'Базовые концовки'!F1235","v":0}]
[null,"Прочие работы ТЦ материалы",null,null,null,{"$f":"'Базовые концовки'!F1236","v":0}]
[null,"Прочие работы ТЦ НР",null,null,null,{"$f":"'Базовые концовки'!F1237","v":0}]
[null,"Прочие работы ТЦ СП",null,null,null,{"$f":"'Базовые концовки'!F1238","v":0}]
[null,"Прочие работы ТЦ всего",null,null,null,{"$f":"'Базовые концовки'!F1239","v":0}]
[null,". ВСЕГО  ПО  СМЕТЕ",null,null,null,{"$f":"'Базовые концовки'!F1240","v":222454},{"$f":"'Базовые концовки'!G1240","v":0},{"$f":"'Базовые концовки'!H1240","v":0},null,{"$f":"'Базовые концовки'!J1240","v":0},null,null,null,{"$f":"'Базовые концовки'!L1240","v":0},null,null,null,{"$f":"'Базовые концовки'!M1240","v":0}]
[null,"ВСЕГО СТОИМОСТЬ ВОЗВРАЩАЕМЫХ МАТЕРИАЛОВ -",null,null,null,{"$f":"'Базовые концовки'!F1241","v":0}]
[null,"ВСЕГО НАКЛАДНЫЕ РАСХОДЫ",null,null,null,{"$f":"'Базовые концовки'!F1242","v":13224}]
[null,"ВСЕГО НАКЛАДНЫЕ РАСХОДЫ",null,null,null,{"$f":"'Базовые концовки'!F1243","v":15280}]
[null,"ВСЕГО СМЕТНАЯ ПРИБЫЛЬ",null,null,null,{"$f":"'Базовые концовки'!F1244","v":7699}]
[null,"ВСЕГО СМЕТНАЯ ПРИБЫЛЬ",null,null,null,{"$f":"'Базовые концовки'!F1245","v":8930}]
[null,"в т.ч. Вспомогательные материалы на монтаж",null,null,null,{"$f":"'Базовые концовки'!F1246","v":0},null,null,null,null,null,null,null,{"$f":"'Базовые концовки'!L1246","v":0}]
[null,"в т.ч. Вспомогательные материалы от ОЗП",null,null,null,{"$f":"'Базовые концовки'!F1247","v":0}]
[null,"Оплата основных рабочих",null,null,null,{"$f":"'Базовые концовки'!F1248","v":9345}]
[null,"Оплата механизаторов",null,null,null,{"$f":"'Базовые концовки'!F1249","v":2693}]
[null,"Стоимость механизмов",null,null,null,{"$f":"'Базовые концовки'!F1250","v":30893}]
[null,"Сметная стоимость материалов",null,null,null,{"$f":"'Базовые концовки'!F1251","v":158006},null,null,null,null,null,null,null,{"$f":"'Базовые концовки'!L1251","v":158006}]
[null,"Трудозатраты осн. рабочих",null,null,null,null,null,null,null,{"$f":"'Базовые концовки'!J1252","v":922.54929000000004}]
[null,"Трудозатраты механизаторов",null,null,null,null,null,null,null,{"$f":"'Базовые концовки'!J1253","v":186.46529200000001}]
[null,"Нормативная трудоемкость",null,null,null,null,null,null,null,{"$f":"'Базовые концовки'!J1254","v":1109.014582}]
[null,"Оплата основных рабочих ТЦ",null,null,null,{"$f":"'Базовые концовки'!F1255","v":199272}]
[null,"Оплата механизаторов ТЦ",null,null,null,{"$f":"'Базовые концовки'!F1256","v":57426}]
[null,"Стоимость механизмов ТЦ",null,null,null,{"$f":"'Базовые концовки'!F1257","v":142560}]
[null,"Стоимость материалов ТЦ",null,null,null,{"$f":"F2040","v":1139631}]
[null,"Оборудование ТЦ",null,null,null,{"$f":"'Базовые концовки'!F1259","v":0}]
[null,"Перевозка ТЦ",null,null,null,{"$f":"'Базовые концовки'!F1260","v":78312}]
[null,"ИТОГО ТЦ",null,null,null,{"$f":"F2111+F2113+F2114+F2116","v":1559775}]
[null,"В Т.Ч. НАКЛАДНЫЕ РАСХОДЫ ТЦ",null,null,null,{"$f":"'Базовые концовки'!F1262","v":43842}]
[null,"В Т.Ч. СМЕТНАЯ ПРИБЫЛЬ ТЦ",null,null,null,{"$f":"'Базовые концовки'!F1263","v":26250}]
[null,"НАКЛАДНЫЕ РАСХОДЫ ТЦ",null,null,null,{"$f":"F2041+F2060","v":248200}]
[null,"СМЕТНАЯ ПРИБЫЛЬ ТЦ",null,null,null,{"$f":"F2042+F2061","v":138575}]
[null,"ВСЕГО ТЦ",null,null,null,{"$f":"F2117+F2120+F2121","v":1946550}]
[null,"Строительный контроль. %",2.14,null,null,{"$f":"F2122*0.0214","v":41656.17}]
[null,"ИТОГО ТЦ",null,null,null,{"$f":"F2122+F2123","v":1988206.17}]
[null,"Непредвиденные расходы",2,null,null,{"$f":"F2124*0.02","v":39764.123399999997}]
[null,"Итого",null,null,null,{"$f":"F2124+F2125","v":2027970.2933999998}]
[null,"НДС. %",18,null,null,{"$f":"F2126*0.18","v":365034.65281199996}]
[null,"Всего с НДС",null,null,null,{"$f":"F2126+F2127","v":2393004.9462119997}]
[]
[null,"Составил:","Панова Е.С."]
[null,null,"(должность, подпись, Ф.И.О)"]
[]
[null,"Проверил:"]
[null,null,"(должность, подпись, Ф.И.О)"]

{"sheet":"Базовые цены за единицу без нач","index":1,"n_rows":48,"n_cols":37,"rows_kept":48,"cut":false,"hidden":false,"merged":[[1,0,1,9],[2,1,2,9],[3,1,3,9],[4,0,4,9]]}
[null,"C1","C2","C3","C4","C5","C6","VOZVR","C8","C9","C10","C11","C12","NAKL","PLAN","NAKL_ZPR","NAKL_ZPM","PLAN_ZPR","PLAN_ZPM","RN11","RN12","RN13",null,"OBORUD_VSPOMOG","NAKL_PN","NAKL_VX","PLAN_PN","PLAN_VX","VTCH_PN","VTCH_VX","MR_BY_ZPR_VSPOMOG","NAKL_INC","PLAN_INC","RN14","RN15","RN16","OBORUD"]
[]
[null,"N = < 9 * 13 * 64 >"]
[null,"          Кирова,97 .Собственники"]
[]
[{"$f":"'Форма 4'!A27","v":"1."},{"$f":"ROUND(C6+D6+F6+AF6+AG6,2)","v":43.86},29.91,13.95,0,0,0,0,{"$f":"'Форма 4'!I27","v":2.97},0,{"$f":"'Форма 4'!I28","v":0},0,0,31.106400000000001,17.946000000000002,31.106400000000001,0,17.946000000000002,0,0,0,0,null,0,0,0,0,0,0,0,0,null,null,0,0,0,0]
[{"$f":"'Форма 4'!A45","v":"2."},90.13,61.53,28.6,0,0,0,0,{"$f":"'Форма 4'!I45","v":6.11},0,{"$f":"'Форма 4'!I46","v":0},0,0,63.991199999999999,36.917999999999999,63.991199999999999,0,36.917999999999999,0,0,0,0,null,0,0,0,0,0,0,0,0,null,null,0,0,0,0]
[{"$f":"'Форма 4'!A63","v":"3."},670.64,0,670.64,71.62,0,0,0,{"$f":"'Форма 4'!I63","v":0},0,{"$f":"'Форма 4'!I64","v":4.1399999999999997},0,0,57.295999999999999,27.215599999999998,0,57.295999999999999,0,27.215599999999998,0,0,0,null,0,0,0,0,0,0,0,0,null,null,0,0,0,0]
[{"$f":"'Форма 4'!A81","v":"4."},1086.95,0,1086.95,116.08,0,0,0,{"$f":"'Форма 4'!I81","v":0},0,{"$f":"'Форма 4'!I82","v":6.71},0,0,92.864000000000004,44.110399999999998,0,92.864000000000004,0,44.110399999999998,0,0,0,null,0,0,0,0,0,0,0,0,null,null,0,0,0,0]
[{"$f":"'Форма 4'!A99","v":"5."},295.39999999999998,0,295.39999999999998,37.770000000000003,0,0,0,{"$f":"'Форма 4'!I99","v":0},0,{"$f":"'Форма 4'!I100","v":2.33},0,0,30.216000000000001,14.352600000000001,0,30.216000000000001,0,14.352600000000001,0,0,0,null,0,0,0,0,0,0,0,0,null,null,0,0,0,0]
[{"$f":"'Форма 4'!A117","v":"6."},0,0,0,0,0,0,0,{"$f":"'Форма 4'!I117","v":0},0,{"$f":"'Форма 4'!I118","v":0},0,0,0,0,0,0,0,0,0,0,0,null,0,0,0,0,0,0,0,0,null,null,0,0,0,0]
[{"$f":"'Форма 4'!A136","v":"7."},18.98,2.71,9.73,1.38,0,0,0,{"$f":"'Форма 4'!I136","v":0.28899999999999998},0,{"$f":"'Форма 4'!I137","v":0.114},0,0,null,null,2.71,1.38,1.63,0.83,0,0,0,null,0,0,0,0,0,0,0,0,4.09,2.4500000000000002,0,0,0,0]
[{"$f":"'Форма 4'!A155","v":"8."},15.36,0,15.36,0,0,0,0,{"$f":"'Форма 4'!I155","v":0},0,{"$f":"'Форма 4'!I156","v":0},0,0,null,null,0,0,0,0,0,0,0,null,0,0,0,0,0,0,0,0,null,null,0,0,0,0]
[{"$f":"'Форма 4'!A334","v":"9."},1008.65,525.77,482.88,77.31,0,0,0,{"$f":"'Форма 4'!I334","v":52.63},0,{"$f":"'Форма 4'!I335","v":6.4},0,0,627.20320000000004,361.84800000000001,546.80079999999998,80.4024,315.46199999999999,46.386000000000003,0,0,0,null,0,0,0,0,0,0,0,0,null,null,0,0,0,0]
[{"$f":"'Форма 4'!A352","v":"10."},18.98,2.71,9.73,1.38,0,0,0,{"$f":"'Форма 4'!I352","v":0.28899999999999998},0,{"$f":"'Форма 4'!I353","v":0.114},0,0,null,null,2.71,1.38,1.63,0.83,0,0,0,null,0,0,0,0,0,0,0,0,4.09,2.4500000000000002,0,0,0,0]
[{"$f":"'Форма 4'!A371","v":"11."},15.36,0,15.36,0,0,0,0,{"$f":"'Форма 4'!I371","v":0},0,{"$f":"'Форма 4'!I372","v":0},0,0,null,null,0,0,0,0,0,0,0,null,0,0,0,0,0,0,0,0,null,null,0,0,0,0]
[{"$f":"'Форма 4'!A550","v":"12."},949.58,0,949.58,121.41,0,0,0,{"$f":"'Форма 4'!I550","v":0},0,{"$f":"'Форма 4'!I551","v":7.49},0,0,115.3395,52.206299999999999,0,115.3395,0,52.206299999999999,0,0,0,null,0,0,0,0,0,0,0,0,null,null,0,0,0,0]
[{"$f":"'Форма 4'!A569","v":"13."},18.98,2.71,9.73,1.38,0,0,0,{"$f":"'Форма 4'!I569","v":0.28899999999999998},0,{"$f":"'Форма 4'!I570","v":0.114},0,0,null,null,2.71,1.38,1.63,0.83,0,0,0,null,0,0,0,0,0,0,0,0,4.09,2.4500000000000002,0,0,0,0]
[{"$f":"'Форма 4'!A588","v":"14."},15.36,0,15.36,0,0,0,0,{"$f":"'Форма 4'!I588","v":0},0,{"$f":"'Форма 4'!I589","v":0},0,0,null,null,0,0,0,0,0,0,0,null,0,0,0,0,0,0,0,0,null,null,0,0,0,0]
[{"$f":"'Форма 4'!A607","v":"15."},4617.09,121.95,4465.6400000000003,478.22,29.5,0,0,{"$f":"'Форма 4'!I607","v":12.77},0,{"$f":"'Форма 4'!I608","v":29.74},0,0,852.2414,486.1377,173.16900000000001,679.07240000000002,98.779499999999999,387.35820000000001,0,0,0,null,0,0,0,0,0,0,0,0,null,null,0,0,0,0]
[{"$f":"'Форма 4'!A626","v":"16."},0,0,0,0,0,0,0,{"$f":"'Форма 4'!I626","v":0},0,{"$f":"'Форма 4'!I627","v":0},0,0,0,0,0,0,0,0,0,0,0,null,0,0,0,0,0,0,0,0,null,null,0,0,0,0]
[{"$f":"'Форма 4'!A646","v":"17."},0,0,0,0,0,0,0,{"$f":"'Форма 4'!I646","v":0},0,{"$f":"'Форма 4'!I647","v":0},0,0,0,0,0,0,0,0,0,0,0,null,0,0,0,0,0,0,0,0,null,null,0,0,0,0]
[{"$f":"'Форма 4'!A666","v":"18."},4617.09,121.95,4465.6400000000003,478.22,29.5,0,0,{"$f":"'Форма 4'!I666","v":12.77},0,{"$f":"'Форма 4'!I667","v":29.74},0,0,852.2414,486.1377,173.16900000000001,679.07240000000002,98.779499999999999,387.35820000000001,0,0,0,null,0,0,0,0,0,0,0,0,null,null,0,0,0,0]
[{"$f":"'Форма 4'!A685","v":"19."},0,0,0,0,0,0,0,{"$f":"'Форма 4'!I685","v":0},0,{"$f":"'Форма 4'!I686","v":0},0,0,0,0,0,0,0,0,0,0,0,null,0,0,0,0,0,0,0,0,null,null,0,0,0,0]
[{"$f":"'Форма 4'!A705","v":"20."},3259.67,442.75,2761.87,314.89999999999998,55.05,0,0,{"$f":"'Форма 4'!I705","v":38.299999999999997},0,{"$f":"'Форма 4'!I706","v":19.05},0,0,1075.8630000000001,613.69650000000001,628.70500000000004,447.15800000000002,358.6275,255.06899999999999,0,0,0,null,0,0,0,0,0,0,0,0,null,null,0,0,0,0]
[{"$f":"'Форма 4'!A723","v":"21."},518.6,0,0,0,518.6,486.02,0,{"$f":"'Форма 4'!I723","v":0},0,{"$f":"'Форма 4'!I724","v":0},1000,0,0,0,0,0,0,0,0,0,0,null,0,0,0,0,0,0,0,0,null,null,0,0,0,0]
[{"$f":"'Форма 4'!A742","v":"22."},3437.9,442.75,2769.94,315.39,225.21,0,0,{"$f":"'Форма 4'!I742","v":38.299999999999997},0,{"$f":"'Форма 4'!I743","v":19.079999999999998},0,0,1076.5588,614.09339999999997,628.70500000000004,447.85379999999998,358.6275,255.4659,0,0,0,null,0,0,0,0,0,0,0,0,null,null,0,0,0,0]
[{"$f":"'Форма 4'!A760","v":"23."},7.39,1.04,3.72,0,2.63,0,0,{"$f":"'Форма 4'!I760","v":0.09},0,{"$f":"'Форма 4'!I761","v":0},0,0,1.4767999999999999,0.84240000000000004,1.4767999999999999,0,0.84240000000000004,0,0,0,0,null,0,0,0,0,0,0,0,0,null,null,0,0,0,0]
[{"$f":"'Форма 4'!A779","v":"24."},570.70000000000005,0,0,0,570.70000000000005,537.1,0,{"$f":"'Форма 4'!I779","v":0},0,{"$f":"'Форма 4'!I780","v":0},1000,0,0,0,0,0,0,0,0,0,0,null,0,0,0,0,0,0,0,0,null,null,0,0,0,0]
[{"$f":"'Форма 4'!A959","v":"25."},4424.18,772.97,104.2,11.02,3547.01,0,0,{"$f":"'Форма 4'!I959","v":76.08},0,{"$f":"'Форма 4'!I960","v":0.68},0,0,1113.2657999999999,635.03189999999995,1097.6174000000001,15.648400000000001,626.10569999999996,8.9261999999999997,0,0,0,null,0,0,0,0,0,0,0,0,null,null,0,0,0,0]
[{"$f":"'Форма 4'!A979","v":"26."},64895.61,1686.6,2609.79,291.77999999999997,60599.22,53507.16,0,{"$f":"'Форма 4'!I979","v":180},0,{"$f":"'Форма 4'!I980","v":18},0,0,2077.299,1088.1089999999999,1770.93,306.36900000000003,927.63,160.47900000000001,0,0,0,null,0,0,0,0,0,0,0,0,null,null,0,0,0,0]
[{"$f":"'Форма 4'!A1000","v":"27."},0,0,0,0,0,0,0,{"$f":"'Форма 4'!I1000","v":0},0,{"$f":"'Форма 4'!I1001","v":0},0,0,0,0,0,0,0,0,0,0,0,null,0,0,0,0,0,0,0,0,null,null,0,0,0,0]
[{"$f":"'Форма 4'!A1020","v":"28."},0,0,0,0,0,0,0,{"$f":"'Форма 4'!I1020","v":0},0,{"$f":"'Форма 4'!I1021","v":0},0,0,0,0,0,0,0,0,0,0,0,null,0,0,0,0,0,0,0,0,null,null,0,0,0,0]
[{"$f":"'Форма 4'!A1040","v":"29."},0,0,0,0,0,0,0,{"$f":"'Форма 4'!I1040","v":0},0,{"$f":"'Форма 4'!I1041","v":0},0,0,0,0,0,0,0,0,0,0,0,null,0,0,0,0,0,0,0,0,null,null,0,0,0,0]
[{"$f":"'Форма 4'!A1219","v":"30."},592.78,266.60000000000002,322.22000000000003,42.03,3.96,0,0,{"$f":"'Форма 4'!I1219","v":26.24},0,{"$f":"'Форма 4'!I1220","v":3.17},0,0,438.25459999999998,249.99029999999999,378.572,59.682600000000001,215.946,34.0443,0,0,0,null,0,0,0,0,0,0,0,0,null,null,0,0,0,0]
[{"$f":"'Форма 4'!A1239","v":"31."},14.02,5.49,8.5299999999999994,1.21,0,0,0,{"$f":"'Форма 4'!I1239","v":0.54},0,{"$f":"'Форма 4'!I1240","v":0.1},0,0,9.5139999999999993,5.4269999999999996,7.7957999999999998,1.7181999999999999,4.4469000000000003,0.98009999999999997,0,0,0,null,0,0,0,0,0,0,0,0,null,null,0,0,0,0]
[{"$f":"'Форма 4'!A1259","v":"32."},0,0,0,0,0,0,0,{"$f":"'Форма 4'!I1259","v":0},0,{"$f":"'Форма 4'!I1260","v":0},0,0,0,0,0,0,0,0,0,0,0,null,0,0,0,0,0,0,0,0,null,null,0,0,0,0]
[{"$f":"'Форма 4'!A1279","v":"33."},592.78,266.60000000000002,322.22000000000003,42.03,3.96,0,0,{"$f":"'Форма 4'!I1279","v":26.24},0,{"$f":"'Форма 4'!I1280","v":3.17},0,0,438.25459999999998,249.99029999999999,378.572,59.682600000000001,215.946,34.0443,0,0,0,null,0,0,0,0,0,0,0,0,null,null,0,0,0,0]
[{"$f":"'Форма 4'!A1298","v":"34."},14.02,5.49,8.5299999999999994,1.21,0,0,0,{"$f":"'Форма 4'!I1298","v":0.54},0,{"$f":"'Форма 4'!I1299","v":0.1},0,0,9.5139999999999993,5.4269999999999996,7.7957999999999998,1.7181999999999999,4.4469000000000003,0.98009999999999997,0,0,0,null,0,0,0,0,0,0,0,0,null,null,0,0,0,0]
[{"$f":"'Форма 4'!A1318","v":"35."},0,0,0,0,0,0,0,{"$f":"'Форма 4'!I1318","v":0},0,{"$f":"'Форма 4'!I1319","v":0},0,0,0,0,0,0,0,0,0,0,0,null,0,0,0,0,0,0,0,0,null,null,0,0,0,0]
[{"$f":"'Форма 4'!A1338","v":"36."},304.01,118.03,73.39,0.32,112.59,0,0,{"$f":"'Форма 4'!I1338","v":10.210000000000001},0,{"$f":"'Форма 4'!I1339","v":0.02},0,0,168.05699999999999,95.863500000000002,167.6026,0.45440000000000003,95.604299999999995,0.25919999999999999,0,0,0,null,0,0,0,0,0,0,0,0,null,null,0,0,0,0]
[{"$f":"'Форма 4'!A1357","v":"37."},37.64,25.89,11.75,0,0,0,0,{"$f":"'Форма 4'!I1357","v":2.3199999999999998},0,{"$f":"'Форма 4'!I1358","v":0},0,0,36.763800000000003,20.9709,36.763800000000003,0,20.9709,0,0,0,0,null,0,0,0,0,0,0,0,0,null,null,0,0,0,0]
[{"$f":"'Форма 4'!A1377","v":"38."},570.70000000000005,0,0,0,570.70000000000005,537.1,0,{"$f":"'Форма 4'!I1377","v":0},0,{"$f":"'Форма 4'!I1378","v":0},1000,0,0,0,0,0,0,0,0,0,0,null,0,0,0,0,0,0,0,0,null,null,0,0,0,0]
[{"$f":"'Форма 4'!A1555","v":"39."},2061.5500000000002,382,0,0,1679.55,0,0,{"$f":"'Форма 4'!I1555","v":40},0,{"$f":"'Форма 4'!I1556","v":0},0,0,439.3,294.14,439.3,0,294.14,0,0,0,0,null,0,0,0,0,0,0,0,0,null,null,0,0,0,0]
[{"$f":"'Форма 4'!A1730","v":"40."},22.21,13.6,8.61,0,0,0,0,{"$f":"'Форма 4'!I1730","v":0.78600000000000003},0,{"$f":"'Форма 4'!I1731","v":0},0,0,17.68,10.336,17.68,0,10.336,0,0,0,0,null,0,0,0,0,0,0,0,0,null,null,0,0,0,0]
[{"$f":"'Форма 4'!A1749","v":"41."},36619.72,5897.22,29076.89,2719.39,1645.61,0,0,{"$f":"'Форма 4'!I1749","v":547.55999999999995},0,{"$f":"'Форма 4'!I1750","v":167.76},0,0,11201.593000000001,6203.9592000000002,7666.3860000000004,3535.2069999999999,4245.9984000000004,1957.9608000000001,0,0,0,null,0,0,0,0,0,0,0,0,null,null,0,0,0,0]
[{"$f":"'Форма 4'!A1768","v":"42."},0,0,0,0,0,0,0,{"$f":"'Форма 4'!I1768","v":0},0,{"$f":"'Форма 4'!I1769","v":0},0,0,0,0,0,0,0,0,0,0,0,null,0,0,0,0,0,0,0,0,null,null,0,0,0,0]
[{"$f":"'Форма 4'!A1788","v":"43."},1102.1600000000001,13.6,8.61,0,1079.95,0,0,{"$f":"'Форма 4'!I1788","v":1.31},0,{"$f":"'Форма 4'!I1789","v":0},0,0,17.68,10.336,17.68,0,10.336,0,0,0,0,null,0,0,0,0,0,0,0,0,null,null,0,0,0,0]

{"sheet":"Базовые цены за единицу","index":2,"n_rows":69,"n_cols":37,"rows_kept":69,"cut":false,"hidden":false,"merged":[[47,1,48,9],[1,0,1,9],[2,1,2,9],[3,1,3,9],[4,0,4,9],[63,1,64,9],[6,1,7,9],[17,1,18,9],[23,1,24,9],[39,1,40,9],[59,1,60,9]]}
[null,"C1","C2","C3","C4","C5","C6","VOZVR","C8","C9","C10","C11","C12","NAKL","PLAN","NAKL_ZPR","NAKL_ZPM","PLAN_ZPR","PLAN_ZPM","RN11","RN12","RN13",null,"OBORUD_VSPOMOG","NAKL_PN","NAKL_VX","PLAN_PN","PLAN_VX","VTCH_PN","VTCH_VX","MR_BY_ZPR_VSPOMOG","NAKL_INC","PLAN_INC","RN14","RN15","RN16","OBORUD"]
[]
[null,"N = < 9 * 13 * 64 >"]
[null,"          Кирова,97 .Собственники"]
[]
[]
[null,"Раздел 1.  Валка деревьев"]
[]
[{"$f":"'Форма 4'!A27","v":"1."},{"$f":"ROUND(C9+D9+F9+AF9+AG9,2)","v":43.86},29.91,13.95,0,0,0,0,{"$f":"'Форма 4'!I27","v":2.97},0,{"$f":"'Форма 4'!I28","v":0},0,0,31.106400000000001,17.946000000000002,31.106400000000001,0,17.946000000000002,0,0,0,0,null,0,0,0,0,0,0,0,0,null,null,0,0,0,0]
[{"$f":"'Форма 4'!A45","v":"2."},90.13,61.53,28.6,0,0,0,0,{"$f":"'Форма 4'!I45","v":6.11},0,{"$f":"'Форма 4'!I46","v":0},0,0,63.991199999999999,36.917999999999999,63.991199999999999,0,36.917999999999999,0,0,0,0,null,0,0,0,0,0,0,0,0,null,null,0,0,0,0]
[{"$f":"'Форма 4'!A63","v":"3."},670.64,0,670.64,71.62,0,0,0,{"$f":"'Форма 4'!I63","v":0},0,{"$f":"'Форма 4'!I64","v":4.1399999999999997},0,0,57.295999999999999,27.215599999999998,0,57.295999999999999,0,27.215599999999998,0,0,0,null,0,0,0,0,0,0,0,0,null,null,0,0,0,0]
[{"$f":"'Форма 4'!A81","v":"4."},1086.95,0,1086.95,116.08,0,0,0,{"$f":"'Форма 4'!I81","v":0},0,{"$f":"'Форма 4'!I82","v":6.71},0,0,92.864000000000004,44.110399999999998,0,92.864000000000004,0,44.110399999999998,0,0,0,null,0,0,0,0,0,0,0,0,null,null,0,0,0,0]
[{"$f":"'Форма 4'!A99","v":"5."},295.39999999999998,0,295.39999999999998,37.770000000000003,0,0,0,{"$f":"'Форма 4'!I99","v":0},0,{"$f":"'Форма 4'!I100","v":2.33},0,0,30.216000000000001,14.352600000000001,0,30.216000000000001,0,14.352600000000001,0,0,0,null,0,0,0,0,0,0,0,0,null,null,0,0,0,0]
[{"$f":"'Форма 4'!A117","v":"6."},64.760000000000005,0,0,0,64.760000000000005,64.760000000000005,0,{"$f":"'Форма 4'!I117","v":0},0,{"$f":"'Форма 4'!I118","v":0},0,0,0,0,0,0,0,0,0,0,0,null,0,0,0,0,0,0,0,0,null,null,0,0,0,0]
[{"$f":"'Форма 4'!A136","v":"7."},18.98,2.71,9.73,1.38,0,0,0,{"$f":"'Форма 4'!I136","v":0.28899999999999998},0,{"$f":"'Форма 4'!I137","v":0.114},0,0,null,null,2.71,1.38,1.63,0.83,0,0,0,null,0,0,0,0,0,0,0,0,4.09,2.4500000000000002,0,0,0,0]
[{"$f":"'Форма 4'!A155","v":"8."},15.36,0,15.36,0,0,0,0,{"$f":"'Форма 4'!I155","v":0},0,{"$f":"'Форма 4'!I156","v":0},0,0,null,null,0,0,0,0,0,0,0,null,0,0,0,0,0,0,0,0,null,null,0,0,0,0]
[]
[null,"Раздел 2.  Разборка бортовых камней и а/бетонного покрытия"]
[]
[{"$f":"'Форма 4'!A334","v":"9."},{"$f":"ROUND(C20+D20+F20+AF20+AG20,2)","v":1008.65},525.77,482.88,77.31,0,0,0,{"$f":"'Форма 4'!I334","v":52.63},0,{"$f":"'Форма 4'!I335","v":6.4},0,0,627.20320000000004,361.84800000000001,546.80079999999998,80.4024,315.46199999999999,46.386000000000003,0,0,0,null,0,0,0,0,0,0,0,0,null,null,0,0,0,0]
[{"$f":"'Форма 4'!A352","v":"10."},{"$f":"ROUND(C21+D21+F21+AF21+AG21,2)","v":18.98},2.71,9.73,1.38,0,0,0,{"$f":"'Форма 4'!I352","v":0.28899999999999998},0,{"$f":"'Форма 4'!I353","v":0.114},0,0,null,null,2.71,1.38,1.63,0.83,0,0,0,null,0,0,0,0,0,0,0,0,4.09,2.4500000000000002,0,0,0,0]
[{"$f":"'Форма 4'!A371","v":"11."},{"$f":"ROUND(C22+D22+F22+AF22+AG22,2)","v":15.36},0,15.36,0,0,0,0,{"$f":"'Форма 4'!I371","v":0},0,{"$f":"'Форма 4'!I372","v":0},0,0,null,null,0,0,0,0,0,0,0,null,0,0,0,0,0,0,0,0,null,null,0,0,0,0]
[]
[null,"Раздел 3.  Устройство новой дорожной одежды на уширениях и парковках"]
[]
[{"$f":"'Форма 4'!A550","v":"12."},{"$f":"ROUND(C26+D26+F26+AF26+AG26,2)","v":949.58},0,949.58,121.41,0,0,0,{"$f":"'Форма 4'!I550","v":0},0,{"$f":"'Форма 4'!I551","v":7.49},0,0,115.3395,52.206299999999999,0,115.3395,0,52.206299999999999,0,0,0,null,0,0,0,0,0,0,0,0,null,null,0,0,0,0]
[{"$f":"'Форма 4'!A569","v":"13."},18.98,2.71,9.73,1.38,0,0,0,{"$f":"'Форма 4'!I569","v":0.28899999999999998},0,{"$f":"'Форма 4'!I570","v":0.114},0,0,null,null,2.71,1.38,1.63,0.83,0,0,0,null,0,0,0,0,0,0,0,0,4.09,2.4500000000000002,0,0,0,0]
[{"$f":"'Форма 4'!A588","v":"14."},15.36,0,15.36,0,0,0,0,{"$f":"'Форма 4'!I588","v":0},0,{"$f":"'Форма 4'!I589","v":0},0,0,null,null,0,0,0,0,0,0,0,null,0,0,0,0,0,0,0,0,null,null,0,0,0,0]
[{"$f":"'Форма 4'!A607","v":"15."},4617.09,121.95,4465.6400000000003,478.22,29.5,0,0,{"$f":"'Форма 4'!I607","v":12.77},0,{"$f":"'Форма 4'!I608","v":29.74},0,0,852.2414,486.1377,173.16900000000001,679.07240000000002,98.779499999999999,387.35820000000001,0,0,0,null,0,0,0,0,0,0,0,0,null,null,0,0,0,0]
[{"$f":"'Форма 4'!A626","v":"16."},64.760000000000005,0,0,0,64.760000000000005,64.760000000000005,0,{"$f":"'Форма 4'!I626","v":0},0,{"$f":"'Форма 4'!I627","v":0},0,0,0,0,0,0,0,0,0,0,0,null,0,0,0,0,0,0,0,0,null,null,0,0,0,0]
[{"$f":"'Форма 4'!A646","v":"17."},66.94,0,0,0,66.94,66.94,0,{"$f":"'Форма 4'!I646","v":0},0,{"$f":"'Форма 4'!I647","v":0},0,0,0,0,0,0,0,0,0,0,0,null,0,0,0,0,0,0,0,0,null,null,0,0,0,0]
[{"$f":"'Форма 4'!A666","v":"18."},4617.09,121.95,4465.6400000000003,478.22,29.5,0,0,{"$f":"'Форма 4'!I666","v":12.77},0,{"$f":"'Форма 4'!I667","v":29.74},0,0,852.2414,486.1377,173.16900000000001,679.07240000000002,98.779499999999999,387.35820000000001,0,0,0,null,0,0,0,0,0,0,0,0,null,null,0,0,0,0]
[{"$f":"'Форма 4'!A685","v":"19."},64.760000000000005,0,0,0,64.760000000000005,64.760000000000005,0,{"$f":"'Форма 4'!I685","v":0},0,{"$f":"'Форма 4'!I686","v":0},0,0,0,0,0,0,0,0,0,0,0,null,0,0,0,0,0,0,0,0,null,null,0,0,0,0]
[{"$f":"'Форма 4'!A705","v":"20."},3259.67,442.75,2761.87,314.89999999999998,55.05,0,0,{"$f":"'Форма 4'!I705","v":38.299999999999997},0,{"$f":"'Форма 4'!I706","v":19.05},0,0,1075.8630000000001,613.69650000000001,628.70500000000004,447.15800000000002,358.6275,255.06899999999999,0,0,0,null,0,0,0,0,0,0,0,0,null,null,0,0,0,0]
[{"$f":"'Форма 4'!A723","v":"21."},518.6,0,0,0,518.6,486.02,0,{"$f":"'Форма 4'!I723","v":0},0,{"$f":"'Форма 4'!I724","v":0},1000,0,0,0,0,0,0,0,0,0,0,null,0,0,0,0,0,0,0,0,null,null,0,0,0,0]
[{"$f":"'Форма 4'!A742","v":"22."},3437.9,442.75,2769.94,315.39,225.21,0,0,{"$f":"'Форма 4'!I742","v":38.299999999999997},0,{"$f":"'Форма 4'!I743","v":19.079999999999998},0,0,1076.5588,614.09339999999997,628.70500000000004,447.85379999999998,358.6275,255.4659,0,0,0,null,0,0,0,0,0,0,0,0,null,null,0,0,0,0]
[{"$f":"'Форма 4'!A760","v":"23."},7.39,1.04,3.72,0,2.63,0,0,{"$f":"'Форма 4'!I760","v":0.09},0,{"$f":"'Форма 4'!I761","v":0},0,0,1.4767999999999999,0.84240000000000004,1.4767999999999999,0,0.84240000000000004,0,0,0,0,null,0,0,0,0,0,0,0,0,null,null,0,0,0,0]
[{"$f":"'Форма 4'!A779","v":"24."},570.70000000000005,0,0,0,570.70000000000005,537.1,0,{"$f":"'Форма 4'!I779","v":0},0,{"$f":"'Форма 4'!I780","v":0},1000,0,0,0,0,0,0,0,0,0,0,null,0,0,0,0,0,0,0,0,null,null,0,0,0,0]
[]
[null,"Раздел 4.  Установка бортовых камней"]
[]
[{"$f":"'Форма 4'!A959","v":"25."},{"$f":"ROUND(C42+D42+F42+AF42+AG42,2)","v":4424.18},772.97,104.2,11.02,3547.01,0,0,{"$f":"'Форма 4'!I959","v":76.08},0,{"$f":"'Форма 4'!I960","v":0.68},0,0,1113.2657999999999,635.03189999999995,1097.6174000000001,15.648400000000001,626.10569999999996,8.9261999999999997,0,0,0,null,0,0,0,0,0,0,0,0,null,null,0,0,0,0]
[{"$f":"'Форма 4'!A979","v":"26."},{"$f":"ROUND(C43+D43+F43+AF43+AG43,2)","v":64895.61},1686.6,2609.79,291.77999999999997,60599.22,53507.16,0,{"$f":"'Форма 4'!I979","v":180},0,{"$f":"'Форма 4'!I980","v":18},0,0,2077.299,1088.1089999999999,1770.93,306.36900000000003,927.63,160.47900000000001,0,0,0,null,0,0,0,0,0,0,0,0,null,null,0,0,0,0]
[{"$f":"'Форма 4'!A1000","v":"27."},{"$f":"ROUND(C44+D44+F44+AF44+AG44,2)","v":1568.2},0,0,0,1568.2,1568.2,0,{"$f":"'Форма 4'!I1000","v":0},0,{"$f":"'Форма 4'!I1001","v":0},0,0,0,0,0,0,0,0,0,0,0,null,0,0,0,0,0,0,0,0,null,null,0,0,0,0]
[{"$f":"'Форма 4'!A1020","v":"28."},{"$f":"ROUND(C45+D45+F45+AF45+AG45,2)","v":1814.02},0,0,0,1814.02,1814.02,0,{"$f":"'Форма 4'!I1020","v":0},0,{"$f":"'Форма 4'!I1021","v":0},0,0,0,0,0,0,0,0,0,0,0,null,0,0,0,0,0,0,0,0,null,null,0,0,0,0]
[{"$f":"'Форма 4'!A1040","v":"29."},{"$f":"ROUND(C46+D46+F46+AF46+AG46,2)","v":1877.16},0,0,0,1877.16,1877.16,0,{"$f":"'Форма 4'!I1040","v":0},0,{"$f":"'Форма 4'!I1041","v":0},0,0,0,0,0,0,0,0,0,0,0,null,0,0,0,0,0,0,0,0,null,null,0,0,0,0]
[]
[null,"Раздел 5.  Устройство тротуаров"]
[]
[{"$f":"'Форма 4'!A1219","v":"30."},{"$f":"ROUND(C50+D50+F50+AF50+AG50,2)","v":592.78},266.60000000000002,322.22000000000003,42.03,3.96,0,0,{"$f":"'Форма 4'!I1219","v":26.24},0,{"$f":"'Форма 4'!I1220","v":3.17},0,0,438.25459999999998,249.99029999999999,378.572,59.682600000000001,215.946,34.0443,0,0,0,null,0,0,0,0,0,0,0,0,null,null,0,0,0,0]
[{"$f":"'Форма 4'!A1239","v":"31."},14.02,5.49,8.5299999999999994,1.21,0,0,0,{"$f":"'Форма 4'!I1239","v":0.54},0,{"$f":"'Форма 4'!I1240","v":0.1},0,0,9.5139999999999993,5.4269999999999996,7.7957999999999998,1.7181999999999999,4.4469000000000003,0.98009999999999997,0,0,0,null,0,0,0,0,0,0,0,0,null,null,0,0,0,0]
[{"$f":"'Форма 4'!A1259","v":"32."},66.94,0,0,0,66.94,66.94,0,{"$f":"'Форма 4'!I1259","v":0},0,{"$f":"'Форма 4'!I1260","v":0},0,0,0,0,0,0,0,0,0,0,0,null,0,0,0,0,0,0,0,0,null,null,0,0,0,0]
[{"$f":"'Форма 4'!A1279","v":"33."},592.78,266.60000000000002,322.22000000000003,42.03,3.96,0,0,{"$f":"'Форма 4'!I1279","v":26.24},0,{"$f":"'Форма 4'!I1280","v":3.17},0,0,438.25459999999998,249.99029999999999,378.572,59.682600000000001,215.946,34.0443,0,0,0,null,0,0,0,0,0,0,0,0,null,null,0,0,0,0]
[{"$f":"'Форма 4'!A1298","v":"34."},14.02,5.49,8.5299999999999994,1.21,0,0,0,{"$f":"'Форма 4'!I1298","v":0.54},0,{"$f":"'Форма 4'!I1299","v":0.1},0,0,9.5139999999999993,5.4269999999999996,7.7957999999999998,1.7181999999999999,4.4469000000000003,0.98009999999999997,0,0,0,null,0,0,0,0,0,0,0,0,null,null,0,0,0,0]
[{"$f":"'Форма 4'!A1318","v":"35."},66.94,0,0,0,66.94,66.94,0,{"$f":"'Форма 4'!I1318","v":0},0,{"$f":"'Форма 4'!I1319","v":0},0,0,0,0,0,0,0,0,0,0,0,null,0,0,0,0,0,0,0,0,null,null,0,0,0,0]
[{"$f":"'Форма 4'!A1338","v":"36."},304.01,118.03,73.39,0.32,112.59,0,0,{"$f":"'Форма 4'!I1338","v":10.210000000000001},0,{"$f":"'Форма 4'!I1339","v":0.02},0,0,168.05699999999999,95.863500000000002,167.6026,0.45440000000000003,95.604299999999995,0.25919999999999999,0,0,0,null,0,0,0,0,0,0,0,0,null,null,0,0,0,0]
[{"$f":"'Форма 4'!A1357","v":"37."},37.64,25.89,11.75,0,0,0,0,{"$f":"'Форма 4'!I1357","v":2.3199999999999998},0,{"$f":"'Форма 4'!I1358","v":0},0,0,36.763800000000003,20.9709,36.763800000000003,0,20.9709,0,0,0,0,null,0,0,0,0,0,0,0,0,null,null,0,0,0,0]
[{"$f":"'Форма 4'!A1377","v":"38."},570.70000000000005,0,0,0,570.70000000000005,537.1,0,{"$f":"'Форма 4'!I1377","v":0},0,{"$f":"'Форма 4'!I1378","v":0},1000,0,0,0,0,0,0,0,0,0,0,null,0,0,0,0,0,0,0,0,null,null,0,0,0,0]
[]
[null,"Раздел 6.  Восстановление газонов"]
[]
[{"$f":"'Форма 4'!A1555","v":"39."},{"$f":"ROUND(C62+D62+F62+AF62+AG62,2)","v":2061.5500000000002},382,0,0,1679.55,0,0,{"$f":"'Форма 4'!I1555","v":40},0,{"$f":"'Форма 4'!I1556","v":0},0,0,439.3,294.14,439.3,0,294.14,0,0,0,0,null,0,0,0,0,0,0,0,0,null,null,0,0,0,0]
[]
[null,"Раздел 7.  Наращивание колодцев"]
[]
[{"$f":"'Форма 4'!A1730","v":"40."},{"$f":"ROUND(C66+D66+F66+AF66+AG66,2)","v":13.33},8.16,5.17,0,0,0,0,{"$f":"'Форма 4'!I1730","v":0.78600000000000003},0,{"$f":"'Форма 4'!I1731","v":0},0,0,10.608000000000001,6.2016,10.608000000000001,0,6.2016,0,0,0,0,null,0,0,0,0,0,0,0,0,null,null,0,0,0,0]
[{"$f":"'Форма 4'!A1749","v":"41."},{"$f":"ROUND(C67+D67+F67+AF67+AG67,2)","v":36619.72},5897.22,29076.89,2719.39,1645.61,0,0,{"$f":"'Форма 4'!I1749","v":547.55999999999995},0,{"$f":"'Форма 4'!I1750","v":167.76},0,0,11201.593000000001,6203.9592000000002,7666.3860000000004,3535.2069999999999,4245.9984000000004,1957.9608000000001,0,0,0,null,0,0,0,0,0,0,0,0,null,null,0,0,0,0]
[{"$f":"'Форма 4'!A1768","v":"42."},{"$f":"ROUND(C68+D68+F68+AF68+AG68,2)","v":2114.83},0,0,0,2114.83,2114.83,0,{"$f":"'Форма 4'!I1768","v":0},0,{"$f":"'Форма 4'!I1769","v":0},0,0,0,0,0,0,0,0,0,0,0,null,0,0,0,0,0,0,0,0,null,null,0,0,0,0]
[{"$f":"'Форма 4'!A1788","v":"43."},{"$f":"ROUND(C69+D69+F69+AF69+AG69,2)","v":1102.1600000000001},13.6,8.61,0,1079.95,0,0,{"$f":"'Форма 4'!I1788","v":1.31},0,{"$f":"'Форма 4'!I1789","v":0},0,0,17.68,10.336,17.68,0,10.336,0,0,0,0,null,0,0,0,0,0,0,0,0,null,null,0,0,0,0]

{"sheet":"Базовые цены с учетом расхода","index":3,"n_rows":69,"n_cols":37,"rows_kept":69,"cut":false,"hidden":false,"merged":[[47,1,48,9],[1,0,1,9],[2,1,2,9],[3,1,3,9],[4,0,4,9],[63,1,64,9],[6,1,7,9],[17,1,18,9],[23,1,24,9],[39,1,40,9],[59,1,60,9]]}
[null,"C1","C2","C3","C4","C5","C6","VOZVR","C8","C9","C10","C11","C12","NAKL","PLAN","NAKL_ZPR","NAKL_ZPM","PLAN_ZPR","PLAN_ZPM","RN11","RN12","RN13",null,"OBORUD_VSPOMOG","NAKL_PN","NAKL_VX","PLAN_PN","PLAN_VX","VTCH_PN","VTCH_VX","MR_BY_ZPR_VSPOMOG","NAKL_INC","PLAN_INC","RN14","RN15","RN16","OBORUD"]
[]
[null,"N = < 9 * 13 * 64 >"]
[null,"          Кирова,97 .Собственники"]
[]
[]
[null,"Раздел 1.  Валка деревьев"]
[]
[{"$f":"'Форма 4'!A27","v":"1."},{"$f":"ROUND(C9+D9+F9+AF9+AG9,0)","v":47},{"$f":"ROUND('Форма 4'!C27*'Базовые цены за единицу'!C9,0)","v":32},{"$f":"ROUND('Форма 4'!C27*'Базовые цены за единицу'!D9,0)","v":15},{"$f":"ROUND('Форма 4'!C27*'Базовые цены за единицу'!E9,0)","v":0},{"$f":"ROUND('Форма 4'!C27*'Базовые цены за единицу'!F9,0)","v":0},{"$f":"ROUND('Форма 4'!C27*'Базовые цены за единицу'!G9,0)","v":0},{"$f":"ROUND('Форма 4'!C27*'Базовые цены за единицу'!H9,0)","v":0},{"$f":"ОКРУГЛВСЕ('Форма 4'!C27*'Базовые цены за единицу'!I9,8)","v":3.2075999999999998},{"$f":"ОКРУГЛВСЕ('Форма 4'!C27*'Базовые цены за единицу'!J9,8)","v":0},{"$f":"ОКРУГЛВСЕ('Форма 4'!C27*'Базовые цены за единицу'!K9,8)","v":0},{"$f":"ROUND('Форма 4'!C27*'Базовые цены за единицу'!L9,0)","v":0},{"$f":"ROUND('Форма 4'!C27*'Базовые цены за единицу'!M9,0)","v":0},{"$f":"ROUND((C9+E9)*'Форма 4'!C38/100,0)","v":33},{"$f":"ROUND((C9+E9)*'Форма 4'!C41/100,0)","v":19},{"$f":"ROUND('Форма 4'!C27*'Базовые цены за единицу'!P9,0)","v":34},{"$f":"ROUND('Форма 4'!C27*'Базовые цены за единицу'!Q9,0)","v":0},{"$f":"ROUND('Форма 4'!C27*'Базовые цены за единицу'!R9,0)","v":19},{"$f":"ROUND('Форма 4'!C27*'Базовые цены за единицу'!S9,0)","v":0},{"$f":"ROUND('Форма 4'!C27*'Базовые цены за единицу'!T9,0)","v":0},{"$f":"ROUND('Форма 4'!C27*'Базовые цены за единицу'!U9,0)","v":0},{"$f":"ROUND('Форма 4'!C27*'Базовые цены за единицу'!V9,0)","v":0},null,{"$f":"ROUND('Форма 4'!C27*'Базовые цены за единицу'!X9,0)","v":0},{"$f":"IF(Определители!I9=\"9\",ROUND((C9+E9)*(Начисления!M9/100)*('Форма 4'!C38/100),0),0)","v":0},{"$f":"IF(Определители!I9=\"9\",ROUND((C9+E9)*(100-Начисления!M9/100)*('Форма 4'!C38/100),0),0)","v":0},{"$f":"IF(Определители!I9=\"9\",ROUND((C9+E9)*(Начисления!M9/100)*('Форма 4'!C41/100),0),0)","v":0},{"$f":"IF(Определители!I9=\"9\",ROUND((C9+E9)*(100-Начисления!M9/100)*('Форма 4'!C41/100),0),0)","v":0},{"$f":"IF(Определители!I9=\"9\",ROUND(B9*Начисления!M9/100,0),0)","v":0},{"$f":"IF(Определители!I9=\"9\",ROUND(B9*(100-Начисления!M9)/100,0),0)","v":0},{"$f":"ROUND('Форма 4'!C27*'Базовые цены за единицу'!AE9,0)","v":0},null,null,{"$f":"ROUND('Форма 4'!C27*'Базовые цены за единицу'!AH9,0)","v":0},{"$f":"ROUND('Форма 4'!C27*'Базовые цены за единицу'!AI9,0)","v":0},{"$f":"ROUND('Форма 4'!C27*'Базовые цены за единицу'!AJ9,0)","v":0},{"$f":"ROUND('Форма 4'!C27*'Базовые цены за единицу'!AK9,0)","v":0}]
[{"$f":"'Форма 4'!A45","v":"2."},778,{"$f":"ROUND('Форма 4'!C45*'Базовые цены за единицу'!C10,0)","v":531},{"$f":"ROUND('Форма 4'!C45*'Базовые цены за единицу'!D10,0)","v":247},{"$f":"ROUND('Форма 4'!C45*'Базовые цены за единицу'!E10,0)","v":0},{"$f":"ROUND('Форма 4'!C45*'Базовые цены за единицу'!F10,0)","v":0},{"$f":"ROUND('Форма 4'!C45*'Базовые цены за единицу'!G10,0)","v":0},{"$f":"ROUND('Форма 4'!C45*'Базовые цены за единицу'!H10,0)","v":0},{"$f":"ОКРУГЛВСЕ('Форма 4'!C45*'Базовые цены за единицу'!I10,8)","v":52.729300000000002},{"$f":"ОКРУГЛВСЕ('Форма 4'!C45*'Базовые цены за единицу'!J10,8)","v":0},{"$f":"ОКРУГЛВСЕ('Форма 4'!C45*'Базовые цены за единицу'!K10,8)","v":0},{"$f":"ROUND('Форма 4'!C45*'Базовые цены за единицу'!L10,0)","v":0},{"$f":"ROUND('Форма 4'!C45*'Базовые цены за единицу'!M10,0)","v":0},{"$f":"ROUND((C10+E10)*'Форма 4'!C56/100,0)","v":552},{"$f":"ROUND((C10+E10)*'Форма 4'!C59/100,0)","v":319},{"$f":"ROUND('Форма 4'!C45*'Базовые цены за единицу'!P10,0)","v":552},{"$f":"ROUND('Форма 4'!C45*'Базовые цены за единицу'!Q10,0)","v":0},{"$f":"ROUND('Форма 4'!C45*'Базовые цены за единицу'!R10,0)","v":319},{"$f":"ROUND('Форма 4'!C45*'Базовые цены за единицу'!S10,0)","v":0},{"$f":"ROUND('Форма 4'!C45*'Базовые цены за единицу'!T10,0)","v":0},{"$f":"ROUND('Форма 4'!C45*'Базовые цены за единицу'!U10,0)","v":0},{"$f":"ROUND('Форма 4'!C45*'Базовые цены за единицу'!V10,0)","v":0},null,{"$f":"ROUND('Форма 4'!C45*'Базовые цены за единицу'!X10,0)","v":0},{"$f":"IF(Определители!I10=\"9\",ROUND((C10+E10)*(Начисления!M10/100)*('Форма 4'!C56/100),0),0)","v":0},{"$f":"IF(Определители!I10=\"9\",ROUND((C10+E10)*(100-Начисления!M10/100)*('Форма 4'!C56/100),0),0)","v":0},{"$f":"IF(Определители!I10=\"9\",ROUND((C10+E10)*(Начисления!M10/100)*('Форма 4'!C59/100),0),0)","v":0},{"$f":"IF(Определители!I10=\"9\",ROUND((C10+E10)*(100-Начисления!M10/100)*('Форма 4'!C59/100),0),0)","v":0},{"$f":"IF(Определители!I10=\"9\",ROUND(B10*Начисления!M10/100,0),0)","v":0},{"$f":"IF(Определители!I10=\"9\",ROUND(B10*(100-Начисления!M10)/100,0),0)","v":0},{"$f":"ROUND('Форма 4'!C45*'Базовые цены за единицу'!AE10,0)","v":0},null,null,{"$f":"ROUND('Форма 4'!C45*'Базовые цены за единицу'!AH10,0)","v":0},{"$f":"ROUND('Форма 4'!C45*'Базовые цены за единицу'!AI10,0)","v":0},{"$f":"ROUND('Форма 4'!C45*'Базовые цены за единицу'!AJ10,0)","v":0},{"$f":"ROUND('Форма 4'!C45*'Базовые цены за единицу'!AK10,0)","v":0}]
[{"$f":"'Форма 4'!A63","v":"3."},13,{"$f":"ROUND('Форма 4'!C63*'Базовые цены за единицу'!C11,0)","v":0},{"$f":"ROUND('Форма 4'!C63*'Базовые цены за единицу'!D11,0)","v":13},{"$f":"ROUND('Форма 4'!C63*'Базовые цены за единицу'!E11,0)","v":1},{"$f":"ROUND('Форма 4'!C63*'Базовые цены за единицу'!F11,0)","v":0},{"$f":"ROUND('Форма 4'!C63*'Базовые цены за единицу'!G11,0)","v":0},{"$f":"ROUND('Форма 4'!C63*'Базовые цены за единицу'!H11,0)","v":0},{"$f":"ОКРУГЛВСЕ('Форма 4'!C63*'Базовые цены за единицу'!I11,8)","v":0},{"$f":"ОКРУГЛВСЕ('Форма 4'!C63*'Базовые цены за единицу'!J11,8)","v":0},{"$f":"ОКРУГЛВСЕ('Форма 4'!C63*'Базовые цены за единицу'!K11,8)","v":8.2799999999999999E-2},{"$f":"ROUND('Форма 4'!C63*'Базовые цены за единицу'!L11,0)","v":0},{"$f":"ROUND('Форма 4'!C63*'Базовые цены за единицу'!M11,0)","v":0},{"$f":"ROUND((C11+E11)*'Форма 4'!C74/100,0)","v":1},{"$f":"ROUND((C11+E11)*'Форма 4'!C77/100,0)","v":0},{"$f":"ROUND('Форма 4'!C63*'Базовые цены за единицу'!P11,0)","v":0},{"$f":"ROUND('Форма 4'!C63*'Базовые цены за единицу'!Q11,0)","v":1},{"$f":"ROUND('Форма 4'!C63*'Базовые цены за единицу'!R11,0)","v":0},{"$f":"ROUND('Форма 4'!C63*'Базовые цены за единицу'!S11,0)","v":1},{"$f":"ROUND('Форма 4'!C63*'Базовые цены за единицу'!T11,0)","v":0},{"$f":"ROUND('Форма 4'!C63*'Базовые цены за единицу'!U11,0)","v":0},{"$f":"ROUND('Форма 4'!C63*'Базовые цены за единицу'!V11,0)","v":0},null,{"$f":"ROUND('Форма 4'!C63*'Базовые цены за единицу'!X11,0)","v":0},{"$f":"IF(Определители!I11=\"9\",ROUND((C11+E11)*(Начисления!M11/100)*('Форма 4'!C74/100),0),0)","v":0},{"$f":"IF(Определители!I11=\"9\",ROUND((C11+E11)*(100-Начисления!M11/100)*('Форма 4'!C74/100),0),0)","v":0},{"$f":"IF(Определители!I11=\"9\",ROUND((C11+E11)*(Начисления!M11/100)*('Форма 4'!C77/100),0),0)","v":0},{"$f":"IF(Определители!I11=\"9\",ROUND((C11+E11)*(100-Начисления!M11/100)*('Форма 4'!C77/100),0),0)","v":0},{"$f":"IF(Определители!I11=\"9\",ROUND(B11*Начисления!M11/100,0),0)","v":0},{"$f":"IF(Определители!I11=\"9\",ROUND(B11*(100-Начисления!M11)/100,0),0)","v":0},{"$f":"ROUND('Форма 4'!C63*'Базовые цены за единицу'!AE11,0)","v":0},null,null,{"$f":"ROUND('Форма 4'!C63*'Базовые цены за единицу'!AH11,0)","v":0},{"$f":"ROUND('Форма 4'!C63*'Базовые цены за единицу'!AI11,0)","v":0},{"$f":"ROUND('Форма 4'!C63*'Базовые цены за единицу'!AJ11,0)","v":0},{"$f":"ROUND('Форма 4'!C63*'Базовые цены за единицу'!AK11,0)","v":0}]
[{"$f":"'Форма 4'!A81","v":"4."},65,{"$f":"ROUND('Форма 4'!C81*'Базовые цены за единицу'!C12,0)","v":0},{"$f":"ROUND('Форма 4'!C81*'Базовые цены за единицу'!D12,0)","v":65},{"$f":"ROUND('Форма 4'!C81*'Базовые цены за единицу'!E12,0)","v":7},{"$f":"ROUND('Форма 4'!C81*'Базовые цены за единицу'!F12,0)","v":0},{"$f":"ROUND('Форма 4'!C81*'Базовые цены за единицу'!G12,0)","v":0},{"$f":"ROUND('Форма 4'!C81*'Базовые цены за единицу'!H12,0)","v":0},{"$f":"ОКРУГЛВСЕ('Форма 4'!C81*'Базовые цены за единицу'!I12,8)","v":0},{"$f":"ОКРУГЛВСЕ('Форма 4'!C81*'Базовые цены за единицу'!J12,8)","v":0},{"$f":"ОКРУГЛВСЕ('Форма 4'!C81*'Базовые цены за единицу'!K12,8)","v":0.40260000000000001},{"$f":"ROUND('Форма 4'!C81*'Базовые цены за единицу'!L12,0)","v":0},{"$f":"ROUND('Форма 4'!C81*'Базовые цены за единицу'!M12,0)","v":0},{"$f":"ROUND((C12+E12)*'Форма 4'!C92/100,0)","v":6},{"$f":"ROUND((C12+E12)*'Форма 4'!C95/100,0)","v":3},{"$f":"ROUND('Форма 4'!C81*'Базовые цены за единицу'!P12,0)","v":0},{"$f":"ROUND('Форма 4'!C81*'Базовые цены за единицу'!Q12,0)","v":6},{"$f":"ROUND('Форма 4'!C81*'Базовые цены за единицу'!R12,0)","v":0},{"$f":"ROUND('Форма 4'!C81*'Базовые цены за единицу'!S12,0)","v":3},{"$f":"ROUND('Форма 4'!C81*'Базовые цены за единицу'!T12,0)","v":0},{"$f":"ROUND('Форма 4'!C81*'Базовые цены за единицу'!U12,0)","v":0},{"$f":"ROUND('Форма 4'!C81*'Базовые цены за единицу'!V12,0)","v":0},null,{"$f":"ROUND('Форма 4'!C81*'Базовые цены за единицу'!X12,0)","v":0},{"$f":"IF(Определители!I12=\"9\",ROUND((C12+E12)*(Начисления!M12/100)*('Форма 4'!C92/100),0),0)","v":0},{"$f":"IF(Определители!I12=\"9\",ROUND((C12+E12)*(100-Начисления!M12/100)*('Форма 4'!C92/100),0),0)","v":0},{"$f":"IF(Определители!I12=\"9\",ROUND((C12+E12)*(Начисления!M12/100)*('Форма 4'!C95/100),0),0)","v":0},{"$f":"IF(Определители!I12=\"9\",ROUND((C12+E12)*(100-Начисления!M12/100)*('Форма 4'!C95/100),0),0)","v":0},{"$f":"IF(Определители!I12=\"9\",ROUND(B12*Начисления!M12/100,0),0)","v":0},{"$f":"IF(Определители!I12=\"9\",ROUND(B12*(100-Начисления!M12)/100,0),0)","v":0},{"$f":"ROUND('Форма 4'!C81*'Базовые цены за единицу'!AE12,0)","v":0},null,null,{"$f":"ROUND('Форма 4'!C81*'Базовые цены за единицу'!AH12,0)","v":0},{"$f":"ROUND('Форма 4'!C81*'Базовые цены за единицу'!AI12,0)","v":0},{"$f":"ROUND('Форма 4'!C81*'Базовые цены за единицу'!AJ12,0)","v":0},{"$f":"ROUND('Форма 4'!C81*'Базовые цены за единицу'!AK12,0)","v":0}]
[{"$f":"'Форма 4'!A99","v":"5."},24,{"$f":"ROUND('Форма 4'!C99*'Базовые цены за единицу'!C13,0)","v":0},{"$f":"ROUND('Форма 4'!C99*'Базовые цены за единицу'!D13,0)","v":24},{"$f":"ROUND('Форма 4'!C99*'Базовые цены за единицу'!E13,0)","v":3},{"$f":"ROUND('Форма 4'!C99*'Базовые цены за единицу'!F13,0)","v":0},{"$f":"ROUND('Форма 4'!C99*'Базовые цены за единицу'!G13,0)","v":0},{"$f":"ROUND('Форма 4'!C99*'Базовые цены за единицу'!H13,0)","v":0},{"$f":"ОКРУГЛВСЕ('Форма 4'!C99*'Базовые цены за единицу'!I13,8)","v":0},{"$f":"ОКРУГЛВСЕ('Форма 4'!C99*'Базовые цены за единицу'!J13,8)","v":0},{"$f":"ОКРУГЛВСЕ('Форма 4'!C99*'Базовые цены за единицу'!K13,8)","v":0.18640000000000001},{"$f":"ROUND('Форма 4'!C99*'Базовые цены за единицу'!L13,0)","v":0},{"$f":"ROUND('Форма 4'!C99*'Базовые цены за единицу'!M13,0)","v":0},{"$f":"ROUND((C13+E13)*'Форма 4'!C110/100,0)","v":2},{"$f":"ROUND((C13+E13)*'Форма 4'!C113/100,0)","v":1},{"$f":"ROUND('Форма 4'!C99*'Базовые цены за единицу'!P13,0)","v":0},{"$f":"ROUND('Форма 4'!C99*'Базовые цены за единицу'!Q13,0)","v":2},{"$f":"ROUND('Форма 4'!C99*'Базовые цены за единицу'!R13,0)","v":0},{"$f":"ROUND('Форма 4'!C99*'Базовые цены за единицу'!S13,0)","v":1},{"$f":"ROUND('Форма 4'!C99*'Базовые цены за единицу'!T13,0)","v":0},{"$f":"ROUND('Форма 4'!C99*'Базовые цены за единицу'!U13,0)","v":0},{"$f":"ROUND('Форма 4'!C99*'Базовые цены за единицу'!V13,0)","v":0},null,{"$f":"ROUND('Форма 4'!C99*'Базовые цены за единицу'!X13,0)","v":0},{"$f":"IF(Определители!I13=\"9\",ROUND((C13+E13)*(Начисления!M13/100)*('Форма 4'!C110/100),0),0)","v":0},{"$f":"IF(Определители!I13=\"9\",ROUND((C13+E13)*(100-Начисления!M13/100)*('Форма 4'!C110/100),0),0)","v":0},{"$f":"IF(Определители!I13=\"9\",ROUND((C13+E13)*(Начисления!M13/100)*('Форма 4'!C113/100),0),0)","v":0},{"$f":"IF(Определители!I13=\"9\",ROUND((C13+E13)*(100-Начисления!M13/100)*('Форма 4'!C113/100),0),0)","v":0},{"$f":"IF(Определители!I13=\"9\",ROUND(B13*Начисления!M13/100,0),0)","v":0},{"$f":"IF(Определители!I13=\"9\",ROUND(B13*(100-Начисления!M13)/100,0),0)","v":0},{"$f":"ROUND('Форма 4'!C99*'Базовые цены за единицу'!AE13,0)","v":0},null,null,{"$f":"ROUND('Форма 4'!C99*'Базовые цены за единицу'!AH13,0)","v":0},{"$f":"ROUND('Форма 4'!C99*'Базовые цены за единицу'!AI13,0)","v":0},{"$f":"ROUND('Форма 4'!C99*'Базовые цены за единицу'!AJ13,0)","v":0},{"$f":"ROUND('Форма 4'!C99*'Базовые цены за единицу'!AK13,0)","v":0}]
[{"$f":"'Форма 4'!A117","v":"6."},97,{"$f":"ROUND('Форма 4'!C117*'Базовые цены за единицу'!C14,0)","v":0},{"$f":"ROUND('Форма 4'!C117*'Базовые цены за единицу'!D14,0)","v":0},{"$f":"ROUND('Форма 4'!C117*'Базовые цены за единицу'!E14,0)","v":0},{"$f":"ROUND('Форма 4'!C117*'Базовые цены за единицу'!F14,0)","v":97},{"$f":"ROUND('Форма 4'!C117*'Базовые цены за единицу'!G14,0)","v":97},{"$f":"ROUND('Форма 4'!C117*'Базовые цены за единицу'!H14,0)","v":0},{"$f":"ОКРУГЛВСЕ('Форма 4'!C117*'Базовые цены за единицу'!I14,8)","v":0},{"$f":"ОКРУГЛВСЕ('Форма 4'!C117*'Базовые цены за единицу'!J14,8)","v":0},{"$f":"ОКРУГЛВСЕ('Форма 4'!C117*'Базовые цены за единицу'!K14,8)","v":0},{"$f":"ROUND('Форма 4'!C117*'Базовые цены за единицу'!L14,0)","v":0},{"$f":"ROUND('Форма 4'!C117*'Базовые цены за единицу'!M14,0)","v":0},{"$f":"ROUND((C14+E14)*'Форма 4'!C129/100,0)","v":0},{"$f":"ROUND((C14+E14)*'Форма 4'!C132/100,0)","v":0},{"$f":"ROUND('Форма 4'!C117*'Базовые цены за единицу'!P14,0)","v":0},{"$f":"ROUND('Форма 4'!C117*'Базовые цены за единицу'!Q14,0)","v":0},{"$f":"ROUND('Форма 4'!C117*'Базовые цены за единицу'!R14,0)","v":0},{"$f":"ROUND('Форма 4'!C117*'Базовые цены за единицу'!S14,0)","v":0},{"$f":"ROUND('Форма 4'!C117*'Базовые цены за единицу'!T14,0)","v":0},{"$f":"ROUND('Форма 4'!C117*'Базовые цены за единицу'!U14,0)","v":0},{"$f":"ROUND('Форма 4'!C117*'Базовые цены за единицу'!V14,0)","v":0},null,{"$f":"ROUND('Форма 4'!C117*'Базовые цены за единицу'!X14,0)","v":0},{"$f":"IF(Определители!I14=\"9\",ROUND((C14+E14)*(Начисления!M14/100)*('Форма 4'!C129/100),0),0)","v":0},{"$f":"IF(Определители!I14=\"9\",ROUND((C14+E14)*(100-Начисления!M14/100)*('Форма 4'!C129/100),0),0)","v":0},{"$f":"IF(Определители!I14=\"9\",ROUND((C14+E14)*(Начисления!M14/100)*('Форма 4'!C132/100),0),0)","v":0},{"$f":"IF(Определители!I14=\"9\",ROUND((C14+E14)*(100-Начисления!M14/100)*('Форма 4'!C132/100),0),0)","v":0},{"$f":"IF(Определители!I14=\"9\",ROUND(B14*Начисления!M14/100,0),0)","v":0},{"$f":"IF(Определители!I14=\"9\",ROUND(B14*(100-Начисления!M14)/100,0),0)","v":0},{"$f":"ROUND('Форма 4'!C117*'Базовые цены за единицу'!AE14,0)","v":0},null,null,{"$f":"ROUND('Форма 4'!C117*'Базовые цены за единицу'!AH14,0)","v":0},{"$f":"ROUND('Форма 4'!C117*'Базовые цены за единицу'!AI14,0)","v":0},{"$f":"ROUND('Форма 4'!C117*'Базовые цены за единицу'!AJ14,0)","v":0},{"$f":"ROUND('Форма 4'!C117*'Базовые цены за единицу'!AK14,0)","v":0}]
[{"$f":"'Форма 4'!A136","v":"7."},129,{"$f":"ROUND('Форма 4'!C136*'Базовые цены за единицу'!C15,0)","v":18},{"$f":"ROUND('Форма 4'!C136*'Базовые цены за единицу'!D15,0)","v":66},{"$f":"ROUND('Форма 4'!C136*'Базовые цены за единицу'!E15,0)","v":9},{"$f":"ROUND('Форма 4'!C136*'Базовые цены за единицу'!F15,0)","v":0},{"$f":"ROUND('Форма 4'!C136*'Базовые цены за единицу'!G15,0)","v":0},{"$f":"ROUND('Форма 4'!C136*'Базовые цены за единицу'!H15,0)","v":0},{"$f":"ОКРУГЛВСЕ('Форма 4'!C136*'Базовые цены за единицу'!I15,8)","v":1.9680899999999999},{"$f":"ОКРУГЛВСЕ('Форма 4'!C136*'Базовые цены за единицу'!J15,8)","v":0},{"$f":"ОКРУГЛВСЕ('Форма 4'!C136*'Базовые цены за единицу'!K15,8)","v":0.77634000000000003},{"$f":"ROUND('Форма 4'!C136*'Базовые цены за единицу'!L15,0)","v":0},{"$f":"ROUND('Форма 4'!C136*'Базовые цены за единицу'!M15,0)","v":0},null,null,{"$f":"ROUND('Форма 4'!C136*'Базовые цены за единицу'!P15,0)","v":18},{"$f":"ROUND('Форма 4'!C136*'Базовые цены за единицу'!Q15,0)","v":9},{"$f":"ROUND('Форма 4'!C136*'Базовые цены за единицу'!R15,0)","v":11},{"$f":"ROUND('Форма 4'!C136*'Базовые цены за единицу'!S15,0)","v":6},{"$f":"ROUND('Форма 4'!C136*'Базовые цены за единицу'!T15,0)","v":0},{"$f":"ROUND('Форма 4'!C136*'Базовые цены за единицу'!U15,0)","v":0},{"$f":"ROUND('Форма 4'!C136*'Базовые цены за единицу'!V15,0)","v":0},null,{"$f":"ROUND('Форма 4'!C136*'Базовые цены за единицу'!X15,0)","v":0},{"$f":"IF(Определители!I15=\"9\",ROUND((C15+E15)*(Начисления!M15/100)*('Форма 4'!C148/100),0),0)","v":0},{"$f":"IF(Определители!I15=\"9\",ROUND((C15+E15)*(100-Начисления!M15/100)*('Форма 4'!C148/100),0),0)","v":0},{"$f":"IF(Определители!I15=\"9\",ROUND((C15+E15)*(Начисления!M15/100)*('Форма 4'!C151/100),0),0)","v":0},{"$f":"IF(Определители!I15=\"9\",ROUND((C15+E15)*(100-Начисления!M15/100)*('Форма 4'!C151/100),0),0)","v":0},{"$f":"IF(Определители!I15=\"9\",ROUND(B15*Начисления!M15/100,0),0)","v":0},{"$f":"IF(Определители!I15=\"9\",ROUND(B15*(100-Начисления!M15)/100,0),0)","v":0},{"$f":"ROUND('Форма 4'!C136*'Базовые цены за единицу'!AE15,0)","v":0},{"$f":"ROUND('Форма 4'!C136*'Базовые цены за единицу'!AF15,0)","v":28},{"$f":"ROUND('Форма 4'!C136*'Базовые цены за единицу'!AG15,0)","v":17},{"$f":"ROUND('Форма 4'!C136*'Базовые цены за единицу'!AH15,0)","v":0},{"$f":"ROUND('Форма 4'!C136*'Базовые цены за единицу'!AI15,0)","v":0},{"$f":"ROUND('Форма 4'!C136*'Базовые цены за единицу'!AJ15,0)","v":0},{"$f":"ROUND('Форма 4'!C136*'Базовые цены за единицу'!AK15,0)","v":0}]
[{"$f":"'Форма 4'!A155","v":"8."},105,{"$f":"ROUND('Форма 4'!C155*'Базовые цены за единицу'!C16,0)","v":0},{"$f":"ROUND('Форма 4'!C155*'Базовые цены за единицу'!D16,0)","v":105},{"$f":"ROUND('Форма 4'!C155*'Базовые цены за единицу'!E16,0)","v":0},{"$f":"ROUND('Форма 4'!C155*'Базовые цены за единицу'!F16,0)","v":0},{"$f":"ROUND('Форма 4'!C155*'Базовые цены за единицу'!G16,0)","v":0},{"$f":"ROUND('Форма 4'!C155*'Базовые цены за единицу'!H16,0)","v":0},{"$f":"ОКРУГЛВСЕ('Форма 4'!C155*'Базовые цены за единицу'!I16,8)","v":0},{"$f":"ОКРУГЛВСЕ('Форма 4'!C155*'Базовые цены за единицу'!J16,8)","v":0},{"$f":"ОКРУГЛВСЕ('Форма 4'!C155*'Базовые цены за единицу'!K16,8)","v":0},{"$f":"ROUND('Форма 4'!C155*'Базовые цены за единицу'!L16,0)","v":0},{"$f":"ROUND('Форма 4'!C155*'Базовые цены за единицу'!M16,0)","v":0},null,null,{"$f":"ROUND('Форма 4'!C155*'Базовые цены за единицу'!P16,0)","v":0},{"$f":"ROUND('Форма 4'!C155*'Базовые цены за единицу'!Q16,0)","v":0},{"$f":"ROUND('Форма 4'!C155*'Базовые цены за единицу'!R16,0)","v":0},{"$f":"ROUND('Форма 4'!C155*'Базовые цены за единицу'!S16,0)","v":0},{"$f":"ROUND('Форма 4'!C155*'Базовые цены за единицу'!T16,0)","v":0},{"$f":"ROUND('Форма 4'!C155*'Базовые цены за единицу'!U16,0)","v":0},{"$f":"ROUND('Форма 4'!C155*'Базовые цены за единицу'!V16,0)","v":0},null,{"$f":"ROUND('Форма 4'!C155*'Базовые цены за единицу'!X16,0)","v":0},{"$f":"IF(Определители!I16=\"9\",ROUND((C16+E16)*(Начисления!M16/100)*('Форма 4'!C166/100),0),0)","v":0},{"$f":"IF(Определители!I16=\"9\",ROUND((C16+E16)*(100-Начисления!M16/100)*('Форма 4'!C166/100),0),0)","v":0},{"$f":"IF(Определители!I16=\"9\",ROUND((C16+E16)*(Начисления!M16/100)*('Форма 4'!C169/100),0),0)","v":0},{"$f":"IF(Определители!I16=\"9\",ROUND((C16+E16)*(100-Начисления!M16/100)*('Форма 4'!C169/100),0),0)","v":0},{"$f":"IF(Определители!I16=\"9\",ROUND(B16*Начисления!M16/100,0),0)","v":0},{"$f":"IF(Определители!I16=\"9\",ROUND(B16*(100-Начисления!M16)/100,0),0)","v":0},{"$f":"ROUND('Форма 4'!C155*'Базовые цены за единицу'!AE16,0)","v":0},null,null,{"$f":"ROUND('Форма 4'!C155*'Базовые цены за единицу'!AH16,0)","v":0},{"$f":"ROUND('Форма 4'!C155*'Базовые цены за единицу'!AI16,0)","v":0},{"$f":"ROUND('Форма 4'!C155*'Базовые цены за единицу'!AJ16,0)","v":0},{"$f":"ROUND('Форма 4'!C155*'Базовые цены за единицу'!AK16,0)","v":0}]
[]
[null,"Раздел 2.  Разборка бортовых камней и а/бетонного покрытия"]
[]
[{"$f":"'Форма 4'!A334","v":"9."},{"$f":"ROUND(C20+D20+F20+AF20+AG20,0)","v":2158},{"$f":"ROUND('Форма 4'!C334*'Базовые цены за единицу'!C20,0)","v":1125},{"$f":"ROUND('Форма 4'!C334*'Базовые цены за единицу'!D20,0)","v":1033},{"$f":"ROUND('Форма 4'!C334*'Базовые цены за единицу'!E20,0)","v":165},{"$f":"ROUND('Форма 4'!C334*'Базовые цены за единицу'!F20,0)","v":0},{"$f":"ROUND('Форма 4'!C334*'Базовые цены за единицу'!G20,0)","v":0},{"$f":"ROUND('Форма 4'!C334*'Базовые цены за единицу'!H20,0)","v":0},{"$f":"ОКРУГЛВСЕ('Форма 4'!C334*'Базовые цены за единицу'!I20,8)","v":112.62820000000001},{"$f":"ОКРУГЛВСЕ('Форма 4'!C334*'Базовые цены за единицу'!J20,8)","v":0},{"$f":"ОКРУГЛВСЕ('Форма 4'!C334*'Базовые цены за единицу'!K20,8)","v":13.696},{"$f":"ROUND('Форма 4'!C334*'Базовые цены за единицу'!L20,0)","v":0},{"$f":"ROUND('Форма 4'!C334*'Базовые цены за единицу'!M20,0)","v":0},{"$f":"ROUND((C20+E20)*'Форма 4'!C345/100,0)","v":1342},{"$f":"ROUND((C20+E20)*'Форма 4'!C348/100,0)","v":774},{"$f":"ROUND('Форма 4'!C334*'Базовые цены за единицу'!P20,0)","v":1170},{"$f":"ROUND('Форма 4'!C334*'Базовые цены за единицу'!Q20,0)","v":172},{"$f":"ROUND('Форма 4'!C334*'Базовые цены за единицу'!R20,0)","v":675},{"$f":"ROUND('Форма 4'!C334*'Базовые цены за единицу'!S20,0)","v":99},{"$f":"ROUND('Форма 4'!C334*'Базовые цены за единицу'!T20,0)","v":0},{"$f":"ROUND('Форма 4'!C334*'Базовые цены за единицу'!U20,0)","v":0},{"$f":"ROUND('Форма 4'!C334*'Базовые цены за единицу'!V20,0)","v":0},null,{"$f":"ROUND('Форма 4'!C334*'Базовые цены за единицу'!X20,0)","v":0},{"$f":"IF(Определители!I20=\"9\",ROUND((C20+E20)*(Начисления!M20/100)*('Форма 4'!C345/100),0),0)","v":0},{"$f":"IF(Определители!I20=\"9\",ROUND((C20+E20)*(100-Начисления!M20/100)*('Форма 4'!C345/100),0),0)","v":0},{"$f":"IF(Определители!I20=\"9\",ROUND((C20+E20)*(Начисления!M20/100)*('Форма 4'!C348/100),0),0)","v":0},{"$f":"IF(Определители!I20=\"9\",ROUND((C20+E20)*(100-Начисления!M20/100)*('Форма 4'!C348/100),0),0)","v":0},{"$f":"IF(Определители!I20=\"9\",ROUND(B20*Начисления!M20/100,0),0)","v":0},{"$f":"IF(Определители!I20=\"9\",ROUND(B20*(100-Начисления!M20)/100,0),0)","v":0},{"$f":"ROUND('Форма 4'!C334*'Базовые цены за единицу'!AE20,0)","v":0},null,null,{"$f":"ROUND('Форма 4'!C334*'Базовые цены за единицу'!AH20,0)","v":0},{"$f":"ROUND('Форма 4'!C334*'Базовые цены за единицу'!AI20,0)","v":0},{"$f":"ROUND('Форма 4'!C334*'Базовые цены за единицу'!AJ20,0)","v":0},{"$f":"ROUND('Форма 4'!C334*'Базовые цены за единицу'!AK20,0)","v":0}]
[{"$f":"'Форма 4'!A352","v":"10."},{"$f":"ROUND(C21+D21+F21+AF21+AG21,0)","v":203},{"$f":"ROUND('Форма 4'!C352*'Базовые цены за единицу'!C21,0)","v":29},{"$f":"ROUND('Форма 4'!C352*'Базовые цены за единицу'!D21,0)","v":104},{"$f":"ROUND('Форма 4'!C352*'Базовые цены за единицу'!E21,0)","v":15},{"$f":"ROUND('Форма 4'!C352*'Базовые цены за единицу'!F21,0)","v":0},{"$f":"ROUND('Форма 4'!C352*'Базовые цены за единицу'!G21,0)","v":0},{"$f":"ROUND('Форма 4'!C352*'Базовые цены за единицу'!H21,0)","v":0},{"$f":"ОКРУГЛВСЕ('Форма 4'!C352*'Базовые цены за единицу'!I21,8)","v":3.0922999999999998},{"$f":"ОКРУГЛВСЕ('Форма 4'!C352*'Базовые цены за единицу'!J21,8)","v":0},{"$f":"ОКРУГЛВСЕ('Форма 4'!C352*'Базовые цены за единицу'!K21,8)","v":1.2198},{"$f":"ROUND('Форма 4'!C352*'Базовые цены за единицу'!L21,0)","v":0},{"$f":"ROUND('Форма 4'!C352*'Базовые цены за единицу'!M21,0)","v":0},null,null,{"$f":"ROUND('Форма 4'!C352*'Базовые цены за единицу'!P21,0)","v":29},{"$f":"ROUND('Форма 4'!C352*'Базовые цены за единицу'!Q21,0)","v":15},{"$f":"ROUND('Форма 4'!C352*'Базовые цены за единицу'!R21,0)","v":17},{"$f":"ROUND('Форма 4'!C352*'Базовые цены за единицу'!S21,0)","v":9},{"$f":"ROUND('Форма 4'!C352*'Базовые цены за единицу'!T21,0)","v":0},{"$f":"ROUND('Форма 4'!C352*'Базовые цены за единицу'!U21,0)","v":0},{"$f":"ROUND('Форма 4'!C352*'Базовые цены за единицу'!V21,0)","v":0},null,{"$f":"ROUND('Форма 4'!C352*'Базовые цены за единицу'!X21,0)","v":0},{"$f":"IF(Определители!I21=\"9\",ROUND((C21+E21)*(Начисления!M21/100)*('Форма 4'!C364/100),0),0)","v":0},{"$f":"IF(Определители!I21=\"9\",ROUND((C21+E21)*(100-Начисления!M21/100)*('Форма 4'!C364/100),0),0)","v":0},{"$f":"IF(Определители!I21=\"9\",ROUND((C21+E21)*(Начисления!M21/100)*('Форма 4'!C367/100),0),0)","v":0},{"$f":"IF(Определители!I21=\"9\",ROUND((C21+E21)*(100-Начисления!M21/100)*('Форма 4'!C367/100),0),0)","v":0},{"$f":"IF(Определители!I21=\"9\",ROUND(B21*Начисления!M21/100,0),0)","v":0},{"$f":"IF(Определители!I21=\"9\",ROUND(B21*(100-Начисления!M21)/100,0),0)","v":0},{"$f":"ROUND('Форма 4'!C352*'Базовые цены за единицу'!AE21,0)","v":0},{"$f":"ROUND('Форма 4'!C352*'Базовые цены за единицу'!AF21,0)","v":44},{"$f":"ROUND('Форма 4'!C352*'Базовые цены за единицу'!AG21,0)","v":26},{"$f":"ROUND('Форма 4'!C352*'Базовые цены за единицу'!AH21,0)","v":0},{"$f":"ROUND('Форма 4'!C352*'Базовые цены за единицу'!AI21,0)","v":0},{"$f":"ROUND('Форма 4'!C352*'Базовые цены за единицу'!AJ21,0)","v":0},{"$f":"ROUND('Форма 4'!C352*'Базовые цены за единицу'!AK21,0)","v":0}]
[{"$f":"'Форма 4'!A371","v":"11."},{"$f":"ROUND(C22+D22+F22+AF22+AG22,0)","v":164},{"$f":"ROUND('Форма 4'!C371*'Базовые цены за единицу'!C22,0)","v":0},{"$f":"ROUND('Форма 4'!C371*'Базовые цены за единицу'!D22,0)","v":164},{"$f":"ROUND('Форма 4'!C371*'Базовые цены за единицу'!E22,0)","v":0},{"$f":"ROUND('Форма 4'!C371*'Базовые цены за единицу'!F22,0)","v":0},{"$f":"ROUND('Форма 4'!C371*'Базовые цены за единицу'!G22,0)","v":0},{"$f":"ROUND('Форма 4'!C371*'Базовые цены за единицу'!H22,0)","v":0},{"$f":"ОКРУГЛВСЕ('Форма 4'!C371*'Базовые цены за единицу'!I22,8)","v":0},{"$f":"ОКРУГЛВСЕ('Форма 4'!C371*'Базовые цены за единицу'!J22,8)","v":0},{"$f":"ОКРУГЛВСЕ('Форма 4'!C371*'Базовые цены за единицу'!K22,8)","v":0},{"$f":"ROUND('Форма 4'!C371*'Базовые цены за единицу'!L22,0)","v":0},{"$f":"ROUND('Форма 4'!C371*'Базовые цены за единицу'!M22,0)","v":0},null,null,{"$f":"ROUND('Форма 4'!C371*'Базовые цены за единицу'!P22,0)","v":0},{"$f":"ROUND('Форма 4'!C371*'Базовые цены за единицу'!Q22,0)","v":0},{"$f":"ROUND('Форма 4'!C371*'Базовые цены за единицу'!R22,0)","v":0},{"$f":"ROUND('Форма 4'!C371*'Базовые цены за единицу'!S22,0)","v":0},{"$f":"ROUND('Форма 4'!C371*'Базовые цены за единицу'!T22,0)","v":0},{"$f":"ROUND('Форма 4'!C371*'Базовые цены за единицу'!U22,0)","v":0},{"$f":"ROUND('Форма 4'!C371*'Базовые цены за единицу'!V22,0)","v":0},null,{"$f":"ROUND('Форма 4'!C371*'Базовые цены за единицу'!X22,0)","v":0},{"$f":"IF(Определители!I22=\"9\",ROUND((C22+E22)*(Начисления!M22/100)*('Форма 4'!C382/100),0),0)","v":0},{"$f":"IF(Определители!I22=\"9\",ROUND((C22+E22)*(100-Начисления!M22/100)*('Форма 4'!C382/100),0),0)","v":0},{"$f":"IF(Определители!I22=\"9\",ROUND((C22+E22)*(Начисления!M22/100)*('Форма 4'!C385/100),0),0)","v":0},{"$f":"IF(Определители!I22=\"9\",ROUND((C22+E22)*(100-Начисления!M22/100)*('Форма 4'!C385/100),0),0)","v":0},{"$f":"IF(Определители!I22=\"9\",ROUND(B22*Начисления!M22/100,0),0)","v":0},{"$f":"IF(Определители!I22=\"9\",ROUND(B22*(100-Начисления!M22)/100,0),0)","v":0},{"$f":"ROUND('Форма 4'!C371*'Базовые цены за единицу'!AE22,0)","v":0},null,null,{"$f":"ROUND('Форма 4'!C371*'Базовые цены за единицу'!AH22,0)","v":0},{"$f":"ROUND('Форма 4'!C371*'Базовые цены за единицу'!AI22,0)","v":0},{"$f":"ROUND('Форма 4'!C371*'Базовые цены за единицу'!AJ22,0)","v":0},{"$f":"ROUND('Форма 4'!C371*'Базовые цены за единицу'!AK22,0)","v":0}]
[]
[null,"Раздел 3.  Устройство новой дорожной одежды на уширениях и парковках"]
[]
[{"$f":"'Форма 4'!A550","v":"12."},{"$f":"ROUND(C26+D26+F26+AF26+AG26,0)","v":263},{"$f":"ROUND('Форма 4'!C550*'Базовые цены за единицу'!C26,0)","v":0},{"$f":"ROUND('Форма 4'!C550*'Базовые цены за единицу'!D26,0)","v":263},{"$f":"ROUND('Форма 4'!C550*'Базовые цены за единицу'!E26,0)","v":34},{"$f":"ROUND('Форма 4'!C550*'Базовые цены за единицу'!F26,0)","v":0},{"$f":"ROUND('Форма 4'!C550*'Базовые цены за единицу'!G26,0)","v":0},{"$f":"ROUND('Форма 4'!C550*'Базовые цены за единицу'!H26,0)","v":0},{"$f":"ОКРУГЛВСЕ('Форма 4'!C550*'Базовые цены за единицу'!I26,8)","v":0},{"$f":"ОКРУГЛВСЕ('Форма 4'!C550*'Базовые цены за единицу'!J26,8)","v":0},{"$f":"ОКРУГЛВСЕ('Форма 4'!C550*'Базовые цены за единицу'!K26,8)","v":2.076228},{"$f":"ROUND('Форма 4'!C550*'Базовые цены за единицу'!L26,0)","v":0},{"$f":"ROUND('Форма 4'!C550*'Базовые цены за единицу'!M26,0)","v":0},{"$f":"ROUND((C26+E26)*'Форма 4'!C562/100,0)","v":32},{"$f":"ROUND((C26+E26)*'Форма 4'!C565/100,0)","v":15},{"$f":"ROUND('Форма 4'!C550*'Базовые цены за единицу'!P26,0)","v":0},{"$f":"ROUND('Форма 4'!C550*'Базовые цены за единицу'!Q26,0)","v":32},{"$f":"ROUND('Форма 4'!C550*'Базовые цены за единицу'!R26,0)","v":0},{"$f":"ROUND('Форма 4'!C550*'Базовые цены за единицу'!S26,0)","v":14},{"$f":"ROUND('Форма 4'!C550*'Базовые цены за единицу'!T26,0)","v":0},{"$f":"ROUND('Форма 4'!C550*'Базовые цены за единицу'!U26,0)","v":0},{"$f":"ROUND('Форма 4'!C550*'Базовые цены за единицу'!V26,0)","v":0},null,{"$f":"ROUND('Форма 4'!C550*'Базовые цены за единицу'!X26,0)","v":0},{"$f":"IF(Определители!I26=\"9\",ROUND((C26+E26)*(Начисления!M26/100)*('Форма 4'!C562/100),0),0)","v":0},{"$f":"IF(Определители!I26=\"9\",ROUND((C26+E26)*(100-Начисления!M26/100)*('Форма 4'!C562/100),0),0)","v":0},{"$f":"IF(Определители!I26=\"9\",ROUND((C26+E26)*(Начисления!M26/100)*('Форма 4'!C565/100),0),0)","v":0},{"$f":"IF(Определители!I26=\"9\",ROUND((C26+E26)*(100-Начисления!M26/100)*('Форма 4'!C565/100),0),0)","v":0},{"$f":"IF(Определители!I26=\"9\",ROUND(B26*Начисления!M26/100,0),0)","v":0},{"$f":"IF(Определители!I26=\"9\",ROUND(B26*(100-Начисления!M26)/100,0),0)","v":0},{"$f":"ROUND('Форма 4'!C550*'Базовые цены за единицу'!AE26,0)","v":0},null,null,{"$f":"ROUND('Форма 4'!C550*'Базовые цены за единицу'!AH26,0)","v":0},{"$f":"ROUND('Форма 4'!C550*'Базовые цены за единицу'!AI26,0)","v":0},{"$f":"ROUND('Форма 4'!C550*'Базовые цены за единицу'!AJ26,0)","v":0},{"$f":"ROUND('Форма 4'!C550*'Базовые цены за единицу'!AK26,0)","v":0}]
[{"$f":"'Форма 4'!A569","v":"13."},9207,{"$f":"ROUND('Форма 4'!C569*'Базовые цены за единицу'!C27,0)","v":1315},{"$f":"ROUND('Форма 4'!C569*'Базовые цены за единицу'!D27,0)","v":4720},{"$f":"ROUND('Форма 4'!C569*'Базовые цены за единицу'!E27,0)","v":669},{"$f":"ROUND('Форма 4'!C569*'Базовые цены за единицу'!F27,0)","v":0},{"$f":"ROUND('Форма 4'!C569*'Базовые цены за единицу'!G27,0)","v":0},{"$f":"ROUND('Форма 4'!C569*'Базовые цены за единицу'!H27,0)","v":0},{"$f":"ОКРУГЛВСЕ('Форма 4'!C569*'Базовые цены за единицу'!I27,8)","v":140.19390000000001},{"$f":"ОКРУГЛВСЕ('Форма 4'!C569*'Базовые цены за единицу'!J27,8)","v":0},{"$f":"ОКРУГЛВСЕ('Форма 4'!C569*'Базовые цены за единицу'!K27,8)","v":55.301400000000001},{"$f":"ROUND('Форма 4'!C569*'Базовые цены за единицу'!L27,0)","v":0},{"$f":"ROUND('Форма 4'!C569*'Базовые цены за единицу'!M27,0)","v":0},null,null,{"$f":"ROUND('Форма 4'!C569*'Базовые цены за единицу'!P27,0)","v":1315},{"$f":"ROUND('Форма 4'!C569*'Базовые цены за единицу'!Q27,0)","v":669},{"$f":"ROUND('Форма 4'!C569*'Базовые цены за единицу'!R27,0)","v":791},{"$f":"ROUND('Форма 4'!C569*'Базовые цены за единицу'!S27,0)","v":403},{"$f":"ROUND('Форма 4'!C569*'Базовые цены за единицу'!T27,0)","v":0},{"$f":"ROUND('Форма 4'!C569*'Базовые цены за единицу'!U27,0)","v":0},{"$f":"ROUND('Форма 4'!C569*'Базовые цены за единицу'!V27,0)","v":0},null,{"$f":"ROUND('Форма 4'!C569*'Базовые цены за единицу'!X27,0)","v":0},{"$f":"IF(Определители!I27=\"9\",ROUND((C27+E27)*(Начисления!M27/100)*('Форма 4'!C581/100),0),0)","v":0},{"$f":"IF(Определители!I27=\"9\",ROUND((C27+E27)*(100-Начисления!M27/100)*('Форма 4'!C581/100),0),0)","v":0},{"$f":"IF(Определители!I27=\"9\",ROUND((C27+E27)*(Начисления!M27/100)*('Форма 4'!C584/100),0),0)","v":0},{"$f":"IF(Определители!I27=\"9\",ROUND((C27+E27)*(100-Начисления!M27/100)*('Форма 4'!C584/100),0),0)","v":0},{"$f":"IF(Определители!I27=\"9\",ROUND(B27*Начисления!M27/100,0),0)","v":0},{"$f":"IF(Определители!I27=\"9\",ROUND(B27*(100-Начисления!M27)/100,0),0)","v":0},{"$f":"ROUND('Форма 4'!C569*'Базовые цены за единицу'!AE27,0)","v":0},{"$f":"ROUND('Форма 4'!C569*'Базовые цены за единицу'!AF27,0)","v":1984},{"$f":"ROUND('Форма 4'!C569*'Базовые цены за единицу'!AG27,0)","v":1188},{"$f":"ROUND('Форма 4'!C569*'Базовые цены за единицу'!AH27,0)","v":0},{"$f":"ROUND('Форма 4'!C569*'Базовые цены за единицу'!AI27,0)","v":0},{"$f":"ROUND('Форма 4'!C569*'Базовые цены за единицу'!AJ27,0)","v":0},{"$f":"ROUND('Форма 4'!C569*'Базовые цены за единицу'!AK27,0)","v":0}]
[{"$f":"'Форма 4'!A588","v":"14."},7451,{"$f":"ROUND('Форма 4'!C588*'Базовые цены за единицу'!C28,0)","v":0},{"$f":"ROUND('Форма 4'!C588*'Базовые цены за единицу'!D28,0)","v":7451},{"$f":"ROUND('Форма 4'!C588*'Базовые цены за единицу'!E28,0)","v":0},{"$f":"ROUND('Форма 4'!C588*'Базовые цены за единицу'!F28,0)","v":0},{"$f":"ROUND('Форма 4'!C588*'Базовые цены за единицу'!G28,0)","v":0},{"$f":"ROUND('Форма 4'!C588*'Базовые цены за единицу'!H28,0)","v":0},{"$f":"ОКРУГЛВСЕ('Форма 4'!C588*'Базовые цены за единицу'!I28,8)","v":0},{"$f":"ОКРУГЛВСЕ('Форма 4'!C588*'Базовые цены за единицу'!J28,8)","v":0},{"$f":"ОКРУГЛВСЕ('Форма 4'!C588*'Базовые цены за единицу'!K28,8)","v":0},{"$f":"ROUND('Форма 4'!C588*'Базовые цены за единицу'!L28,0)","v":0},{"$f":"ROUND('Форма 4'!C588*'Базовые цены за единицу'!M28,0)","v":0},null,null,{"$f":"ROUND('Форма 4'!C588*'Базовые цены за единицу'!P28,0)","v":0},{"$f":"ROUND('Форма 4'!C588*'Базовые цены за единицу'!Q28,0)","v":0},{"$f":"ROUND('Форма 4'!C588*'Базовые цены за единицу'!R28,0)","v":0},{"$f":"ROUND('Форма 4'!C588*'Базовые цены за единицу'!S28,0)","v":0},{"$f":"ROUND('Форма 4'!C588*'Базовые цены за единицу'!T28,0)","v":0},{"$f":"ROUND('Форма 4'!C588*'Базовые цены за единицу'!U28,0)","v":0},{"$f":"ROUND('Форма 4'!C588*'Базовые цены за единицу'!V28,0)","v":0},null,{"$f":"ROUND('Форма 4'!C588*'Базовые цены за единицу'!X28,0)","v":0},{"$f":"IF(Определители!I28=\"9\",ROUND((C28+E28)*(Начисления!M28/100)*('Форма 4'!C600/100),0),0)","v":0},{"$f":"IF(Определители!I28=\"9\",ROUND((C28+E28)*(100-Начисления!M28/100)*('Форма 4'!C600/100),0),0)","v":0},{"$f":"IF(Определители!I28=\"9\",ROUND((C28+E28)*(Начисления!M28/100)*('Форма 4'!C603/100),0),0)","v":0},{"$f":"IF(Определители!I28=\"9\",ROUND((C28+E28)*(100-Начисления!M28/100)*('Форма 4'!C603/100),0),0)","v":0},{"$f":"IF(Определители!I28=\"9\",ROUND(B28*Начисления!M28/100,0),0)","v":0},{"$f":"IF(Определители!I28=\"9\",ROUND(B28*(100-Начисления!M28)/100,0),0)","v":0},{"$f":"ROUND('Форма 4'!C588*'Базовые цены за единицу'!AE28,0)","v":0},null,null,{"$f":"ROUND('Форма 4'!C588*'Базовые цены за единицу'!AH28,0)","v":0},{"$f":"ROUND('Форма 4'!C588*'Базовые цены за единицу'!AI28,0)","v":0},{"$f":"ROUND('Форма 4'!C588*'Базовые цены за единицу'!AJ28,0)","v":0},{"$f":"ROUND('Форма 4'!C588*'Базовые цены за единицу'!AK28,0)","v":0}]
[{"$f":"'Форма 4'!A607","v":"15."},6565,{"$f":"ROUND('Форма 4'!C607*'Базовые цены за единицу'!C29,0)","v":173},{"$f":"ROUND('Форма 4'!C607*'Базовые цены за единицу'!D29,0)","v":6350},{"$f":"ROUND('Форма 4'!C607*'Базовые цены за единицу'!E29,0)","v":680},{"$f":"ROUND('Форма 4'!C607*'Базовые цены за единицу'!F29,0)","v":42},{"$f":"ROUND('Форма 4'!C607*'Базовые цены за единицу'!G29,0)","v":0},{"$f":"ROUND('Форма 4'!C607*'Базовые цены за единицу'!H29,0)","v":0},{"$f":"ОКРУГЛВСЕ('Форма 4'!C607*'Базовые цены за единицу'!I29,8)","v":18.158940000000001},{"$f":"ОКРУГЛВСЕ('Форма 4'!C607*'Базовые цены за единицу'!J29,8)","v":0},{"$f":"ОКРУГЛВСЕ('Форма 4'!C607*'Базовые цены за единицу'!K29,8)","v":42.290280000000003},{"$f":"ROUND('Форма 4'!C607*'Базовые цены за единицу'!L29,0)","v":0},{"$f":"ROUND('Форма 4'!C607*'Базовые цены за единицу'!M29,0)","v":0},{"$f":"ROUND((C29+E29)*'Форма 4'!C619/100,0)","v":1211},{"$f":"ROUND((C29+E29)*'Форма 4'!C622/100,0)","v":691},{"$f":"ROUND('Форма 4'!C607*'Базовые цены за единицу'!P29,0)","v":246},{"$f":"ROUND('Форма 4'!C607*'Базовые цены за единицу'!Q29,0)","v":966},{"$f":"ROUND('Форма 4'!C607*'Базовые цены за единицу'!R29,0)","v":140},{"$f":"ROUND('Форма 4'!C607*'Базовые цены за единицу'!S29,0)","v":551},{"$f":"ROUND('Форма 4'!C607*'Базовые цены за единицу'!T29,0)","v":0},{"$f":"ROUND('Форма 4'!C607*'Базовые цены за единицу'!U29,0)","v":0},{"$f":"ROUND('Форма 4'!C607*'Базовые цены за единицу'!V29,0)","v":0},null,{"$f":"ROUND('Форма 4'!C607*'Базовые цены за единицу'!X29,0)","v":0},{"$f":"IF(Определители!I29=\"9\",ROUND((C29+E29)*(Начисления!M29/100)*('Форма 4'!C619/100),0),0)","v":0},{"$f":"IF(Определители!I29=\"9\",ROUND((C29+E29)*(100-Начисления!M29/100)*('Форма 4'!C619/100),0),0)","v":0},{"$f":"IF(Определители!I29=\"9\",ROUND((C29+E29)*(Начисления!M29/100)*('Форма 4'!C622/100),0),0)","v":0},{"$f":"IF(Определители!I29=\"9\",ROUND((C29+E29)*(100-Начисления!M29/100)*('Форма 4'!C622/100),0),0)","v":0},{"$f":"IF(Определители!I29=\"9\",ROUND(B29*Начисления!M29/100,0),0)","v":0},{"$f":"IF(Определители!I29=\"9\",ROUND(B29*(100-Начисления!M29)/100,0),0)","v":0},{"$f":"ROUND('Форма 4'!C607*'Базовые цены за единицу'!AE29,0)","v":0},null,null,{"$f":"ROUND('Форма 4'!C607*'Базовые цены за единицу'!AH29,0)","v":0},{"$f":"ROUND('Форма 4'!C607*'Базовые цены за единицу'!AI29,0)","v":0},{"$f":"ROUND('Форма 4'!C607*'Базовые цены за единицу'!AJ29,0)","v":0},{"$f":"ROUND('Форма 4'!C607*'Базовые цены за единицу'!AK29,0)","v":0}]
[{"$f":"'Форма 4'!A626","v":"16."},11310,{"$f":"ROUND('Форма 4'!C626*'Базовые цены за единицу'!C30,0)","v":0},{"$f":"ROUND('Форма 4'!C626*'Базовые цены за единицу'!D30,0)","v":0},{"$f":"ROUND('Форма 4'!C626*'Базовые цены за единицу'!E30,0)","v":0},{"$f":"ROUND('Форма 4'!C626*'Базовые цены за единицу'!F30,0)","v":11310},{"$f":"ROUND('Форма 4'!C626*'Базовые цены за единицу'!G30,0)","v":11310},{"$f":"ROUND('Форма 4'!C626*'Базовые цены за единицу'!H30,0)","v":0},{"$f":"ОКРУГЛВСЕ('Форма 4'!C626*'Базовые цены за единицу'!I30,8)","v":0},{"$f":"ОКРУГЛВСЕ('Форма 4'!C626*'Базовые цены за единицу'!J30,8)","v":0},{"$f":"ОКРУГЛВСЕ('Форма 4'!C626*'Базовые цены за единицу'!K30,8)","v":0},{"$f":"ROUND('Форма 4'!C626*'Базовые цены за единицу'!L30,0)","v":0},{"$f":"ROUND('Форма 4'!C626*'Базовые цены за единицу'!M30,0)","v":0},{"$f":"ROUND((C30+E30)*'Форма 4'!C639/100,0)","v":0},{"$f":"ROUND((C30+E30)*'Форма 4'!C642/100,0)","v":0},{"$f":"ROUND('Форма 4'!C626*'Базовые цены за единицу'!P30,0)","v":0},{"$f":"ROUND('Форма 4'!C626*'Базовые цены за единицу'!Q30,0)","v":0},{"$f":"ROUND('Форма 4'!C626*'Базовые цены за единицу'!R30,0)","v":0},{"$f":"ROUND('Форма 4'!C626*'Базовые цены за единицу'!S30,0)","v":0},{"$f":"ROUND('Форма 4'!C626*'Базовые цены за единицу'!T30,0)","v":0},{"$f":"ROUND('Форма 4'!C626*'Базовые цены за единицу'!U30,0)","v":0},{"$f":"ROUND('Форма 4'!C626*'Базовые цены за единицу'!V30,0)","v":0},null,{"$f":"ROUND('Форма 4'!C626*'Базовые цены за единицу'!X30,0)","v":0},{"$f":"IF(Определители!I30=\"9\",ROUND((C30+E30)*(Начисления!M30/100)*('Форма 4'!C639/100),0),0)","v":0},{"$f":"IF(Определители!I30=\"9\",ROUND((C30+E30)*(100-Начисления!M30/100)*('Форма 4'!C639/100),0),0)","v":0},{"$f":"IF(Определители!I30=\"9\",ROUND((C30+E30)*(Начисления!M30/100)*('Форма 4'!C642/100),0),0)","v":0},{"$f":"IF(Определители!I30=\"9\",ROUND((C30+E30)*(100-Начисления!M30/100)*('Форма 4'!C642/100),0),0)","v":0},{"$f":"IF(Определители!I30=\"9\",ROUND(B30*Начисления!M30/100,0),0)","v":0},{"$f":"IF(Определители!I30=\"9\",ROUND(B30*(100-Начисления!M30)/100,0),0)","v":0},{"$f":"ROUND('Форма 4'!C626*'Базовые цены за единицу'!AE30,0)","v":0},null,null,{"$f":"ROUND('Форма 4'!C626*'Базовые цены за единицу'!AH30,0)","v":0},{"$f":"ROUND('Форма 4'!C626*'Базовые цены за единицу'!AI30,0)","v":0},{"$f":"ROUND('Форма 4'!C626*'Базовые цены за единицу'!AJ30,0)","v":0},{"$f":"ROUND('Форма 4'!C626*'Базовые цены за единицу'!AK30,0)","v":0}]
[{"$f":"'Форма 4'!A646","v":"17."},300,{"$f":"ROUND('Форма 4'!C646*'Базовые цены за единицу'!C31,0)","v":0},{"$f":"ROUND('Форма 4'!C646*'Базовые цены за единицу'!D31,0)","v":0},{"$f":"ROUND('Форма 4'!C646*'Базовые цены за единицу'!E31,0)","v":0},{"$f":"ROUND('Форма 4'!C646*'Базовые цены за единицу'!F31,0)","v":300},{"$f":"ROUND('Форма 4'!C646*'Базовые цены за единицу'!G31,0)","v":300},{"$f":"ROUND('Форма 4'!C646*'Базовые цены за единицу'!H31,0)","v":0},{"$f":"ОКРУГЛВСЕ('Форма 4'!C646*'Базовые цены за единицу'!I31,8)","v":0},{"$f":"ОКРУГЛВСЕ('Форма 4'!C646*'Базовые цены за единицу'!J31,8)","v":0},{"$f":"ОКРУГЛВСЕ('Форма 4'!C646*'Базовые цены за единицу'!K31,8)","v":0},{"$f":"ROUND('Форма 4'!C646*'Базовые цены за единицу'!L31,0)","v":0},{"$f":"ROUND('Форма 4'!C646*'Базовые цены за единицу'!M31,0)","v":0},{"$f":"ROUND((C31+E31)*'Форма 4'!C659/100,0)","v":0},{"$f":"ROUND((C31+E31)*'Форма 4'!C662/100,0)","v":0},{"$f":"ROUND('Форма 4'!C646*'Базовые цены за единицу'!P31,0)","v":0},{"$f":"ROUND('Форма 4'!C646*'Базовые цены за единицу'!Q31,0)","v":0},{"$f":"ROUND('Форма 4'!C646*'Базовые цены за единицу'!R31,0)","v":0},{"$f":"ROUND('Форма 4'!C646*'Базовые цены за единицу'!S31,0)","v":0},{"$f":"ROUND('Форма 4'!C646*'Базовые цены за единицу'!T31,0)","v":0},{"$f":"ROUND('Форма 4'!C646*'Базовые цены за единицу'!U31,0)","v":0},{"$f":"ROUND('Форма 4'!C646*'Базовые цены за единицу'!V31,0)","v":0},null,{"$f":"ROUND('Форма 4'!C646*'Базовые цены за единицу'!X31,0)","v":0},{"$f":"IF(Определители!I31=\"9\",ROUND((C31+E31)*(Начисления!M31/100)*('Форма 4'!C659/100),0),0)","v":0},{"$f":"IF(Определители!I31=\"9\",ROUND((C31+E31)*(100-Начисления!M31/100)*('Форма 4'!C659/100),0),0)","v":0},{"$f":"IF(Определители!I31=\"9\",ROUND((C31+E31)*(Начисления!M31/100)*('Форма 4'!C662/100),0),0)","v":0},{"$f":"IF(Определители!I31=\"9\",ROUND((C31+E31)*(100-Начисления!M31/100)*('Форма 4'!C662/100),0),0)","v":0},{"$f":"IF(Определители!I31=\"9\",ROUND(B31*Начисления!M31/100,0),0)","v":0},{"$f":"IF(Определители!I31=\"9\",ROUND(B31*(100-Начисления!M31)/100,0),0)","v":0},{"$f":"ROUND('Форма 4'!C646*'Базовые цены за единицу'!AE31,0)","v":0},null,null,{"$f":"ROUND('Форма 4'!C646*'Базовые цены за единицу'!AH31,0)","v":0},{"$f":"ROUND('Форма 4'!C646*'Базовые цены за единицу'!AI31,0)","v":0},{"$f":"ROUND('Форма 4'!C646*'Базовые цены за единицу'!AJ31,0)","v":0},{"$f":"ROUND('Форма 4'!C646*'Базовые цены за единицу'!AK31,0)","v":0}]
[{"$f":"'Форма 4'!A666","v":"18."},3413,{"$f":"ROUND('Форма 4'!C666*'Базовые цены за единицу'!C32,0)","v":90},{"$f":"ROUND('Форма 4'!C666*'Базовые цены за единицу'!D32,0)","v":3301},{"$f":"ROUND('Форма 4'!C666*'Базовые цены за единицу'!E32,0)","v":354},{"$f":"ROUND('Форма 4'!C666*'Базовые цены за единицу'!F32,0)","v":22},{"$f":"ROUND('Форма 4'!C666*'Базовые цены за единицу'!G32,0)","v":0},{"$f":"ROUND('Форма 4'!C666*'Базовые цены за единицу'!H32,0)","v":0},{"$f":"ОКРУГЛВСЕ('Форма 4'!C666*'Базовые цены за единицу'!I32,8)","v":9.439584},{"$f":"ОКРУГЛВСЕ('Форма 4'!C666*'Базовые цены за единицу'!J32,8)","v":0},{"$f":"ОКРУГЛВСЕ('Форма 4'!C666*'Базовые цены за единицу'!K32,8)","v":21.983808},{"$f":"ROUND('Форма 4'!C666*'Базовые цены за единицу'!L32,0)","v":0},{"$f":"ROUND('Форма 4'!C666*'Базовые цены за единицу'!M32,0)","v":0},{"$f":"ROUND((C32+E32)*'Форма 4'!C678/100,0)","v":630},{"$f":"ROUND((C32+E32)*'Форма 4'!C681/100,0)","v":360},{"$f":"ROUND('Форма 4'!C666*'Базовые цены за единицу'!P32,0)","v":128},{"$f":"ROUND('Форма 4'!C666*'Базовые цены за единицу'!Q32,0)","v":502},{"$f":"ROUND('Форма 4'!C666*'Базовые цены за единицу'!R32,0)","v":73},{"$f":"ROUND('Форма 4'!C666*'Базовые цены за единицу'!S32,0)","v":286},{"$f":"ROUND('Форма 4'!C666*'Базовые цены за единицу'!T32,0)","v":0},{"$f":"ROUND('Форма 4'!C666*'Базовые цены за единицу'!U32,0)","v":0},{"$f":"ROUND('Форма 4'!C666*'Базовые цены за единицу'!V32,0)","v":0},null,{"$f":"ROUND('Форма 4'!C666*'Базовые цены за единицу'!X32,0)","v":0},{"$f":"IF(Определители!I32=\"9\",ROUND((C32+E32)*(Начисления!M32/100)*('Форма 4'!C678/100),0),0)","v":0},{"$f":"IF(Определители!I32=\"9\",ROUND((C32+E32)*(100-Начисления!M32/100)*('Форма 4'!C678/100),0),0)","v":0},{"$f":"IF(Определители!I32=\"9\",ROUND((C32+E32)*(Начисления!M32/100)*('Форма 4'!C681/100),0),0)","v":0},{"$f":"IF(Определители!I32=\"9\",ROUND((C32+E32)*(100-Начисления!M32/100)*('Форма 4'!C681/100),0),0)","v":0},{"$f":"IF(Определители!I32=\"9\",ROUND(B32*Начисления!M32/100,0),0)","v":0},{"$f":"IF(Определители!I32=\"9\",ROUND(B32*(100-Начисления!M32)/100,0),0)","v":0},{"$f":"ROUND('Форма 4'!C666*'Базовые цены за единицу'!AE32,0)","v":0},null,null,{"$f":"ROUND('Форма 4'!C666*'Базовые цены за единицу'!AH32,0)","v":0},{"$f":"ROUND('Форма 4'!C666*'Базовые цены за единицу'!AI32,0)","v":0},{"$f":"ROUND('Форма 4'!C666*'Базовые цены за единицу'!AJ32,0)","v":0},{"$f":"ROUND('Форма 4'!C666*'Базовые цены за единицу'!AK32,0)","v":0}]
[{"$f":"'Форма 4'!A685","v":"19."},6032,{"$f":"ROUND('Форма 4'!C685*'Базовые цены за единицу'!C33,0)","v":0},{"$f":"ROUND('Форма 4'!C685*'Базовые цены за единицу'!D33,0)","v":0},{"$f":"ROUND('Форма 4'!C685*'Базовые цены за единицу'!E33,0)","v":0},{"$f":"ROUND('Форма 4'!C685*'Базовые цены за единицу'!F33,0)","v":6032},{"$f":"ROUND('Форма 4'!C685*'Базовые цены за единицу'!G33,0)","v":6032},{"$f":"ROUND('Форма 4'!C685*'Базовые цены за единицу'!H33,0)","v":0},{"$f":"ОКРУГЛВСЕ('Форма 4'!C685*'Базовые цены за единицу'!I33,8)","v":0},{"$f":"ОКРУГЛВСЕ('Форма 4'!C685*'Базовые цены за единицу'!J33,8)","v":0},{"$f":"ОКРУГЛВСЕ('Форма 4'!C685*'Базовые цены за единицу'!K33,8)","v":0},{"$f":"ROUND('Форма 4'!C685*'Базовые цены за единицу'!L33,0)","v":0},{"$f":"ROUND('Форма 4'!C685*'Базовые цены за единицу'!M33,0)","v":0},{"$f":"ROUND((C33+E33)*'Форма 4'!C698/100,0)","v":0},{"$f":"ROUND((C33+E33)*'Форма 4'!C701/100,0)","v":0},{"$f":"ROUND('Форма 4'!C685*'Базовые цены за единицу'!P33,0)","v":0},{"$f":"ROUND('Форма 4'!C685*'Базовые цены за единицу'!Q33,0)","v":0},{"$f":"ROUND('Форма 4'!C685*'Базовые цены за единицу'!R33,0)","v":0},{"$f":"ROUND('Форма 4'!C685*'Базовые цены за единицу'!S33,0)","v":0},{"$f":"ROUND('Форма 4'!C685*'Базовые цены за единицу'!T33,0)","v":0},{"$f":"ROUND('Форма 4'!C685*'Базовые цены за единицу'!U33,0)","v":0},{"$f":"ROUND('Форма 4'!C685*'Базовые цены за единицу'!V33,0)","v":0},null,{"$f":"ROUND('Форма 4'!C685*'Базовые цены за единицу'!X33,0)","v":0},{"$f":"IF(Определители!I33=\"9\",ROUND((C33+E33)*(Начисления!M33/100)*('Форма 4'!C698/100),0),0)","v":0},{"$f":"IF(Определители!I33=\"9\",ROUND((C33+E33)*(100-Начисления!M33/100)*('Форма 4'!C698/100),0),0)","v":0},{"$f":"IF(Определители!I33=\"9\",ROUND((C33+E33)*(Начисления!M33/100)*('Форма 4'!C701/100),0),0)","v":0},{"$f":"IF(Определители!I33=\"9\",ROUND((C33+E33)*(100-Начисления!M33/100)*('Форма 4'!C701/100),0),0)","v":0},{"$f":"IF(Определители!I33=\"9\",ROUND(B33*Начисления!M33/100,0),0)","v":0},{"$f":"IF(Определители!I33=\"9\",ROUND(B33*(100-Начисления!M33)/100,0),0)","v":0},{"$f":"ROUND('Форма 4'!C685*'Базовые цены за единицу'!AE33,0)","v":0},null,null,{"$f":"ROUND('Форма 4'!C685*'Базовые цены за единицу'!AH33,0)","v":0},{"$f":"ROUND('Форма 4'!C685*'Базовые цены за единицу'!AI33,0)","v":0},{"$f":"ROUND('Форма 4'!C685*'Базовые цены за единицу'!AJ33,0)","v":0},{"$f":"ROUND('Форма 4'!C685*'Базовые цены за единицу'!AK33,0)","v":0}]
[{"$f":"'Форма 4'!A705","v":"20."},3012,{"$f":"ROUND('Форма 4'!C705*'Базовые цены за единицу'!C34,0)","v":409},{"$f":"ROUND('Форма 4'!C705*'Базовые цены за единицу'!D34,0)","v":2552},{"$f":"ROUND('Форма 4'!C705*'Базовые цены за единицу'!E34,0)","v":291},{"$f":"ROUND('Форма 4'!C705*'Базовые цены за единицу'!F34,0)","v":51},{"$f":"ROUND('Форма 4'!C705*'Базовые цены за единицу'!G34,0)","v":0},{"$f":"ROUND('Форма 4'!C705*'Базовые цены за единицу'!H34,0)","v":0},{"$f":"ОКРУГЛВСЕ('Форма 4'!C705*'Базовые цены за единицу'!I34,8)","v":35.389200000000002},{"$f":"ОКРУГЛВСЕ('Форма 4'!C705*'Базовые цены за единицу'!J34,8)","v":0},{"$f":"ОКРУГЛВСЕ('Форма 4'!C705*'Базовые цены за единицу'!K34,8)","v":17.6022},{"$f":"ROUND('Форма 4'!C705*'Базовые цены за единицу'!L34,0)","v":0},{"$f":"ROUND('Форма 4'!C705*'Базовые цены за единицу'!M34,0)","v":0},{"$f":"ROUND((C34+E34)*'Форма 4'!C716/100,0)","v":994},{"$f":"ROUND((C34+E34)*'Форма 4'!C719/100,0)","v":567},{"$f":"ROUND('Форма 4'!C705*'Базовые цены за единицу'!P34,0)","v":581},{"$f":"ROUND('Форма 4'!C705*'Базовые цены за единицу'!Q34,0)","v":413},{"$f":"ROUND('Форма 4'!C705*'Базовые цены за единицу'!R34,0)","v":331},{"$f":"ROUND('Форма 4'!C705*'Базовые цены за единицу'!S34,0)","v":236},{"$f":"ROUND('Форма 4'!C705*'Базовые цены за единицу'!T34,0)","v":0},{"$f":"ROUND('Форма 4'!C705*'Базовые цены за единицу'!U34,0)","v":0},{"$f":"ROUND('Форма 4'!C705*'Базовые цены за единицу'!V34,0)","v":0},null,{"$f":"ROUND('Форма 4'!C705*'Базовые цены за единицу'!X34,0)","v":0},{"$f":"IF(Определители!I34=\"9\",ROUND((C34+E34)*(Начисления!M34/100)*('Форма 4'!C716/100),0),0)","v":0},{"$f":"IF(Определители!I34=\"9\",ROUND((C34+E34)*(100-Начисления!M34/100)*('Форма 4'!C716/100),0),0)","v":0},{"$f":"IF(Определители!I34=\"9\",ROUND((C34+E34)*(Начисления!M34/100)*('Форма 4'!C719/100),0),0)","v":0},{"$f":"IF(Определители!I34=\"9\",ROUND((C34+E34)*(100-Начисления!M34/100)*('Форма 4'!C719/100),0),0)","v":0},{"$f":"IF(Определители!I34=\"9\",ROUND(B34*Начисления!M34/100,0),0)","v":0},{"$f":"IF(Определители!I34=\"9\",ROUND(B34*(100-Начисления!M34)/100,0),0)","v":0},{"$f":"ROUND('Форма 4'!C705*'Базовые цены за единицу'!AE34,0)","v":0},null,null,{"$f":"ROUND('Форма 4'!C705*'Базовые цены за единицу'!AH34,0)","v":0},{"$f":"ROUND('Форма 4'!C705*'Базовые цены за единицу'!AI34,0)","v":0},{"$f":"ROUND('Форма 4'!C705*'Базовые цены за единицу'!AJ34,0)","v":0},{"$f":"ROUND('Форма 4'!C705*'Базовые цены за единицу'!AK34,0)","v":0}]
[{"$f":"'Форма 4'!A723","v":"21."},44325,{"$f":"ROUND('Форма 4'!C723*'Базовые цены за единицу'!C35,0)","v":0},{"$f":"ROUND('Форма 4'!C723*'Базовые цены за единицу'!D35,0)","v":0},{"$f":"ROUND('Форма 4'!C723*'Базовые цены за единицу'!E35,0)","v":0},{"$f":"ROUND('Форма 4'!C723*'Базовые цены за единицу'!F35,0)","v":44325},{"$f":"ROUND('Форма 4'!C723*'Базовые цены за единицу'!G35,0)","v":41540},{"$f":"ROUND('Форма 4'!C723*'Базовые цены за единицу'!H35,0)","v":0},{"$f":"ОКРУГЛВСЕ('Форма 4'!C723*'Базовые цены за единицу'!I35,8)","v":0},{"$f":"ОКРУГЛВСЕ('Форма 4'!C723*'Базовые цены за единицу'!J35,8)","v":0},{"$f":"ОКРУГЛВСЕ('Форма 4'!C723*'Базовые цены за единицу'!K35,8)","v":0},{"$f":"ROUND('Форма 4'!C723*'Базовые цены за единицу'!L35,0)","v":85470},{"$f":"ROUND('Форма 4'!C723*'Базовые цены за единицу'!M35,0)","v":0},{"$f":"ROUND((C35+E35)*'Форма 4'!C735/100,0)","v":0},{"$f":"ROUND((C35+E35)*'Форма 4'!C738/100,0)","v":0},{"$f":"ROUND('Форма 4'!C723*'Базовые цены за единицу'!P35,0)","v":0},{"$f":"ROUND('Форма 4'!C723*'Базовые цены за единицу'!Q35,0)","v":0},{"$f":"ROUND('Форма 4'!C723*'Базовые цены за единицу'!R35,0)","v":0},{"$f":"ROUND('Форма 4'!C723*'Базовые цены за единицу'!S35,0)","v":0},{"$f":"ROUND('Форма 4'!C723*'Базовые цены за единицу'!T35,0)","v":0},{"$f":"ROUND('Форма 4'!C723*'Базовые цены за единицу'!U35,0)","v":0},{"$f":"ROUND('Форма 4'!C723*'Базовые цены за единицу'!V35,0)","v":0},null,{"$f":"ROUND('Форма 4'!C723*'Базовые цены за единицу'!X35,0)","v":0},{"$f":"IF(Определители!I35=\"9\",ROUND((C35+E35)*(Начисления!M35/100)*('Форма 4'!C735/100),0),0)","v":0},{"$f":"IF(Определители!I35=\"9\",ROUND((C35+E35)*(100-Начисления!M35/100)*('Форма 4'!C735/100),0),0)","v":0},{"$f":"IF(Определители!I35=\"9\",ROUND((C35+E35)*(Начисления!M35/100)*('Форма 4'!C738/100),0),0)","v":0},{"$f":"IF(Определители!I35=\"9\",ROUND((C35+E35)*(100-Начисления!M35/100)*('Форма 4'!C738/100),0),0)","v":0},{"$f":"IF(Определители!I35=\"9\",ROUND(B35*Начисления!M35/100,0),0)","v":0},{"$f":"IF(Определители!I35=\"9\",ROUND(B35*(100-Начисления!M35)/100,0),0)","v":0},{"$f":"ROUND('Форма 4'!C723*'Базовые цены за единицу'!AE35,0)","v":0},null,null,{"$f":"ROUND('Форма 4'!C723*'Базовые цены за единицу'!AH35,0)","v":0},{"$f":"ROUND('Форма 4'!C723*'Базовые цены за единицу'!AI35,0)","v":0},{"$f":"ROUND('Форма 4'!C723*'Базовые цены за единицу'!AJ35,0)","v":0},{"$f":"ROUND('Форма 4'!C723*'Базовые цены за единицу'!AK35,0)","v":0}]
[{"$f":"'Форма 4'!A742","v":"22."},3176,{"$f":"ROUND('Форма 4'!C742*'Базовые цены за единицу'!C36,0)","v":409},{"$f":"ROUND('Форма 4'!C742*'Базовые цены за единицу'!D36,0)","v":2559},{"$f":"ROUND('Форма 4'!C742*'Базовые цены за единицу'!E36,0)","v":291},{"$f":"ROUND('Форма 4'!C742*'Базовые цены за единицу'!F36,0)","v":208},{"$f":"ROUND('Форма 4'!C742*'Базовые цены за единицу'!G36,0)","v":0},{"$f":"ROUND('Форма 4'!C742*'Базовые цены за единицу'!H36,0)","v":0},{"$f":"ОКРУГЛВСЕ('Форма 4'!C742*'Базовые цены за единицу'!I36,8)","v":35.389200000000002},{"$f":"ОКРУГЛВСЕ('Форма 4'!C742*'Базовые цены за единицу'!J36,8)","v":0},{"$f":"ОКРУГЛВСЕ('Форма 4'!C742*'Базовые цены за единицу'!K36,8)","v":17.629919999999998},{"$f":"ROUND('Форма 4'!C742*'Базовые цены за единицу'!L36,0)","v":0},{"$f":"ROUND('Форма 4'!C742*'Базовые цены за единицу'!M36,0)","v":0},{"$f":"ROUND((C36+E36)*'Форма 4'!C753/100,0)","v":994},{"$f":"ROUND((C36+E36)*'Форма 4'!C756/100,0)","v":567},{"$f":"ROUND('Форма 4'!C742*'Базовые цены за единицу'!P36,0)","v":581},{"$f":"ROUND('Форма 4'!C742*'Базовые цены за единицу'!Q36,0)","v":414},{"$f":"ROUND('Форма 4'!C742*'Базовые цены за единицу'!R36,0)","v":331},{"$f":"ROUND('Форма 4'!C742*'Базовые цены за единицу'!S36,0)","v":236},{"$f":"ROUND('Форма 4'!C742*'Базовые цены за единицу'!T36,0)","v":0},{"$f":"ROUND('Форма 4'!C742*'Базовые цены за единицу'!U36,0)","v":0},{"$f":"ROUND('Форма 4'!C742*'Базовые цены за единицу'!V36,0)","v":0},null,{"$f":"ROUND('Форма 4'!C742*'Базовые цены за единицу'!X36,0)","v":0},{"$f":"IF(Определители!I36=\"9\",ROUND((C36+E36)*(Начисления!M36/100)*('Форма 4'!C753/100),0),0)","v":0},{"$f":"IF(Определители!I36=\"9\",ROUND((C36+E36)*(100-Начисления!M36/100)*('Форма 4'!C753/100),0),0)","v":0},{"$f":"IF(Определители!I36=\"9\",ROUND((C36+E36)*(Начисления!M36/100)*('Форма 4'!C756/100),0),0)","v":0},{"$f":"IF(Определители!I36=\"9\",ROUND((C36+E36)*(100-Начисления!M36/100)*('Форма 4'!C756/100),0),0)","v":0},{"$f":"IF(Определители!I36=\"9\",ROUND(B36*Начисления!M36/100,0),0)","v":0},{"$f":"IF(Определители!I36=\"9\",ROUND(B36*(100-Начисления!M36)/100,0),0)","v":0},{"$f":"ROUND('Форма 4'!C742*'Базовые цены за единицу'!AE36,0)","v":0},null,null,{"$f":"ROUND('Форма 4'!C742*'Базовые цены за единицу'!AH36,0)","v":0},{"$f":"ROUND('Форма 4'!C742*'Базовые цены за единицу'!AI36,0)","v":0},{"$f":"ROUND('Форма 4'!C742*'Базовые цены за единицу'!AJ36,0)","v":0},{"$f":"ROUND('Форма 4'!C742*'Базовые цены за единицу'!AK36,0)","v":0}]
[{"$f":"'Форма 4'!A760","v":"23."},-14,{"$f":"ROUND('Форма 4'!C760*'Базовые цены за единицу'!C37,0)","v":-2},{"$f":"ROUND('Форма 4'!C760*'Базовые цены за единицу'!D37,0)","v":-7},{"$f":"ROUND('Форма 4'!C760*'Базовые цены за единицу'!E37,0)","v":0},{"$f":"ROUND('Форма 4'!C760*'Базовые цены за единицу'!F37,0)","v":-5},{"$f":"ROUND('Форма 4'!C760*'Базовые цены за единицу'!G37,0)","v":0},{"$f":"ROUND('Форма 4'!C760*'Базовые цены за единицу'!H37,0)","v":0},{"$f":"ОКРУГЛВСЕ('Форма 4'!C760*'Базовые цены за единицу'!I37,8)","v":-0.16632},{"$f":"ОКРУГЛВСЕ('Форма 4'!C760*'Базовые цены за единицу'!J37,8)","v":0},{"$f":"ОКРУГЛВСЕ('Форма 4'!C760*'Базовые цены за единицу'!K37,8)","v":0},{"$f":"ROUND('Форма 4'!C760*'Базовые цены за единицу'!L37,0)","v":0},{"$f":"ROUND('Форма 4'!C760*'Базовые цены за единицу'!M37,0)","v":0},{"$f":"ROUND((C37+E37)*'Форма 4'!C772/100,0)","v":-3},{"$f":"ROUND((C37+E37)*'Форма 4'!C775/100,0)","v":-2},{"$f":"ROUND('Форма 4'!C760*'Базовые цены за единицу'!P37,0)","v":-3},{"$f":"ROUND('Форма 4'!C760*'Базовые цены за единицу'!Q37,0)","v":0},{"$f":"ROUND('Форма 4'!C760*'Базовые цены за единицу'!R37,0)","v":-2},{"$f":"ROUND('Форма 4'!C760*'Базовые цены за единицу'!S37,0)","v":0},{"$f":"ROUND('Форма 4'!C760*'Базовые цены за единицу'!T37,0)","v":0},{"$f":"ROUND('Форма 4'!C760*'Базовые цены за единицу'!U37,0)","v":0},{"$f":"ROUND('Форма 4'!C760*'Базовые цены за единицу'!V37,0)","v":0},null,{"$f":"ROUND('Форма 4'!C760*'Базовые цены за единицу'!X37,0)","v":0},{"$f":"IF(Определители!I37=\"9\",ROUND((C37+E37)*(Начисления!M37/100)*('Форма 4'!C772/100),0),0)","v":0},{"$f":"IF(Определители!I37=\"9\",ROUND((C37+E37)*(100-Начисления!M37/100)*('Форма 4'!C772/100),0),0)","v":0},{"$f":"IF(Определители!I37=\"9\",ROUND((C37+E37)*(Начисления!M37/100)*('Форма 4'!C775/100),0),0)","v":0},{"$f":"IF(Определители!I37=\"9\",ROUND((C37+E37)*(100-Начисления!M37/100)*('Форма 4'!C775/100),0),0)","v":0},{"$f":"IF(Определители!I37=\"9\",ROUND(B37*Начисления!M37/100,0),0)","v":0},{"$f":"IF(Определители!I37=\"9\",ROUND(B37*(100-Начисления!M37)/100,0),0)","v":0},{"$f":"ROUND('Форма 4'!C760*'Базовые цены за единицу'!AE37,0)","v":0},null,null,{"$f":"ROUND('Форма 4'!C760*'Базовые цены за единицу'!AH37,0)","v":0},{"$f":"ROUND('Форма 4'!C760*'Базовые цены за единицу'!AI37,0)","v":0},{"$f":"ROUND('Форма 4'!C760*'Базовые цены за единицу'!AJ37,0)","v":0},{"$f":"ROUND('Форма 4'!C760*'Базовые цены за единицу'!AK37,0)","v":0}]
[{"$f":"'Форма 4'!A779","v":"24."},38180,{"$f":"ROUND('Форма 4'!C779*'Базовые цены за единицу'!C38,0)","v":0},{"$f":"ROUND('Форма 4'!C779*'Базовые цены за единицу'!D38,0)","v":0},{"$f":"ROUND('Форма 4'!C779*'Базовые цены за единицу'!E38,0)","v":0},{"$f":"ROUND('Форма 4'!C779*'Базовые цены за единицу'!F38,0)","v":38180},{"$f":"ROUND('Форма 4'!C779*'Базовые цены за единицу'!G38,0)","v":35932},{"$f":"ROUND('Форма 4'!C779*'Базовые цены за единицу'!H38,0)","v":0},{"$f":"ОКРУГЛВСЕ('Форма 4'!C779*'Базовые цены за единицу'!I38,8)","v":0},{"$f":"ОКРУГЛВСЕ('Форма 4'!C779*'Базовые цены за единицу'!J38,8)","v":0},{"$f":"ОКРУГЛВСЕ('Форма 4'!C779*'Базовые цены за единицу'!K38,8)","v":0},{"$f":"ROUND('Форма 4'!C779*'Базовые цены за единицу'!L38,0)","v":66900},{"$f":"ROUND('Форма 4'!C779*'Базовые цены за единицу'!M38,0)","v":0},{"$f":"ROUND((C38+E38)*'Форма 4'!C791/100,0)","v":0},{"$f":"ROUND((C38+E38)*'Форма 4'!C794/100,0)","v":0},{"$f":"ROUND('Форма 4'!C779*'Базовые цены за единицу'!P38,0)","v":0},{"$f":"ROUND('Форма 4'!C779*'Базовые цены за единицу'!Q38,0)","v":0},{"$f":"ROUND('Форма 4'!C779*'Базовые цены за единицу'!R38,0)","v":0},{"$f":"ROUND('Форма 4'!C779*'Базовые цены за единицу'!S38,0)","v":0},{"$f":"ROUND('Форма 4'!C779*'Базовые цены за единицу'!T38,0)","v":0},{"$f":"ROUND('Форма 4'!C779*'Базовые цены за единицу'!U38,0)","v":0},{"$f":"ROUND('Форма 4'!C779*'Базовые цены за единицу'!V38,0)","v":0},null,{"$f":"ROUND('Форма 4'!C779*'Базовые цены за единицу'!X38,0)","v":0},{"$f":"IF(Определители!I38=\"9\",ROUND((C38+E38)*(Начисления!M38/100)*('Форма 4'!C791/100),0),0)","v":0},{"$f":"IF(Определители!I38=\"9\",ROUND((C38+E38)*(100-Начисления!M38/100)*('Форма 4'!C791/100),0),0)","v":0},{"$f":"IF(Определители!I38=\"9\",ROUND((C38+E38)*(Начисления!M38/100)*('Форма 4'!C794/100),0),0)","v":0},{"$f":"IF(Определители!I38=\"9\",ROUND((C38+E38)*(100-Начисления!M38/100)*('Форма 4'!C794/100),0),0)","v":0},{"$f":"IF(Определители!I38=\"9\",ROUND(B38*Начисления!M38/100,0),0)","v":0},{"$f":"IF(Определители!I38=\"9\",ROUND(B38*(100-Начисления!M38)/100,0),0)","v":0},{"$f":"ROUND('Форма 4'!C779*'Базовые цены за единицу'!AE38,0)","v":0},null,null,{"$f":"ROUND('Форма 4'!C779*'Базовые цены за единицу'!AH38,0)","v":0},{"$f":"ROUND('Форма 4'!C779*'Базовые цены за единицу'!AI38,0)","v":0},{"$f":"ROUND('Форма 4'!C779*'Базовые цены за единицу'!AJ38,0)","v":0},{"$f":"ROUND('Форма 4'!C779*'Базовые цены за единицу'!AK38,0)","v":0}]
[]
[null,"Раздел 4.  Установка бортовых камней"]
[]
[{"$f":"'Форма 4'!A959","v":"25."},{"$f":"ROUND(C42+D42+F42+AF42+AG42,0)","v":13007},{"$f":"ROUND('Форма 4'!C959*'Базовые цены за единицу'!C42,0)","v":2273},{"$f":"ROUND('Форма 4'!C959*'Базовые цены за единицу'!D42,0)","v":306},{"$f":"ROUND('Форма 4'!C959*'Базовые цены за единицу'!E42,0)","v":32},{"$f":"ROUND('Форма 4'!C959*'Базовые цены за единицу'!F42,0)","v":10428},{"$f":"ROUND('Форма 4'!C959*'Базовые цены за единицу'!G42,0)","v":0},{"$f":"ROUND('Форма 4'!C959*'Базовые цены за единицу'!H42,0)","v":0},{"$f":"ОКРУГЛВСЕ('Форма 4'!C959*'Базовые цены за единицу'!I42,8)","v":223.67519999999999},{"$f":"ОКРУГЛВСЕ('Форма 4'!C959*'Базовые цены за единицу'!J42,8)","v":0},{"$f":"ОКРУГЛВСЕ('Форма 4'!C959*'Базовые цены за единицу'!K42,8)","v":1.9992000000000001},{"$f":"ROUND('Форма 4'!C959*'Базовые цены за единицу'!L42,0)","v":0},{"$f":"ROUND('Форма 4'!C959*'Базовые цены за единицу'!M42,0)","v":0},{"$f":"ROUND((C42+E42)*'Форма 4'!C972/100,0)","v":3273},{"$f":"ROUND((C42+E42)*'Форма 4'!C975/100,0)","v":1867},{"$f":"ROUND('Форма 4'!C959*'Базовые цены за единицу'!P42,0)","v":3227},{"$f":"ROUND('Форма 4'!C959*'Базовые цены за единицу'!Q42,0)","v":46},{"$f":"ROUND('Форма 4'!C959*'Базовые цены за единицу'!R42,0)","v":1841},{"$f":"ROUND('Форма 4'!C959*'Базовые цены за единицу'!S42,0)","v":26},{"$f":"ROUND('Форма 4'!C959*'Базовые цены за единицу'!T42,0)","v":0},{"$f":"ROUND('Форма 4'!C959*'Базовые цены за единицу'!U42,0)","v":0},{"$f":"ROUND('Форма 4'!C959*'Базовые цены за единицу'!V42,0)","v":0},null,{"$f":"ROUND('Форма 4'!C959*'Базовые цены за единицу'!X42,0)","v":0},{"$f":"IF(Определители!I42=\"9\",ROUND((C42+E42)*(Начисления!M42/100)*('Форма 4'!C972/100),0),0)","v":0},{"$f":"IF(Определители!I42=\"9\",ROUND((C42+E42)*(100-Начисления!M42/100)*('Форма 4'!C972/100),0),0)","v":0},{"$f":"IF(Определители!I42=\"9\",ROUND((C42+E42)*(Начисления!M42/100)*('Форма 4'!C975/100),0),0)","v":0},{"$f":"IF(Определители!I42=\"9\",ROUND((C42+E42)*(100-Начисления!M42/100)*('Форма 4'!C975/100),0),0)","v":0},{"$f":"IF(Определители!I42=\"9\",ROUND(B42*Начисления!M42/100,0),0)","v":0},{"$f":"IF(Определители!I42=\"9\",ROUND(B42*(100-Начисления!M42)/100,0),0)","v":0},{"$f":"ROUND('Форма 4'!C959*'Базовые цены за единицу'!AE42,0)","v":0},null,null,{"$f":"ROUND('Форма 4'!C959*'Базовые цены за единицу'!AH42,0)","v":0},{"$f":"ROUND('Форма 4'!C959*'Базовые цены за единицу'!AI42,0)","v":0},{"$f":"ROUND('Форма 4'!C959*'Базовые цены за единицу'!AJ42,0)","v":0},{"$f":"ROUND('Форма 4'!C959*'Базовые цены за единицу'!AK42,0)","v":0}]
[{"$f":"'Форма 4'!A979","v":"26."},{"$f":"ROUND(C43+D43+F43+AF43+AG43,0)","v":-9540},{"$f":"ROUND('Форма 4'!C979*'Базовые цены за единицу'!C43,0)","v":-248},{"$f":"ROUND('Форма 4'!C979*'Базовые цены за единицу'!D43,0)","v":-384},{"$f":"ROUND('Форма 4'!C979*'Базовые цены за единицу'!E43,0)","v":-43},{"$f":"ROUND('Форма 4'!C979*'Базовые цены за единицу'!F43,0)","v":-8908},{"$f":"ROUND('Форма 4'!C979*'Базовые цены за единицу'!G43,0)","v":-7866},{"$f":"ROUND('Форма 4'!C979*'Базовые цены за единицу'!H43,0)","v":0},{"$f":"ОКРУГЛВСЕ('Форма 4'!C979*'Базовые цены за единицу'!I43,8)","v":-26.46},{"$f":"ОКРУГЛВСЕ('Форма 4'!C979*'Базовые цены за единицу'!J43,8)","v":0},{"$f":"ОКРУГЛВСЕ('Форма 4'!C979*'Базовые цены за единицу'!K43,8)","v":-2.6459999999999999},{"$f":"ROUND('Форма 4'!C979*'Базовые цены за единицу'!L43,0)","v":0},{"$f":"ROUND('Форма 4'!C979*'Базовые цены за единицу'!M43,0)","v":0},{"$f":"ROUND((C43+E43)*'Форма 4'!C993/100,0)","v":-306},{"$f":"ROUND((C43+E43)*'Форма 4'!C996/100,0)","v":-160},{"$f":"ROUND('Форма 4'!C979*'Базовые цены за единицу'!P43,0)","v":-260},{"$f":"ROUND('Форма 4'!C979*'Базовые цены за единицу'!Q43,0)","v":-45},{"$f":"ROUND('Форма 4'!C979*'Базовые цены за единицу'!R43,0)","v":-136},{"$f":"ROUND('Форма 4'!C979*'Базовые цены за единицу'!S43,0)","v":-24},{"$f":"ROUND('Форма 4'!C979*'Базовые цены за единицу'!T43,0)","v":0},{"$f":"ROUND('Форма 4'!C979*'Базовые цены за единицу'!U43,0)","v":0},{"$f":"ROUND('Форма 4'!C979*'Базовые цены за единицу'!V43,0)","v":0},null,{"$f":"ROUND('Форма 4'!C979*'Базовые цены за единицу'!X43,0)","v":0},{"$f":"IF(Определители!I43=\"9\",ROUND((C43+E43)*(Начисления!M43/100)*('Форма 4'!C993/100),0),0)","v":0},{"$f":"IF(Определители!I43=\"9\",ROUND((C43+E43)*(100-Начисления!M43/100)*('Форма 4'!C993/100),0),0)","v":0},{"$f":"IF(Определители!I43=\"9\",ROUND((C43+E43)*(Начисления!M43/100)*('Форма 4'!C996/100),0),0)","v":0},{"$f":"IF(Определители!I43=\"9\",ROUND((C43+E43)*(100-Начисления!M43/100)*('Форма 4'!C996/100),0),0)","v":0},{"$f":"IF(Определители!I43=\"9\",ROUND(B43*Начисления!M43/100,0),0)","v":0},{"$f":"IF(Определители!I43=\"9\",ROUND(B43*(100-Начисления!M43)/100,0),0)","v":0},{"$f":"ROUND('Форма 4'!C979*'Базовые цены за единицу'!AE43,0)","v":0},null,null,{"$f":"ROUND('Форма 4'!C979*'Базовые цены за единицу'!AH43,0)","v":0},{"$f":"ROUND('Форма 4'!C979*'Базовые цены за единицу'!AI43,0)","v":0},{"$f":"ROUND('Форма 4'!C979*'Базовые цены за единицу'!AJ43,0)","v":0},{"$f":"ROUND('Форма 4'!C979*'Базовые цены за единицу'!AK43,0)","v":0}]
[{"$f":"'Форма 4'!A1000","v":"27."},{"$f":"ROUND(C44+D44+F44+AF44+AG44,0)","v":5771},{"$f":"ROUND('Форма 4'!C1000*'Базовые цены за единицу'!C44,0)","v":0},{"$f":"ROUND('Форма 4'!C1000*'Базовые цены за единицу'!D44,0)","v":0},{"$f":"ROUND('Форма 4'!C1000*'Базовые цены за единицу'!E44,0)","v":0},{"$f":"ROUND('Форма 4'!C1000*'Базовые цены за единицу'!F44,0)","v":5771},{"$f":"ROUND('Форма 4'!C1000*'Базовые цены за единицу'!G44,0)","v":5771},{"$f":"ROUND('Форма 4'!C1000*'Базовые цены за единицу'!H44,0)","v":0},{"$f":"ОКРУГЛВСЕ('Форма 4'!C1000*'Базовые цены за единицу'!I44,8)","v":0},{"$f":"ОКРУГЛВСЕ('Форма 4'!C1000*'Базовые цены за единицу'!J44,8)","v":0},{"$f":"ОКРУГЛВСЕ('Форма 4'!C1000*'Базовые цены за единицу'!K44,8)","v":0},{"$f":"ROUND('Форма 4'!C1000*'Базовые цены за единицу'!L44,0)","v":0},{"$f":"ROUND('Форма 4'!C1000*'Базовые цены за единицу'!M44,0)","v":0},{"$f":"ROUND((C44+E44)*'Форма 4'!C1013/100,0)","v":0},{"$f":"ROUND((C44+E44)*'Форма 4'!C1016/100,0)","v":0},{"$f":"ROUND('Форма 4'!C1000*'Базовые цены за единицу'!P44,0)","v":0},{"$f":"ROUND('Форма 4'!C1000*'Базовые цены за единицу'!Q44,0)","v":0},{"$f":"ROUND('Форма 4'!C1000*'Базовые цены за единицу'!R44,0)","v":0},{"$f":"ROUND('Форма 4'!C1000*'Базовые цены за единицу'!S44,0)","v":0},{"$f":"ROUND('Форма 4'!C1000*'Базовые цены за единицу'!T44,0)","v":0},{"$f":"ROUND('Форма 4'!C1000*'Базовые цены за единицу'!U44,0)","v":0},{"$f":"ROUND('Форма 4'!C1000*'Базовые цены за единицу'!V44,0)","v":0},null,{"$f":"ROUND('Форма 4'!C1000*'Базовые цены за единицу'!X44,0)","v":0},{"$f":"IF(Определители!I44=\"9\",ROUND((C44+E44)*(Начисления!M44/100)*('Форма 4'!C1013/100),0),0)","v":0},{"$f":"IF(Определители!I44=\"9\",ROUND((C44+E44)*(100-Начисления!M44/100)*('Форма 4'!C1013/100),0),0)","v":0},{"$f":"IF(Определители!I44=\"9\",ROUND((C44+E44)*(Начисления!M44/100)*('Форма 4'!C1016/100),0),0)","v":0},{"$f":"IF(Определители!I44=\"9\",ROUND((C44+E44)*(100-Начисления!M44/100)*('Форма 4'!C1016/100),0),0)","v":0},{"$f":"IF(Определители!I44=\"9\",ROUND(B44*Начисления!M44/100,0),0)","v":0},{"$f":"IF(Определители!I44=\"9\",ROUND(B44*(100-Начисления!M44)/100,0),0)","v":0},{"$f":"ROUND('Форма 4'!C1000*'Базовые цены за единицу'!AE44,0)","v":0},null,null,{"$f":"ROUND('Форма 4'!C1000*'Базовые цены за единицу'!AH44,0)","v":0},{"$f":"ROUND('Форма 4'!C1000*'Базовые цены за единицу'!AI44,0)","v":0},{"$f":"ROUND('Форма 4'!C1000*'Базовые цены за единицу'!AJ44,0)","v":0},{"$f":"ROUND('Форма 4'!C1000*'Базовые цены за единицу'!AK44,0)","v":0}]
[{"$f":"'Форма 4'!A1020","v":"28."},{"$f":"ROUND(C45+D45+F45+AF45+AG45,0)","v":858},{"$f":"ROUND('Форма 4'!C1020*'Базовые цены за единицу'!C45,0)","v":0},{"$f":"ROUND('Форма 4'!C1020*'Базовые цены за единицу'!D45,0)","v":0},{"$f":"ROUND('Форма 4'!C1020*'Базовые цены за единицу'!E45,0)","v":0},{"$f":"ROUND('Форма 4'!C1020*'Базовые цены за единицу'!F45,0)","v":858},{"$f":"ROUND('Форма 4'!C1020*'Базовые цены за единицу'!G45,0)","v":858},{"$f":"ROUND('Форма 4'!C1020*'Базовые цены за единицу'!H45,0)","v":0},{"$f":"ОКРУГЛВСЕ('Форма 4'!C1020*'Базовые цены за единицу'!I45,8)","v":0},{"$f":"ОКРУГЛВСЕ('Форма 4'!C1020*'Базовые цены за единицу'!J45,8)","v":0},{"$f":"ОКРУГЛВСЕ('Форма 4'!C1020*'Базовые цены за единицу'!K45,8)","v":0},{"$f":"ROUND('Форма 4'!C1020*'Базовые цены за единицу'!L45,0)","v":0},{"$f":"ROUND('Форма 4'!C1020*'Базовые цены за единицу'!M45,0)","v":0},{"$f":"ROUND((C45+E45)*'Форма 4'!C1033/100,0)","v":0},{"$f":"ROUND((C45+E45)*'Форма 4'!C1036/100,0)","v":0},{"$f":"ROUND('Форма 4'!C1020*'Базовые цены за единицу'!P45,0)","v":0},{"$f":"ROUND('Форма 4'!C1020*'Базовые цены за единицу'!Q45,0)","v":0},{"$f":"ROUND('Форма 4'!C1020*'Базовые цены за единицу'!R45,0)","v":0},{"$f":"ROUND('Форма 4'!C1020*'Базовые цены за единицу'!S45,0)","v":0},{"$f":"ROUND('Форма 4'!C1020*'Базовые цены за единицу'!T45,0)","v":0},{"$f":"ROUND('Форма 4'!C1020*'Базовые цены за единицу'!U45,0)","v":0},{"$f":"ROUND('Форма 4'!C1020*'Базовые цены за единицу'!V45,0)","v":0},null,{"$f":"ROUND('Форма 4'!C1020*'Базовые цены за единицу'!X45,0)","v":0},{"$f":"IF(Определители!I45=\"9\",ROUND((C45+E45)*(Начисления!M45/100)*('Форма 4'!C1033/100),0),0)","v":0},{"$f":"IF(Определители!I45=\"9\",ROUND((C45+E45)*(100-Начисления!M45/100)*('Форма 4'!C1033/100),0),0)","v":0},{"$f":"IF(Определители!I45=\"9\",ROUND((C45+E45)*(Начисления!M45/100)*('Форма 4'!C1036/100),0),0)","v":0},{"$f":"IF(Определители!I45=\"9\",ROUND((C45+E45)*(100-Начисления!M45/100)*('Форма 4'!C1036/100),0),0)","v":0},{"$f":"IF(Определители!I45=\"9\",ROUND(B45*Начисления!M45/100,0),0)","v":0},{"$f":"IF(Определители!I45=\"9\",ROUND(B45*(100-Начисления!M45)/100,0),0)","v":0},{"$f":"ROUND('Форма 4'!C1020*'Базовые цены за единицу'!AE45,0)","v":0},null,null,{"$f":"ROUND('Форма 4'!C1020*'Базовые цены за единицу'!AH45,0)","v":0},{"$f":"ROUND('Форма 4'!C1020*'Базовые цены за единицу'!AI45,0)","v":0},{"$f":"ROUND('Форма 4'!C1020*'Базовые цены за единицу'!AJ45,0)","v":0},{"$f":"ROUND('Форма 4'!C1020*'Базовые цены за единицу'!AK45,0)","v":0}]
[{"$f":"'Форма 4'!A1040","v":"29."},{"$f":"ROUND(C46+D46+F46+AF46+AG46,0)","v":8475},{"$f":"ROUND('Форма 4'!C1040*'Базовые цены за единицу'!C46,0)","v":0},{"$f":"ROUND('Форма 4'!C1040*'Базовые цены за единицу'!D46,0)","v":0},{"$f":"ROUND('Форма 4'!C1040*'Базовые цены за единицу'!E46,0)","v":0},{"$f":"ROUND('Форма 4'!C1040*'Базовые цены за единицу'!F46,0)","v":8475},{"$f":"ROUND('Форма 4'!C1040*'Базовые цены за единицу'!G46,0)","v":8475},{"$f":"ROUND('Форма 4'!C1040*'Базовые цены за единицу'!H46,0)","v":0},{"$f":"ОКРУГЛВСЕ('Форма 4'!C1040*'Базовые цены за единицу'!I46,8)","v":0},{"$f":"ОКРУГЛВСЕ('Форма 4'!C1040*'Базовые цены за единицу'!J46,8)","v":0},{"$f":"ОКРУГЛВСЕ('Форма 4'!C1040*'Базовые цены за единицу'!K46,8)","v":0},{"$f":"ROUND('Форма 4'!C1040*'Базовые цены за единицу'!L46,0)","v":0},{"$f":"ROUND('Форма 4'!C1040*'Базовые цены за единицу'!M46,0)","v":0},{"$f":"ROUND((C46+E46)*'Форма 4'!C1053/100,0)","v":0},{"$f":"ROUND((C46+E46)*'Форма 4'!C1056/100,0)","v":0},{"$f":"ROUND('Форма 4'!C1040*'Базовые цены за единицу'!P46,0)","v":0},{"$f":"ROUND('Форма 4'!C1040*'Базовые цены за единицу'!Q46,0)","v":0},{"$f":"ROUND('Форма 4'!C1040*'Базовые цены за единицу'!R46,0)","v":0},{"$f":"ROUND('Форма 4'!C1040*'Базовые цены за единицу'!S46,0)","v":0},{"$f":"ROUND('Форма 4'!C1040*'Базовые цены за единицу'!T46,0)","v":0},{"$f":"ROUND('Форма 4'!C1040*'Базовые цены за единицу'!U46,0)","v":0},{"$f":"ROUND('Форма 4'!C1040*'Базовые цены за единицу'!V46,0)","v":0},null,{"$f":"ROUND('Форма 4'!C1040*'Базовые цены за единицу'!X46,0)","v":0},{"$f":"IF(Определители!I46=\"9\",ROUND((C46+E46)*(Начисления!M46/100)*('Форма 4'!C1053/100),0),0)","v":0},{"$f":"IF(Определители!I46=\"9\",ROUND((C46+E46)*(100-Начисления!M46/100)*('Форма 4'!C1053/100),0),0)","v":0},{"$f":"IF(Определители!I46=\"9\",ROUND((C46+E46)*(Начисления!M46/100)*('Форма 4'!C1056/100),0),0)","v":0},{"$f":"IF(Определители!I46=\"9\",ROUND((C46+E46)*(100-Начисления!M46/100)*('Форма 4'!C1056/100),0),0)","v":0},{"$f":"IF(Определители!I46=\"9\",ROUND(B46*Начисления!M46/100,0),0)","v":0},{"$f":"IF(Определители!I46=\"9\",ROUND(B46*(100-Начисления!M46)/100,0),0)","v":0},{"$f":"ROUND('Форма 4'!C1040*'Базовые цены за единицу'!AE46,0)","v":0},null,null,{"$f":"ROUND('Форма 4'!C1040*'Базовые цены за единицу'!AH46,0)","v":0},{"$f":"ROUND('Форма 4'!C1040*'Базовые цены за единицу'!AI46,0)","v":0},{"$f":"ROUND('Форма 4'!C1040*'Базовые цены за единицу'!AJ46,0)","v":0},{"$f":"ROUND('Форма 4'!C1040*'Базовые цены за единицу'!AK46,0)","v":0}]
[]
[null,"Раздел 5.  Устройство тротуаров"]
[]
[{"$f":"'Форма 4'!A1219","v":"30."},{"$f":"ROUND(C50+D50+F50+AF50+AG50,0)","v":256},{"$f":"ROUND('Форма 4'!C1219*'Базовые цены за единицу'!C50,0)","v":115},{"$f":"ROUND('Форма 4'!C1219*'Базовые цены за единицу'!D50,0)","v":139},{"$f":"ROUND('Форма 4'!C1219*'Базовые цены за единицу'!E50,0)","v":18},{"$f":"ROUND('Форма 4'!C1219*'Базовые цены за единицу'!F50,0)","v":2},{"$f":"ROUND('Форма 4'!C1219*'Базовые цены за единицу'!G50,0)","v":0},{"$f":"ROUND('Форма 4'!C1219*'Базовые цены за единицу'!H50,0)","v":0},{"$f":"ОКРУГЛВСЕ('Форма 4'!C1219*'Базовые цены за единицу'!I50,8)","v":11.283200000000001},{"$f":"ОКРУГЛВСЕ('Форма 4'!C1219*'Базовые цены за единицу'!J50,8)","v":0},{"$f":"ОКРУГЛВСЕ('Форма 4'!C1219*'Базовые цены за единицу'!K50,8)","v":1.3631},{"$f":"ROUND('Форма 4'!C1219*'Базовые цены за единицу'!L50,0)","v":0},{"$f":"ROUND('Форма 4'!C1219*'Базовые цены за единицу'!M50,0)","v":0},{"$f":"ROUND((C50+E50)*'Форма 4'!C1232/100,0)","v":189},{"$f":"ROUND((C50+E50)*'Форма 4'!C1235/100,0)","v":108},{"$f":"ROUND('Форма 4'!C1219*'Базовые цены за единицу'!P50,0)","v":163},{"$f":"ROUND('Форма 4'!C1219*'Базовые цены за единицу'!Q50,0)","v":26},{"$f":"ROUND('Форма 4'!C1219*'Базовые цены за единицу'!R50,0)","v":93},{"$f":"ROUND('Форма 4'!C1219*'Базовые цены за единицу'!S50,0)","v":15},{"$f":"ROUND('Форма 4'!C1219*'Базовые цены за единицу'!T50,0)","v":0},{"$f":"ROUND('Форма 4'!C1219*'Базовые цены за единицу'!U50,0)","v":0},{"$f":"ROUND('Форма 4'!C1219*'Базовые цены за единицу'!V50,0)","v":0},null,{"$f":"ROUND('Форма 4'!C1219*'Базовые цены за единицу'!X50,0)","v":0},{"$f":"IF(Определители!I50=\"9\",ROUND((C50+E50)*(Начисления!M50/100)*('Форма 4'!C1232/100),0),0)","v":0},{"$f":"IF(Определители!I50=\"9\",ROUND((C50+E50)*(100-Начисления!M50/100)*('Форма 4'!C1232/100),0),0)","v":0},{"$f":"IF(Определители!I50=\"9\",ROUND((C50+E50)*(Начисления!M50/100)*('Форма 4'!C1235/100),0),0)","v":0},{"$f":"IF(Определители!I50=\"9\",ROUND((C50+E50)*(100-Начисления!M50/100)*('Форма 4'!C1235/100),0),0)","v":0},{"$f":"IF(Определители!I50=\"9\",ROUND(B50*Начисления!M50/100,0),0)","v":0},{"$f":"IF(Определители!I50=\"9\",ROUND(B50*(100-Начисления!M50)/100,0),0)","v":0},{"$f":"ROUND('Форма 4'!C1219*'Базовые цены за единицу'!AE50,0)","v":0},null,null,{"$f":"ROUND('Форма 4'!C1219*'Базовые цены за единицу'!AH50,0)","v":0},{"$f":"ROUND('Форма 4'!C1219*'Базовые цены за единицу'!AI50,0)","v":0},{"$f":"ROUND('Форма 4'!C1219*'Базовые цены за единицу'!AJ50,0)","v":0},{"$f":"ROUND('Форма 4'!C1219*'Базовые цены за единицу'!AK50,0)","v":0}]
[{"$f":"'Форма 4'!A1239","v":"31."},-12,{"$f":"ROUND('Форма 4'!C1239*'Базовые цены за единицу'!C51,0)","v":-5},{"$f":"ROUND('Форма 4'!C1239*'Базовые цены за единицу'!D51,0)","v":-7},{"$f":"ROUND('Форма 4'!C1239*'Базовые цены за единицу'!E51,0)","v":-1},{"$f":"ROUND('Форма 4'!C1239*'Базовые цены за единицу'!F51,0)","v":0},{"$f":"ROUND('Форма 4'!C1239*'Базовые цены за единицу'!G51,0)","v":0},{"$f":"ROUND('Форма 4'!C1239*'Базовые цены за единицу'!H51,0)","v":0},{"$f":"ОКРУГЛВСЕ('Форма 4'!C1239*'Базовые цены за единицу'!I51,8)","v":-0.46439999999999998},{"$f":"ОКРУГЛВСЕ('Форма 4'!C1239*'Базовые цены за единицу'!J51,8)","v":0},{"$f":"ОКРУГЛВСЕ('Форма 4'!C1239*'Базовые цены за единицу'!K51,8)","v":-8.5999999999999993E-2},{"$f":"ROUND('Форма 4'!C1239*'Базовые цены за единицу'!L51,0)","v":0},{"$f":"ROUND('Форма 4'!C1239*'Базовые цены за единицу'!M51,0)","v":0},{"$f":"ROUND((C51+E51)*'Форма 4'!C1252/100,0)","v":-9},{"$f":"ROUND((C51+E51)*'Форма 4'!C1255/100,0)","v":-5},{"$f":"ROUND('Форма 4'!C1239*'Базовые цены за единицу'!P51,0)","v":-7},{"$f":"ROUND('Форма 4'!C1239*'Базовые цены за единицу'!Q51,0)","v":-1},{"$f":"ROUND('Форма 4'!C1239*'Базовые цены за единицу'!R51,0)","v":-4},{"$f":"ROUND('Форма 4'!C1239*'Базовые цены за единицу'!S51,0)","v":-1},{"$f":"ROUND('Форма 4'!C1239*'Базовые цены за единицу'!T51,0)","v":0},{"$f":"ROUND('Форма 4'!C1239*'Базовые цены за единицу'!U51,0)","v":0},{"$f":"ROUND('Форма 4'!C1239*'Базовые цены за единицу'!V51,0)","v":0},null,{"$f":"ROUND('Форма 4'!C1239*'Базовые цены за единицу'!X51,0)","v":0},{"$f":"IF(Определители!I51=\"9\",ROUND((C51+E51)*(Начисления!M51/100)*('Форма 4'!C1252/100),0),0)","v":0},{"$f":"IF(Определители!I51=\"9\",ROUND((C51+E51)*(100-Начисления!M51/100)*('Форма 4'!C1252/100),0),0)","v":0},{"$f":"IF(Определители!I51=\"9\",ROUND((C51+E51)*(Начисления!M51/100)*('Форма 4'!C1255/100),0),0)","v":0},{"$f":"IF(Определители!I51=\"9\",ROUND((C51+E51)*(100-Начисления!M51/100)*('Форма 4'!C1255/100),0),0)","v":0},{"$f":"IF(Определители!I51=\"9\",ROUND(B51*Начисления!M51/100,0),0)","v":0},{"$f":"IF(Определители!I51=\"9\",ROUND(B51*(100-Начисления!M51)/100,0),0)","v":0},{"$f":"ROUND('Форма 4'!C1239*'Базовые цены за единицу'!AE51,0)","v":0},null,null,{"$f":"ROUND('Форма 4'!C1239*'Базовые цены за единицу'!AH51,0)","v":0},{"$f":"ROUND('Форма 4'!C1239*'Базовые цены за единицу'!AI51,0)","v":0},{"$f":"ROUND('Форма 4'!C1239*'Базовые цены за единицу'!AJ51,0)","v":0},{"$f":"ROUND('Форма 4'!C1239*'Базовые цены за единицу'!AK51,0)","v":0}]
[{"$f":"'Форма 4'!A1259","v":"32."},363,{"$f":"ROUND('Форма 4'!C1259*'Базовые цены за единицу'!C52,0)","v":0},{"$f":"ROUND('Форма 4'!C1259*'Базовые цены за единицу'!D52,0)","v":0},{"$f":"ROUND('Форма 4'!C1259*'Базовые цены за единицу'!E52,0)","v":0},{"$f":"ROUND('Форма 4'!C1259*'Базовые цены за единицу'!F52,0)","v":363},{"$f":"ROUND('Форма 4'!C1259*'Базовые цены за единицу'!G52,0)","v":363},{"$f":"ROUND('Форма 4'!C1259*'Базовые цены за единицу'!H52,0)","v":0},{"$f":"ОКРУГЛВСЕ('Форма 4'!C1259*'Базовые цены за единицу'!I52,8)","v":0},{"$f":"ОКРУГЛВСЕ('Форма 4'!C1259*'Базовые цены за единицу'!J52,8)","v":0},{"$f":"ОКРУГЛВСЕ('Форма 4'!C1259*'Базовые цены за единицу'!K52,8)","v":0},{"$f":"ROUND('Форма 4'!C1259*'Базовые цены за единицу'!L52,0)","v":0},{"$f":"ROUND('Форма 4'!C1259*'Базовые цены за единицу'!M52,0)","v":0},{"$f":"ROUND((C52+E52)*'Форма 4'!C1272/100,0)","v":0},{"$f":"ROUND((C52+E52)*'Форма 4'!C1275/100,0)","v":0},{"$f":"ROUND('Форма 4'!C1259*'Базовые цены за единицу'!P52,0)","v":0},{"$f":"ROUND('Форма 4'!C1259*'Базовые цены за единицу'!Q52,0)","v":0},{"$f":"ROUND('Форма 4'!C1259*'Базовые цены за единицу'!R52,0)","v":0},{"$f":"ROUND('Форма 4'!C1259*'Базовые цены за единицу'!S52,0)","v":0},{"$f":"ROUND('Форма 4'!C1259*'Базовые цены за единицу'!T52,0)","v":0},{"$f":"ROUND('Форма 4'!C1259*'Базовые цены за единицу'!U52,0)","v":0},{"$f":"ROUND('Форма 4'!C1259*'Базовые цены за единицу'!V52,0)","v":0},null,{"$f":"ROUND('Форма 4'!C1259*'Базовые цены за единицу'!X52,0)","v":0},{"$f":"IF(Определители!I52=\"9\",ROUND((C52+E52)*(Начисления!M52/100)*('Форма 4'!C1272/100),0),0)","v":0},{"$f":"IF(Определители!I52=\"9\",ROUND((C52+E52)*(100-Начисления!M52/100)*('Форма 4'!C1272/100),0),0)","v":0},{"$f":"IF(Определители!I52=\"9\",ROUND((C52+E52)*(Начисления!M52/100)*('Форма 4'!C1275/100),0),0)","v":0},{"$f":"IF(Определители!I52=\"9\",ROUND((C52+E52)*(100-Начисления!M52/100)*('Форма 4'!C1275/100),0),0)","v":0},{"$f":"IF(Определители!I52=\"9\",ROUND(B52*Начисления!M52/100,0),0)","v":0},{"$f":"IF(Определители!I52=\"9\",ROUND(B52*(100-Начисления!M52)/100,0),0)","v":0},{"$f":"ROUND('Форма 4'!C1259*'Базовые цены за единицу'!AE52,0)","v":0},null,null,{"$f":"ROUND('Форма 4'!C1259*'Базовые цены за единицу'!AH52,0)","v":0},{"$f":"ROUND('Форма 4'!C1259*'Базовые цены за единицу'!AI52,0)","v":0},{"$f":"ROUND('Форма 4'!C1259*'Базовые цены за единицу'!AJ52,0)","v":0},{"$f":"ROUND('Форма 4'!C1259*'Базовые цены за единицу'!AK52,0)","v":0}]
[{"$f":"'Форма 4'!A1279","v":"33."},2442,{"$f":"ROUND('Форма 4'!C1279*'Базовые цены за единицу'!C53,0)","v":1098},{"$f":"ROUND('Форма 4'!C1279*'Базовые цены за единицу'!D53,0)","v":1328},{"$f":"ROUND('Форма 4'!C1279*'Базовые цены за единицу'!E53,0)","v":173},{"$f":"ROUND('Форма 4'!C1279*'Базовые цены за единицу'!F53,0)","v":16},{"$f":"ROUND('Форма 4'!C1279*'Базовые цены за единицу'!G53,0)","v":0},{"$f":"ROUND('Форма 4'!C1279*'Базовые цены за единицу'!H53,0)","v":0},{"$f":"ОКРУГЛВСЕ('Форма 4'!C1279*'Базовые цены за единицу'!I53,8)","v":108.1088},{"$f":"ОКРУГЛВСЕ('Форма 4'!C1279*'Базовые цены за единицу'!J53,8)","v":0},{"$f":"ОКРУГЛВСЕ('Форма 4'!C1279*'Базовые цены за единицу'!K53,8)","v":13.0604},{"$f":"ROUND('Форма 4'!C1279*'Базовые цены за единицу'!L53,0)","v":0},{"$f":"ROUND('Форма 4'!C1279*'Базовые цены за единицу'!M53,0)","v":0},{"$f":"ROUND((C53+E53)*'Форма 4'!C1291/100,0)","v":1805},{"$f":"ROUND((C53+E53)*'Форма 4'!C1294/100,0)","v":1030},{"$f":"ROUND('Форма 4'!C1279*'Базовые цены за единицу'!P53,0)","v":1560},{"$f":"ROUND('Форма 4'!C1279*'Базовые цены за единицу'!Q53,0)","v":246},{"$f":"ROUND('Форма 4'!C1279*'Базовые цены за единицу'!R53,0)","v":890},{"$f":"ROUND('Форма 4'!C1279*'Базовые цены за единицу'!S53,0)","v":140},{"$f":"ROUND('Форма 4'!C1279*'Базовые цены за единицу'!T53,0)","v":0},{"$f":"ROUND('Форма 4'!C1279*'Базовые цены за единицу'!U53,0)","v":0},{"$f":"ROUND('Форма 4'!C1279*'Базовые цены за единицу'!V53,0)","v":0},null,{"$f":"ROUND('Форма 4'!C1279*'Базовые цены за единицу'!X53,0)","v":0},{"$f":"IF(Определители!I53=\"9\",ROUND((C53+E53)*(Начисления!M53/100)*('Форма 4'!C1291/100),0),0)","v":0},{"$f":"IF(Определители!I53=\"9\",ROUND((C53+E53)*(100-Начисления!M53/100)*('Форма 4'!C1291/100),0),0)","v":0},{"$f":"IF(Определители!I53=\"9\",ROUND((C53+E53)*(Начисления!M53/100)*('Форма 4'!C1294/100),0),0)","v":0},{"$f":"IF(Определители!I53=\"9\",ROUND((C53+E53)*(100-Начисления!M53/100)*('Форма 4'!C1294/100),0),0)","v":0},{"$f":"IF(Определители!I53=\"9\",ROUND(B53*Начисления!M53/100,0),0)","v":0},{"$f":"IF(Определители!I53=\"9\",ROUND(B53*(100-Начисления!M53)/100,0),0)","v":0},{"$f":"ROUND('Форма 4'!C1279*'Базовые цены за единицу'!AE53,0)","v":0},null,null,{"$f":"ROUND('Форма 4'!C1279*'Базовые цены за единицу'!AH53,0)","v":0},{"$f":"ROUND('Форма 4'!C1279*'Базовые цены за единицу'!AI53,0)","v":0},{"$f":"ROUND('Форма 4'!C1279*'Базовые цены за единицу'!AJ53,0)","v":0},{"$f":"ROUND('Форма 4'!C1279*'Базовые цены за единицу'!AK53,0)","v":0}]
[{"$f":"'Форма 4'!A1298","v":"34."},-115,{"$f":"ROUND('Форма 4'!C1298*'Базовые цены за единицу'!C54,0)","v":-45},{"$f":"ROUND('Форма 4'!C1298*'Базовые цены за единицу'!D54,0)","v":-70},{"$f":"ROUND('Форма 4'!C1298*'Базовые цены за единицу'!E54,0)","v":-10},{"$f":"ROUND('Форма 4'!C1298*'Базовые цены за единицу'!F54,0)","v":0},{"$f":"ROUND('Форма 4'!C1298*'Базовые цены за единицу'!G54,0)","v":0},{"$f":"ROUND('Форма 4'!C1298*'Базовые цены за единицу'!H54,0)","v":0},{"$f":"ОКРУГЛВСЕ('Форма 4'!C1298*'Базовые цены за единицу'!I54,8)","v":-4.4496000000000002},{"$f":"ОКРУГЛВСЕ('Форма 4'!C1298*'Базовые цены за единицу'!J54,8)","v":0},{"$f":"ОКРУГЛВСЕ('Форма 4'!C1298*'Базовые цены за единицу'!K54,8)","v":-0.82399999999999995},{"$f":"ROUND('Форма 4'!C1298*'Базовые цены за единицу'!L54,0)","v":0},{"$f":"ROUND('Форма 4'!C1298*'Базовые цены за единицу'!M54,0)","v":0},{"$f":"ROUND((C54+E54)*'Форма 4'!C1311/100,0)","v":-78},{"$f":"ROUND((C54+E54)*'Форма 4'!C1314/100,0)","v":-45},{"$f":"ROUND('Форма 4'!C1298*'Базовые цены за единицу'!P54,0)","v":-64},{"$f":"ROUND('Форма 4'!C1298*'Базовые цены за единицу'!Q54,0)","v":-14},{"$f":"ROUND('Форма 4'!C1298*'Базовые цены за единицу'!R54,0)","v":-37},{"$f":"ROUND('Форма 4'!C1298*'Базовые цены за единицу'!S54,0)","v":-8},{"$f":"ROUND('Форма 4'!C1298*'Базовые цены за единицу'!T54,0)","v":0},{"$f":"ROUND('Форма 4'!C1298*'Базовые цены за единицу'!U54,0)","v":0},{"$f":"ROUND('Форма 4'!C1298*'Базовые цены за единицу'!V54,0)","v":0},null,{"$f":"ROUND('Форма 4'!C1298*'Базовые цены за единицу'!X54,0)","v":0},{"$f":"IF(Определители!I54=\"9\",ROUND((C54+E54)*(Начисления!M54/100)*('Форма 4'!C1311/100),0),0)","v":0},{"$f":"IF(Определители!I54=\"9\",ROUND((C54+E54)*(100-Начисления!M54/100)*('Форма 4'!C1311/100),0),0)","v":0},{"$f":"IF(Определители!I54=\"9\",ROUND((C54+E54)*(Начисления!M54/100)*('Форма 4'!C1314/100),0),0)","v":0},{"$f":"IF(Определители!I54=\"9\",ROUND((C54+E54)*(100-Начисления!M54/100)*('Форма 4'!C1314/100),0),0)","v":0},{"$f":"IF(Определители!I54=\"9\",ROUND(B54*Начисления!M54/100,0),0)","v":0},{"$f":"IF(Определители!I54=\"9\",ROUND(B54*(100-Начисления!M54)/100,0),0)","v":0},{"$f":"ROUND('Форма 4'!C1298*'Базовые цены за единицу'!AE54,0)","v":0},null,null,{"$f":"ROUND('Форма 4'!C1298*'Базовые цены за единицу'!AH54,0)","v":0},{"$f":"ROUND('Форма 4'!C1298*'Базовые цены за единицу'!AI54,0)","v":0},{"$f":"ROUND('Форма 4'!C1298*'Базовые цены за единицу'!AJ54,0)","v":0},{"$f":"ROUND('Форма 4'!C1298*'Базовые цены за единицу'!AK54,0)","v":0}]
[{"$f":"'Форма 4'!A1318","v":"35."},3475,{"$f":"ROUND('Форма 4'!C1318*'Базовые цены за единицу'!C55,0)","v":0},{"$f":"ROUND('Форма 4'!C1318*'Базовые цены за единицу'!D55,0)","v":0},{"$f":"ROUND('Форма 4'!C1318*'Базовые цены за единицу'!E55,0)","v":0},{"$f":"ROUND('Форма 4'!C1318*'Базовые цены за единицу'!F55,0)","v":3475},{"$f":"ROUND('Форма 4'!C1318*'Базовые цены за единицу'!G55,0)","v":3475},{"$f":"ROUND('Форма 4'!C1318*'Базовые цены за единицу'!H55,0)","v":0},{"$f":"ОКРУГЛВСЕ('Форма 4'!C1318*'Базовые цены за единицу'!I55,8)","v":0},{"$f":"ОКРУГЛВСЕ('Форма 4'!C1318*'Базовые цены за единицу'!J55,8)","v":0},{"$f":"ОКРУГЛВСЕ('Форма 4'!C1318*'Базовые цены за единицу'!K55,8)","v":0},{"$f":"ROUND('Форма 4'!C1318*'Базовые цены за единицу'!L55,0)","v":0},{"$f":"ROUND('Форма 4'!C1318*'Базовые цены за единицу'!M55,0)","v":0},{"$f":"ROUND((C55+E55)*'Форма 4'!C1331/100,0)","v":0},{"$f":"ROUND((C55+E55)*'Форма 4'!C1334/100,0)","v":0},{"$f":"ROUND('Форма 4'!C1318*'Базовые цены за единицу'!P55,0)","v":0},{"$f":"ROUND('Форма 4'!C1318*'Базовые цены за единицу'!Q55,0)","v":0},{"$f":"ROUND('Форма 4'!C1318*'Базовые цены за единицу'!R55,0)","v":0},{"$f":"ROUND('Форма 4'!C1318*'Базовые цены за единицу'!S55,0)","v":0},{"$f":"ROUND('Форма 4'!C1318*'Базовые цены за единицу'!T55,0)","v":0},{"$f":"ROUND('Форма 4'!C1318*'Базовые цены за единицу'!U55,0)","v":0},{"$f":"ROUND('Форма 4'!C1318*'Базовые цены за единицу'!V55,0)","v":0},null,{"$f":"ROUND('Форма 4'!C1318*'Базовые цены за единицу'!X55,0)","v":0},{"$f":"IF(Определители!I55=\"9\",ROUND((C55+E55)*(Начисления!M55/100)*('Форма 4'!C1331/100),0),0)","v":0},{"$f":"IF(Определители!I55=\"9\",ROUND((C55+E55)*(100-Начисления!M55/100)*('Форма 4'!C1331/100),0),0)","v":0},{"$f":"IF(Определители!I55=\"9\",ROUND((C55+E55)*(Начисления!M55/100)*('Форма 4'!C1334/100),0),0)","v":0},{"$f":"IF(Определители!I55=\"9\",ROUND((C55+E55)*(100-Начисления!M55/100)*('Форма 4'!C1334/100),0),0)","v":0},{"$f":"IF(Определители!I55=\"9\",ROUND(B55*Начисления!M55/100,0),0)","v":0},{"$f":"IF(Определители!I55=\"9\",ROUND(B55*(100-Начисления!M55)/100,0),0)","v":0},{"$f":"ROUND('Форма 4'!C1318*'Базовые цены за единицу'!AE55,0)","v":0},null,null,{"$f":"ROUND('Форма 4'!C1318*'Базовые цены за единицу'!AH55,0)","v":0},{"$f":"ROUND('Форма 4'!C1318*'Базовые цены за единицу'!AI55,0)","v":0},{"$f":"ROUND('Форма 4'!C1318*'Базовые цены за единицу'!AJ55,0)","v":0},{"$f":"ROUND('Форма 4'!C1318*'Базовые цены за единицу'!AK55,0)","v":0}]
[{"$f":"'Форма 4'!A1338","v":"36."},1252,{"$f":"ROUND('Форма 4'!C1338*'Базовые цены за единицу'!C56,0)","v":486},{"$f":"ROUND('Форма 4'!C1338*'Базовые цены за единицу'!D56,0)","v":302},{"$f":"ROUND('Форма 4'!C1338*'Базовые цены за единицу'!E56,0)","v":1},{"$f":"ROUND('Форма 4'!C1338*'Базовые цены за единицу'!F56,0)","v":464},{"$f":"ROUND('Форма 4'!C1338*'Базовые цены за единицу'!G56,0)","v":0},{"$f":"ROUND('Форма 4'!C1338*'Базовые цены за единицу'!H56,0)","v":0},{"$f":"ОКРУГЛВСЕ('Форма 4'!C1338*'Базовые цены за единицу'!I56,8)","v":42.065199999999997},{"$f":"ОКРУГЛВСЕ('Форма 4'!C1338*'Базовые цены за единицу'!J56,8)","v":0},{"$f":"ОКРУГЛВСЕ('Форма 4'!C1338*'Базовые цены за единицу'!K56,8)","v":8.2400000000000001E-2},{"$f":"ROUND('Форма 4'!C1338*'Базовые цены за единицу'!L56,0)","v":0},{"$f":"ROUND('Форма 4'!C1338*'Базовые цены за единицу'!M56,0)","v":0},{"$f":"ROUND((C56+E56)*'Форма 4'!C1350/100,0)","v":692},{"$f":"ROUND((C56+E56)*'Форма 4'!C1353/100,0)","v":394},{"$f":"ROUND('Форма 4'!C1338*'Базовые цены за единицу'!P56,0)","v":691},{"$f":"ROUND('Форма 4'!C1338*'Базовые цены за единицу'!Q56,0)","v":2},{"$f":"ROUND('Форма 4'!C1338*'Базовые цены за единицу'!R56,0)","v":394},{"$f":"ROUND('Форма 4'!C1338*'Базовые цены за единицу'!S56,0)","v":1},{"$f":"ROUND('Форма 4'!C1338*'Базовые цены за единицу'!T56,0)","v":0},{"$f":"ROUND('Форма 4'!C1338*'Базовые цены за единицу'!U56,0)","v":0},{"$f":"ROUND('Форма 4'!C1338*'Базовые цены за единицу'!V56,0)","v":0},null,{"$f":"ROUND('Форма 4'!C1338*'Базовые цены за единицу'!X56,0)","v":0},{"$f":"IF(Определители!I56=\"9\",ROUND((C56+E56)*(Начисления!M56/100)*('Форма 4'!C1350/100),0),0)","v":0},{"$f":"IF(Определители!I56=\"9\",ROUND((C56+E56)*(100-Начисления!M56/100)*('Форма 4'!C1350/100),0),0)","v":0},{"$f":"IF(Определители!I56=\"9\",ROUND((C56+E56)*(Начисления!M56/100)*('Форма 4'!C1353/100),0),0)","v":0},{"$f":"IF(Определители!I56=\"9\",ROUND((C56+E56)*(100-Начисления!M56/100)*('Форма 4'!C1353/100),0),0)","v":0},{"$f":"IF(Определители!I56=\"9\",ROUND(B56*Начисления!M56/100,0),0)","v":0},{"$f":"IF(Определители!I56=\"9\",ROUND(B56*(100-Начисления!M56)/100,0),0)","v":0},{"$f":"ROUND('Форма 4'!C1338*'Базовые цены за единицу'!AE56,0)","v":0},null,null,{"$f":"ROUND('Форма 4'!C1338*'Базовые цены за единицу'!AH56,0)","v":0},{"$f":"ROUND('Форма 4'!C1338*'Базовые цены за единицу'!AI56,0)","v":0},{"$f":"ROUND('Форма 4'!C1338*'Базовые цены за единицу'!AJ56,0)","v":0},{"$f":"ROUND('Форма 4'!C1338*'Базовые цены за единицу'!AK56,0)","v":0}]
[{"$f":"'Форма 4'!A1357","v":"37."},310,{"$f":"ROUND('Форма 4'!C1357*'Базовые цены за единицу'!C57,0)","v":213},{"$f":"ROUND('Форма 4'!C1357*'Базовые цены за единицу'!D57,0)","v":97},{"$f":"ROUND('Форма 4'!C1357*'Базовые цены за единицу'!E57,0)","v":0},{"$f":"ROUND('Форма 4'!C1357*'Базовые цены за единицу'!F57,0)","v":0},{"$f":"ROUND('Форма 4'!C1357*'Базовые цены за единицу'!G57,0)","v":0},{"$f":"ROUND('Форма 4'!C1357*'Базовые цены за единицу'!H57,0)","v":0},{"$f":"ОКРУГЛВСЕ('Форма 4'!C1357*'Базовые цены за единицу'!I57,8)","v":19.116800000000001},{"$f":"ОКРУГЛВСЕ('Форма 4'!C1357*'Базовые цены за единицу'!J57,8)","v":0},{"$f":"ОКРУГЛВСЕ('Форма 4'!C1357*'Базовые цены за единицу'!K57,8)","v":0},{"$f":"ROUND('Форма 4'!C1357*'Базовые цены за единицу'!L57,0)","v":0},{"$f":"ROUND('Форма 4'!C1357*'Базовые цены за единицу'!M57,0)","v":0},{"$f":"ROUND((C57+E57)*'Форма 4'!C1370/100,0)","v":302},{"$f":"ROUND((C57+E57)*'Форма 4'!C1373/100,0)","v":173},{"$f":"ROUND('Форма 4'!C1357*'Базовые цены за единицу'!P57,0)","v":303},{"$f":"ROUND('Форма 4'!C1357*'Базовые цены за единицу'!Q57,0)","v":0},{"$f":"ROUND('Форма 4'!C1357*'Базовые цены за единицу'!R57,0)","v":173},{"$f":"ROUND('Форма 4'!C1357*'Базовые цены за единицу'!S57,0)","v":0},{"$f":"ROUND('Форма 4'!C1357*'Базовые цены за единицу'!T57,0)","v":0},{"$f":"ROUND('Форма 4'!C1357*'Базовые цены за единицу'!U57,0)","v":0},{"$f":"ROUND('Форма 4'!C1357*'Базовые цены за единицу'!V57,0)","v":0},null,{"$f":"ROUND('Форма 4'!C1357*'Базовые цены за единицу'!X57,0)","v":0},{"$f":"IF(Определители!I57=\"9\",ROUND((C57+E57)*(Начисления!M57/100)*('Форма 4'!C1370/100),0),0)","v":0},{"$f":"IF(Определители!I57=\"9\",ROUND((C57+E57)*(100-Начисления!M57/100)*('Форма 4'!C1370/100),0),0)","v":0},{"$f":"IF(Определители!I57=\"9\",ROUND((C57+E57)*(Начисления!M57/100)*('Форма 4'!C1373/100),0),0)","v":0},{"$f":"IF(Определители!I57=\"9\",ROUND((C57+E57)*(100-Начисления!M57/100)*('Форма 4'!C1373/100),0),0)","v":0},{"$f":"IF(Определители!I57=\"9\",ROUND(B57*Начисления!M57/100,0),0)","v":0},{"$f":"IF(Определители!I57=\"9\",ROUND(B57*(100-Начисления!M57)/100,0),0)","v":0},{"$f":"ROUND('Форма 4'!C1357*'Базовые цены за единицу'!AE57,0)","v":0},null,null,{"$f":"ROUND('Форма 4'!C1357*'Базовые цены за единицу'!AH57,0)","v":0},{"$f":"ROUND('Форма 4'!C1357*'Базовые цены за единицу'!AI57,0)","v":0},{"$f":"ROUND('Форма 4'!C1357*'Базовые цены за единицу'!AJ57,0)","v":0},{"$f":"ROUND('Форма 4'!C1357*'Базовые цены за единицу'!AK57,0)","v":0}]
[{"$f":"'Форма 4'!A1377","v":"38."},22480,{"$f":"ROUND('Форма 4'!C1377*'Базовые цены за единицу'!C58,0)","v":0},{"$f":"ROUND('Форма 4'!C1377*'Базовые цены за единицу'!D58,0)","v":0},{"$f":"ROUND('Форма 4'!C1377*'Базовые цены за единицу'!E58,0)","v":0},{"$f":"ROUND('Форма 4'!C1377*'Базовые цены за единицу'!F58,0)","v":22480},{"$f":"ROUND('Форма 4'!C1377*'Базовые цены за единицу'!G58,0)","v":21156},{"$f":"ROUND('Форма 4'!C1377*'Базовые цены за единицу'!H58,0)","v":0},{"$f":"ОКРУГЛВСЕ('Форма 4'!C1377*'Базовые цены за единицу'!I58,8)","v":0},{"$f":"ОКРУГЛВСЕ('Форма 4'!C1377*'Базовые цены за единицу'!J58,8)","v":0},{"$f":"ОКРУГЛВСЕ('Форма 4'!C1377*'Базовые цены за единицу'!K58,8)","v":0},{"$f":"ROUND('Форма 4'!C1377*'Базовые цены за единицу'!L58,0)","v":39390},{"$f":"ROUND('Форма 4'!C1377*'Базовые цены за единицу'!M58,0)","v":0},{"$f":"ROUND((C58+E58)*'Форма 4'!C1389/100,0)","v":0},{"$f":"ROUND((C58+E58)*'Форма 4'!C1392/100,0)","v":0},{"$f":"ROUND('Форма 4'!C1377*'Базовые цены за единицу'!P58,0)","v":0},{"$f":"ROUND('Форма 4'!C1377*'Базовые цены за единицу'!Q58,0)","v":0},{"$f":"ROUND('Форма 4'!C1377*'Базовые цены за единицу'!R58,0)","v":0},{"$f":"ROUND('Форма 4'!C1377*'Базовые цены за единицу'!S58,0)","v":0},{"$f":"ROUND('Форма 4'!C1377*'Базовые цены за единицу'!T58,0)","v":0},{"$f":"ROUND('Форма 4'!C1377*'Базовые цены за единицу'!U58,0)","v":0},{"$f":"ROUND('Форма 4'!C1377*'Базовые цены за единицу'!V58,0)","v":0},null,{"$f":"ROUND('Форма 4'!C1377*'Базовые цены за единицу'!X58,0)","v":0},{"$f":"IF(Определители!I58=\"9\",ROUND((C58+E58)*(Начисления!M58/100)*('Форма 4'!C1389/100),0),0)","v":0},{"$f":"IF(Определители!I58=\"9\",ROUND((C58+E58)*(100-Начисления!M58/100)*('Форма 4'!C1389/100),0),0)","v":0},{"$f":"IF(Определители!I58=\"9\",ROUND((C58+E58)*(Начисления!M58/100)*('Форма 4'!C1392/100),0),0)","v":0},{"$f":"IF(Определители!I58=\"9\",ROUND((C58+E58)*(100-Начисления!M58/100)*('Форма 4'!C1392/100),0),0)","v":0},{"$f":"IF(Определители!I58=\"9\",ROUND(B58*Начисления!M58/100,0),0)","v":0},{"$f":"IF(Определители!I58=\"9\",ROUND(B58*(100-Начисления!M58)/100,0),0)","v":0},{"$f":"ROUND('Форма 4'!C1377*'Базовые цены за единицу'!AE58,0)","v":0},null,null,{"$f":"ROUND('Форма 4'!C1377*'Базовые цены за единицу'!AH58,0)","v":0},{"$f":"ROUND('Форма 4'!C1377*'Базовые цены за единицу'!AI58,0)","v":0},{"$f":"ROUND('Форма 4'!C1377*'Базовые цены за единицу'!AJ58,0)","v":0},{"$f":"ROUND('Форма 4'!C1377*'Базовые цены за единицу'!AK58,0)","v":0}]
[]
[null,"Раздел 6.  Восстановление газонов"]
[]
[{"$f":"'Форма 4'!A1555","v":"39."},{"$f":"ROUND(C62+D62+F62+AF62+AG62,0)","v":6185},{"$f":"ROUND('Форма 4'!C1555*'Базовые цены за единицу'!C62,0)","v":1146},{"$f":"ROUND('Форма 4'!C1555*'Базовые цены за единицу'!D62,0)","v":0},{"$f":"ROUND('Форма 4'!C1555*'Базовые цены за единицу'!E62,0)","v":0},{"$f":"ROUND('Форма 4'!C1555*'Базовые цены за единицу'!F62,0)","v":5039},{"$f":"ROUND('Форма 4'!C1555*'Базовые цены за единицу'!G62,0)","v":0},{"$f":"ROUND('Форма 4'!C1555*'Базовые цены за единицу'!H62,0)","v":0},{"$f":"ОКРУГЛВСЕ('Форма 4'!C1555*'Базовые цены за единицу'!I62,8)","v":120},{"$f":"ОКРУГЛВСЕ('Форма 4'!C1555*'Базовые цены за единицу'!J62,8)","v":0},{"$f":"ОКРУГЛВСЕ('Форма 4'!C1555*'Базовые цены за единицу'!K62,8)","v":0},{"$f":"ROUND('Форма 4'!C1555*'Базовые цены за единицу'!L62,0)","v":0},{"$f":"ROUND('Форма 4'!C1555*'Базовые цены за единицу'!M62,0)","v":0},{"$f":"ROUND((C62+E62)*'Форма 4'!C1566/100,0)","v":1318},{"$f":"ROUND((C62+E62)*'Форма 4'!C1569/100,0)","v":882},{"$f":"ROUND('Форма 4'!C1555*'Базовые цены за единицу'!P62,0)","v":1318},{"$f":"ROUND('Форма 4'!C1555*'Базовые цены за единицу'!Q62,0)","v":0},{"$f":"ROUND('Форма 4'!C1555*'Базовые цены за единицу'!R62,0)","v":882},{"$f":"ROUND('Форма 4'!C1555*'Базовые цены за единицу'!S62,0)","v":0},{"$f":"ROUND('Форма 4'!C1555*'Базовые цены за единицу'!T62,0)","v":0},{"$f":"ROUND('Форма 4'!C1555*'Базовые цены за единицу'!U62,0)","v":0},{"$f":"ROUND('Форма 4'!C1555*'Базовые цены за единицу'!V62,0)","v":0},null,{"$f":"ROUND('Форма 4'!C1555*'Базовые цены за единицу'!X62,0)","v":0},{"$f":"IF(Определители!I62=\"9\",ROUND((C62+E62)*(Начисления!M62/100)*('Форма 4'!C1566/100),0),0)","v":0},{"$f":"IF(Определители!I62=\"9\",ROUND((C62+E62)*(100-Начисления!M62/100)*('Форма 4'!C1566/100),0),0)","v":0},{"$f":"IF(Определители!I62=\"9\",ROUND((C62+E62)*(Начисления!M62/100)*('Форма 4'!C1569/100),0),0)","v":0},{"$f":"IF(Определители!I62=\"9\",ROUND((C62+E62)*(100-Начисления!M62/100)*('Форма 4'!C1569/100),0),0)","v":0},{"$f":"IF(Определители!I62=\"9\",ROUND(B62*Начисления!M62/100,0),0)","v":0},{"$f":"IF(Определители!I62=\"9\",ROUND(B62*(100-Начисления!M62)/100,0),0)","v":0},{"$f":"ROUND('Форма 4'!C1555*'Базовые цены за единицу'!AE62,0)","v":0},null,null,{"$f":"ROUND('Форма 4'!C1555*'Базовые цены за единицу'!AH62,0)","v":0},{"$f":"ROUND('Форма 4'!C1555*'Базовые цены за единицу'!AI62,0)","v":0},{"$f":"ROUND('Форма 4'!C1555*'Базовые цены за единицу'!AJ62,0)","v":0},{"$f":"ROUND('Форма 4'!C1555*'Базовые цены за единицу'!AK62,0)","v":0}]
[]
[null,"Раздел 7.  Наращивание колодцев"]
[]
[{"$f":"'Форма 4'!A1730","v":"40."},{"$f":"ROUND(C66+D66+F66+AF66+AG66,0)","v":106},{"$f":"ROUND('Форма 4'!C1730*'Базовые цены за единицу'!C66,0)","v":65},{"$f":"ROUND('Форма 4'!C1730*'Базовые цены за единицу'!D66,0)","v":41},{"$f":"ROUND('Форма 4'!C1730*'Базовые цены за единицу'!E66,0)","v":0},{"$f":"ROUND('Форма 4'!C1730*'Базовые цены за единицу'!F66,0)","v":0},{"$f":"ROUND('Форма 4'!C1730*'Базовые цены за единицу'!G66,0)","v":0},{"$f":"ROUND('Форма 4'!C1730*'Базовые цены за единицу'!H66,0)","v":0},{"$f":"ОКРУГЛВСЕ('Форма 4'!C1730*'Базовые цены за единицу'!I66,8)","v":6.2880000000000003},{"$f":"ОКРУГЛВСЕ('Форма 4'!C1730*'Базовые цены за единицу'!J66,8)","v":0},{"$f":"ОКРУГЛВСЕ('Форма 4'!C1730*'Базовые цены за единицу'!K66,8)","v":0},{"$f":"ROUND('Форма 4'!C1730*'Базовые цены за единицу'!L66,0)","v":0},{"$f":"ROUND('Форма 4'!C1730*'Базовые цены за единицу'!M66,0)","v":0},{"$f":"ROUND((C66+E66)*'Форма 4'!C1742/100,0)","v":85},{"$f":"ROUND((C66+E66)*'Форма 4'!C1745/100,0)","v":49},{"$f":"ROUND('Форма 4'!C1730*'Базовые цены за единицу'!P66,0)","v":85},{"$f":"ROUND('Форма 4'!C1730*'Базовые цены за единицу'!Q66,0)","v":0},{"$f":"ROUND('Форма 4'!C1730*'Базовые цены за единицу'!R66,0)","v":50},{"$f":"ROUND('Форма 4'!C1730*'Базовые цены за единицу'!S66,0)","v":0},{"$f":"ROUND('Форма 4'!C1730*'Базовые цены за единицу'!T66,0)","v":0},{"$f":"ROUND('Форма 4'!C1730*'Базовые цены за единицу'!U66,0)","v":0},{"$f":"ROUND('Форма 4'!C1730*'Базовые цены за единицу'!V66,0)","v":0},null,{"$f":"ROUND('Форма 4'!C1730*'Базовые цены за единицу'!X66,0)","v":0},{"$f":"IF(Определители!I66=\"9\",ROUND((C66+E66)*(Начисления!M66/100)*('Форма 4'!C1742/100),0),0)","v":0},{"$f":"IF(Определители!I66=\"9\",ROUND((C66+E66)*(100-Начисления!M66/100)*('Форма 4'!C1742/100),0),0)","v":0},{"$f":"IF(Определители!I66=\"9\",ROUND((C66+E66)*(Начисления!M66/100)*('Форма 4'!C1745/100),0),0)","v":0},{"$f":"IF(Определители!I66=\"9\",ROUND((C66+E66)*(100-Начисления!M66/100)*('Форма 4'!C1745/100),0),0)","v":0},{"$f":"IF(Определители!I66=\"9\",ROUND(B66*Начисления!M66/100,0),0)","v":0},{"$f":"IF(Определители!I66=\"9\",ROUND(B66*(100-Начисления!M66)/100,0),0)","v":0},{"$f":"ROUND('Форма 4'!C1730*'Базовые цены за единицу'!AE66,0)","v":0},null,null,{"$f":"ROUND('Форма 4'!C1730*'Базовые цены за единицу'!AH66,0)","v":0},{"$f":"ROUND('Форма 4'!C1730*'Базовые цены за единицу'!AI66,0)","v":0},{"$f":"ROUND('Форма 4'!C1730*'Базовые цены за единицу'!AJ66,0)","v":0},{"$f":"ROUND('Форма 4'!C1730*'Базовые цены за единицу'!AK66,0)","v":0}]
[{"$f":"'Форма 4'!A1749","v":"41."},{"$f":"ROUND(C67+D67+F67+AF67+AG67,0)","v":59},{"$f":"ROUND('Форма 4'!C1749*'Базовые цены за единицу'!C67,0)","v":9},{"$f":"ROUND('Форма 4'!C1749*'Базовые цены за единицу'!D67,0)","v":47},{"$f":"ROUND('Форма 4'!C1749*'Базовые цены за единицу'!E67,0)","v":4},{"$f":"ROUND('Форма 4'!C1749*'Базовые цены за единицу'!F67,0)","v":3},{"$f":"ROUND('Форма 4'!C1749*'Базовые цены за единицу'!G67,0)","v":0},{"$f":"ROUND('Форма 4'!C1749*'Базовые цены за единицу'!H67,0)","v":0},{"$f":"ОКРУГЛВСЕ('Форма 4'!C1749*'Базовые цены за единицу'!I67,8)","v":0.87609599999999999},{"$f":"ОКРУГЛВСЕ('Форма 4'!C1749*'Базовые цены за единицу'!J67,8)","v":0},{"$f":"ОКРУГЛВСЕ('Форма 4'!C1749*'Базовые цены за единицу'!K67,8)","v":0.26841599999999999},{"$f":"ROUND('Форма 4'!C1749*'Базовые цены за единицу'!L67,0)","v":0},{"$f":"ROUND('Форма 4'!C1749*'Базовые цены за единицу'!M67,0)","v":0},{"$f":"ROUND((C67+E67)*'Форма 4'!C1761/100,0)","v":17},{"$f":"ROUND((C67+E67)*'Форма 4'!C1764/100,0)","v":9},{"$f":"ROUND('Форма 4'!C1749*'Базовые цены за единицу'!P67,0)","v":12},{"$f":"ROUND('Форма 4'!C1749*'Базовые цены за единицу'!Q67,0)","v":6},{"$f":"ROUND('Форма 4'!C1749*'Базовые цены за единицу'!R67,0)","v":7},{"$f":"ROUND('Форма 4'!C1749*'Базовые цены за единицу'!S67,0)","v":3},{"$f":"ROUND('Форма 4'!C1749*'Базовые цены за единицу'!T67,0)","v":0},{"$f":"ROUND('Форма 4'!C1749*'Базовые цены за единицу'!U67,0)","v":0},{"$f":"ROUND('Форма 4'!C1749*'Базовые цены за единицу'!V67,0)","v":0},null,{"$f":"ROUND('Форма 4'!C1749*'Базовые цены за единицу'!X67,0)","v":0},{"$f":"IF(Определители!I67=\"9\",ROUND((C67+E67)*(Начисления!M67/100)*('Форма 4'!C1761/100),0),0)","v":0},{"$f":"IF(Определители!I67=\"9\",ROUND((C67+E67)*(100-Начисления!M67/100)*('Форма 4'!C1761/100),0),0)","v":0},{"$f":"IF(Определители!I67=\"9\",ROUND((C67+E67)*(Начисления!M67/100)*('Форма 4'!C1764/100),0),0)","v":0},{"$f":"IF(Определители!I67=\"9\",ROUND((C67+E67)*(100-Начисления!M67/100)*('Форма 4'!C1764/100),0),0)","v":0},{"$f":"IF(Определители!I67=\"9\",ROUND(B67*Начисления!M67/100,0),0)","v":0},{"$f":"IF(Определители!I67=\"9\",ROUND(B67*(100-Начисления!M67)/100,0),0)","v":0},{"$f":"ROUND('Форма 4'!C1749*'Базовые цены за единицу'!AE67,0)","v":0},null,null,{"$f":"ROUND('Форма 4'!C1749*'Базовые цены за единицу'!AH67,0)","v":0},{"$f":"ROUND('Форма 4'!C1749*'Базовые цены за единицу'!AI67,0)","v":0},{"$f":"ROUND('Форма 4'!C1749*'Базовые цены за единицу'!AJ67,0)","v":0},{"$f":"ROUND('Форма 4'!C1749*'Базовые цены за единицу'!AK67,0)","v":0}]
[{"$f":"'Форма 4'!A1768","v":"42."},{"$f":"ROUND(C68+D68+F68+AF68+AG68,0)","v":338},{"$f":"ROUND('Форма 4'!C1768*'Базовые цены за единицу'!C68,0)","v":0},{"$f":"ROUND('Форма 4'!C1768*'Базовые цены за единицу'!D68,0)","v":0},{"$f":"ROUND('Форма 4'!C1768*'Базовые цены за единицу'!E68,0)","v":0},{"$f":"ROUND('Форма 4'!C1768*'Базовые цены за единицу'!F68,0)","v":338},{"$f":"ROUND('Форма 4'!C1768*'Базовые цены за единицу'!G68,0)","v":338},{"$f":"ROUND('Форма 4'!C1768*'Базовые цены за единицу'!H68,0)","v":0},{"$f":"ОКРУГЛВСЕ('Форма 4'!C1768*'Базовые цены за единицу'!I68,8)","v":0},{"$f":"ОКРУГЛВСЕ('Форма 4'!C1768*'Базовые цены за единицу'!J68,8)","v":0},{"$f":"ОКРУГЛВСЕ('Форма 4'!C1768*'Базовые цены за единицу'!K68,8)","v":0},{"$f":"ROUND('Форма 4'!C1768*'Базовые цены за единицу'!L68,0)","v":0},{"$f":"ROUND('Форма 4'!C1768*'Базовые цены за единицу'!M68,0)","v":0},{"$f":"ROUND((C68+E68)*'Форма 4'!C1781/100,0)","v":0},{"$f":"ROUND((C68+E68)*'Форма 4'!C1784/100,0)","v":0},{"$f":"ROUND('Форма 4'!C1768*'Базовые цены за единицу'!P68,0)","v":0},{"$f":"ROUND('Форма 4'!C1768*'Базовые цены за единицу'!Q68,0)","v":0},{"$f":"ROUND('Форма 4'!C1768*'Базовые цены за единицу'!R68,0)","v":0},{"$f":"ROUND('Форма 4'!C1768*'Базовые цены за единицу'!S68,0)","v":0},{"$f":"ROUND('Форма 4'!C1768*'Базовые цены за единицу'!T68,0)","v":0},{"$f":"ROUND('Форма 4'!C1768*'Базовые цены за единицу'!U68,0)","v":0},{"$f":"ROUND('Форма 4'!C1768*'Базовые цены за единицу'!V68,0)","v":0},null,{"$f":"ROUND('Форма 4'!C1768*'Базовые цены за единицу'!X68,0)","v":0},{"$f":"IF(Определители!I68=\"9\",ROUND((C68+E68)*(Начисления!M68/100)*('Форма 4'!C1781/100),0),0)","v":0},{"$f":"IF(Определители!I68=\"9\",ROUND((C68+E68)*(100-Начисления!M68/100)*('Форма 4'!C1781/100),0),0)","v":0},{"$f":"IF(Определители!I68=\"9\",ROUND((C68+E68)*(Начисления!M68/100)*('Форма 4'!C1784/100),0),0)","v":0},{"$f":"IF(Определители!I68=\"9\",ROUND((C68+E68)*(100-Начисления!M68/100)*('Форма 4'!C1784/100),0),0)","v":0},{"$f":"IF(Определители!I68=\"9\",ROUND(B68*Начисления!M68/100,0),0)","v":0},{"$f":"IF(Определители!I68=\"9\",ROUND(B68*(100-Начисления!M68)/100,0),0)","v":0},{"$f":"ROUND('Форма 4'!C1768*'Базовые цены за единицу'!AE68,0)","v":0},null,null,{"$f":"ROUND('Форма 4'!C1768*'Базовые цены за единицу'!AH68,0)","v":0},{"$f":"ROUND('Форма 4'!C1768*'Базовые цены за единицу'!AI68,0)","v":0},{"$f":"ROUND('Форма 4'!C1768*'Базовые цены за единицу'!AJ68,0)","v":0},{"$f":"ROUND('Форма 4'!C1768*'Базовые цены за единицу'!AK68,0)","v":0}]
[{"$f":"'Форма 4'!A1788","v":"43."},{"$f":"ROUND(C69+D69+F69+AF69+AG69,0)","v":8818},{"$f":"ROUND('Форма 4'!C1788*'Базовые цены за единицу'!C69,0)","v":109},{"$f":"ROUND('Форма 4'!C1788*'Базовые цены за единицу'!D69,0)","v":69},{"$f":"ROUND('Форма 4'!C1788*'Базовые цены за единицу'!E69,0)","v":0},{"$f":"ROUND('Форма 4'!C1788*'Базовые цены за единицу'!F69,0)","v":8640},{"$f":"ROUND('Форма 4'!C1788*'Базовые цены за единицу'!G69,0)","v":0},{"$f":"ROUND('Форма 4'!C1788*'Базовые цены за единицу'!H69,0)","v":0},{"$f":"ОКРУГЛВСЕ('Форма 4'!C1788*'Базовые цены за единицу'!I69,8)","v":10.48},{"$f":"ОКРУГЛВСЕ('Форма 4'!C1788*'Базовые цены за единицу'!J69,8)","v":0},{"$f":"ОКРУГЛВСЕ('Форма 4'!C1788*'Базовые цены за единицу'!K69,8)","v":0},{"$f":"ROUND('Форма 4'!C1788*'Базовые цены за единицу'!L69,0)","v":0},{"$f":"ROUND('Форма 4'!C1788*'Базовые цены за единицу'!M69,0)","v":0},{"$f":"ROUND((C69+E69)*'Форма 4'!C1799/100,0)","v":142},{"$f":"ROUND((C69+E69)*'Форма 4'!C1802/100,0)","v":83},{"$f":"ROUND('Форма 4'!C1788*'Базовые цены за единицу'!P69,0)","v":141},{"$f":"ROUND('Форма 4'!C1788*'Базовые цены за единицу'!Q69,0)","v":0},{"$f":"ROUND('Форма 4'!C1788*'Базовые цены за единицу'!R69,0)","v":83},{"$f":"ROUND('Форма 4'!C1788*'Базовые цены за единицу'!S69,0)","v":0},{"$f":"ROUND('Форма 4'!C1788*'Базовые цены за единицу'!T69,0)","v":0},{"$f":"ROUND('Форма 4'!C1788*'Базовые цены за единицу'!U69,0)","v":0},{"$f":"ROUND('Форма 4'!C1788*'Базовые цены за единицу'!V69,0)","v":0},null,{"$f":"ROUND('Форма 4'!C1788*'Базовые цены за единицу'!X69,0)","v":0},{"$f":"IF(Определители!I69=\"9\",ROUND((C69+E69)*(Начисления!M69/100)*('Форма 4'!C1799/100),0),0)","v":0},{"$f":"IF(Определители!I69=\"9\",ROUND((C69+E69)*(100-Начисления!M69/100)*('Форма 4'!C1799/100),0),0)","v":0},{"$f":"IF(Определители!I69=\"9\",ROUND((C69+E69)*(Начисления!M69/100)*('Форма 4'!C1802/100),0),0)","v":0},{"$f":"IF(Определители!I69=\"9\",ROUND((C69+E69)*(100-Начисления!M69/100)*('Форма 4'!C1802/100),0),0)","v":0},{"$f":"IF(Определители!I69=\"9\",ROUND(B69*Начисления!M69/100,0),0)","v":0},{"$f":"IF(Определители!I69=\"9\",ROUND(B69*(100-Начисления!M69)/100,0),0)","v":0},{"$f":"ROUND('Форма 4'!C1788*'Базовые цены за единицу'!AE69,0)","v":0},null,null,{"$f":"ROUND('Форма 4'!C1788*'Базовые цены за единицу'!AH69,0)","v":0},{"$f":"ROUND('Форма 4'!C1788*'Базовые цены за единицу'!AI69,0)","v":0},{"$f":"ROUND('Форма 4'!C1788*'Базовые цены за единицу'!AJ69,0)","v":0},{"$f":"ROUND('Форма 4'!C1788*'Базовые цены за единицу'!AK69,0)","v":0}]

{"sheet":"Начисления","index":4,"n_rows":69,"n_cols":50,"rows_kept":69,"cut":false,"hidden":false,"merged":[[47,1,48,9],[1,0,1,9],[2,1,2,9],[3,1,3,9],[4,0,4,9],[63,1,64,9],[6,1,7,9],[17,1,18,9],[23,1,24,9],[39,1,40,9],[59,1,60,9]]}
[null,"Н1","Н2","Н3","Н4","Н5","Н6","Н7","Н8","Н9","Н10","Н11","Н12","Н13","Н14","Н15","Н16","Н17","Н18","Н19","Н20","Н21","Н22","Н23","Н24","Н25","Н26","Н27","Н28","Н29","Н30","Н31","Н32","Н33","Н34","Н35","Н36","Н37","Н38","Н39","Н40","Н41","Н42","Н43","Н44","Н45","Н46","Н47","Н48","Н49"]
[]
[null,"N = < 9 * 13 * 64 >"]
[null,"          Кирова,97 .Собственники"]
[]
[]
[null,"Раздел 1.  Валка деревьев"]
[]
[{"$f":"'Форма 4'!A27","v":"1."},1,1,1,1,1,1,1,1,1,0,0,100,0,0,1,1,0,0,1,0,0,0,0,0,0,0,0,0,0,0,0,1.7,1.6,1.29,9.1999999999999998E-2,0.18,1,1,0.2,1.5,1,1,1,1,1,100,1,1,1]
[{"$f":"'Форма 4'!A45","v":"2."},1,1,1,1,1,1,1,1,1,0,0,100,0,0,1,1,0,0,1,0,0,0,0,0,0,0,0,0,0,0,0,1.7,1.6,1.29,9.1999999999999998E-2,0.18,1,1,0.2,1.5,1,1,1,1,1,100,1,1,1]
[{"$f":"'Форма 4'!A63","v":"3."},1,1,1,1,1,1,1,1,1,0,0,100,0,0,1,1,0,0,1,0,0,0,0,0,0,0,0,0,0,0,0,1.7,1.6,1.29,9.1999999999999998E-2,0.18,1,1,0.2,1.5,1,1,1,1,1,100,1,1,1]
[{"$f":"'Форма 4'!A81","v":"4."},1,1,1,1,1,1,1,1,1,0,0,100,0,0,1,1,0,0,1,0,0,0,0,0,0,0,0,0,0,0,0,1.7,1.6,1.29,9.1999999999999998E-2,0.18,1,1,0.2,1.5,1,1,1,1,1,100,1,1,1]
[{"$f":"'Форма 4'!A99","v":"5."},1,1,1,1,1,1,1,1,1,0,0,100,0,0,1,1,0,0,1,0,0,0,0,0,0,0,0,0,0,0,0,1.7,1.6,1.29,9.1999999999999998E-2,0.18,1,1,0.2,1.5,1,1,1,1,1,100,1,1,1]
[{"$f":"'Форма 4'!A117","v":"6."},1,1,1,1,1,1,1,1,1,0,0,100,0,0,1,1,0,0,1,0,0,0,0,0,0,0,0,0,0,0,0,1.7,1.6,1.29,9.1999999999999998E-2,0.18,1,1,0.2,1.5,1,1,1,1,1,100,1,1,1]
[{"$f":"'Форма 4'!A136","v":"7."},1,1,1,1,1,1,1,1,1,0,0,100,0,0,1,1,0,0,1,0,0,0,0,0,0,0,0,0,0,0,0,1.7,1.6,1.29,9.1999999999999998E-2,0.18,1,1,0.2,1.5,1,1,1,1,1,100,1,1,1]
[{"$f":"'Форма 4'!A155","v":"8."},1,1,1,1,1,1,1,1,1,0,0,100,0,0,1,1,0,0,1,0,0,0,0,0,0,0,0,0,0,0,0,1.7,1.6,1.29,9.1999999999999998E-2,0.18,1,1,0.2,1.5,1,1,1,1,1,100,1,1,1]
[]
[null,"Раздел 2.  Разборка бортовых камней и а/бетонного покрытия"]
[]
[{"$f":"'Форма 4'!A334","v":"9."},1,1,1,1,1,1,1,1,1,0,0,100,0,0,1,1,0,0,1,0,0,0,0,0,0,0,0,0,0,0,0,1.7,1.6,1.29,9.1999999999999998E-2,0.18,1,1,0.2,1.5,1,1,1,1,1,100,1,1,1]
[{"$f":"'Форма 4'!A352","v":"10."},1,1,1,1,1,1,1,1,1,0,0,100,0,0,1,1,0,0,1,0,0,0,0,0,0,0,0,0,0,0,0,1.7,1.6,1.29,9.1999999999999998E-2,0.18,1,1,0.2,1.5,1,1,1,1,1,100,1,1,1]
[{"$f":"'Форма 4'!A371","v":"11."},1,1,1,1,1,1,1,1,1,0,0,100,0,0,1,1,0,0,1,0,0,0,0,0,0,0,0,0,0,0,0,1.7,1.6,1.29,9.1999999999999998E-2,0.18,1,1,0.2,1.5,1,1,1,1,1,100,1,1,1]
[]
[null,"Раздел 3.  Устройство новой дорожной одежды на уширениях и парковках"]
[]
[{"$f":"'Форма 4'!A550","v":"12."},1,1,1,1,1,1,1,1,1,0,0,100,0,0,1,1,0,0,1,0,0,0,0,0,0,0,0,0,0,0,0,1.7,1.6,1.29,9.1999999999999998E-2,0.18,1,1,0.2,1.5,1,1,1,1,1,100,1,1,1]
[{"$f":"'Форма 4'!A569","v":"13."},1,1,1,1,1,1,1,1,1,0,0,100,0,0,1,1,0,0,1,0,0,0,0,0,0,0,0,0,0,0,0,1.7,1.6,1.29,9.1999999999999998E-2,0.18,1,1,0.2,1.5,1,1,1,1,1,100,1,1,1]
[{"$f":"'Форма 4'!A588","v":"14."},1,1,1,1,1,1,1,1,1,0,0,100,0,0,1,1,0,0,1,0,0,0,0,0,0,0,0,0,0,0,0,1.7,1.6,1.29,9.1999999999999998E-2,0.18,1,1,0.2,1.5,1,1,1,1,1,100,1,1,1]
[{"$f":"'Форма 4'!A607","v":"15."},1,1,1,1,1,1,1,1,1,0,0,100,0,0,1,1,0,0,1,0,0,0,0,0,0,0,0,0,0,0,0,1.7,1.6,1.29,9.1999999999999998E-2,0.18,1,1,0.2,1.5,1,1,1,1,1,100,1,1,1]
[{"$f":"'Форма 4'!A626","v":"16."},1,1,1,1,1,1,1,1,1,0,0,100,0,0,1,1,0,0,1,0,0,0,0,0,0,0,0,0,0,0,0,1.7,1.6,1.29,9.1999999999999998E-2,0.18,1,1,0.2,1.5,1,1,1,1,1,100,1,1,1]
[{"$f":"'Форма 4'!A646","v":"17."},1,1,1,1,1,1,1,1,1,0,0,100,0,0,1,1,0,0,1,0,0,0,0,0,0,0,0,0,0,0,0,1.7,1.6,1.29,9.1999999999999998E-2,0.18,1,1,0.2,1.5,1,1,1,1,1,100,1,1,1]
[{"$f":"'Форма 4'!A666","v":"18."},1,1,1,1,1,1,1,1,1,0,0,100,0,0,1,1,0,0,1,0,0,0,0,0,0,0,0,0,0,0,0,1.7,1.6,1.29,9.1999999999999998E-2,0.18,1,1,0.2,1.5,1,1,1,1,1,100,1,1,1]
[{"$f":"'Форма 4'!A685","v":"19."},1,1,1,1,1,1,1,1,1,0,0,100,0,0,1,1,0,0,1,0,0,0,0,0,0,0,0,0,0,0,0,1.7,1.6,1.29,9.1999999999999998E-2,0.18,1,1,0.2,1.5,1,1,1,1,1,100,1,1,1]
[{"$f":"'Форма 4'!A705","v":"20."},1,1,1,1,1,1,1,1,1,0,0,100,0,0,1,1,0,0,1,0,0,0,0,0,0,0,0,0,0,0,0,1.7,1.6,1.29,9.1999999999999998E-2,0.18,1,1,0.2,1.5,1,1,1,1,1,100,1,1,1]
[{"$f":"'Форма 4'!A723","v":"21."},1,1,1,1,1,1,1,1,1,0,0,100,0,0,1,1,0,0,1,0,0,0,0,0,0,0,0,0,0,0,0,1.7,1.6,1.29,9.1999999999999998E-2,0.18,1,1,0.2,1.5,1,1,1,1,1,100,1,1,1]
[{"$f":"'Форма 4'!A742","v":"22."},1,1,1,1,1,1,1,1,1,0,0,100,0,0,1,1,0,0,1,0,0,0,0,0,0,0,0,0,0,0,0,1.7,1.6,1.29,9.1999999999999998E-2,0.18,1,1,0.2,1.5,1,1,1,1,1,100,1,1,1]
[{"$f":"'Форма 4'!A760","v":"23."},1,1,1,1,1,1,1,1,1,0,0,100,0,0,1,1,0,0,1,0,0,0,0,0,0,0,0,0,0,0,0,1.7,1.6,1.29,9.1999999999999998E-2,0.18,1,1,0.2,1.5,1,1,1,1,1,100,1,1,1]
[{"$f":"'Форма 4'!A779","v":"24."},1,1,1,1,1,1,1,1,1,0,0,100,0,0,1,1,0,0,1,0,0,0,0,0,0,0,0,0,0,0,0,1.7,1.6,1.29,9.1999999999999998E-2,0.18,1,1,0.2,1.5,1,1,1,1,1,100,1,1,1]
[]
[null,"Раздел 4.  Установка бортовых камней"]
[]
[{"$f":"'Форма 4'!A959","v":"25."},1,1,1,1,1,1,1,1,1,0,0,100,0,0,1,1,0,0,1,0,0,0,0,0,0,0,0,0,0,0,0,1.7,1.6,1.29,9.1999999999999998E-2,0.18,1,1,0.2,1.5,1,1,1,1,1,100,1,1,1]
[{"$f":"'Форма 4'!A979","v":"26."},1,1,1,1,1,1,1,1,1,0,0,100,0,0,1,1,0,0,1,0,0,0,0,0,0,0,0,0,0,0,0,1.7,1.6,1.29,9.1999999999999998E-2,0.18,1,1,0.2,1.5,1,1,1,1,1,100,1,1,1]
[{"$f":"'Форма 4'!A1000","v":"27."},1,1,1,1,1,1,1,1,1,0,0,100,0,0,1,1,0,0,1,0,0,0,0,0,0,0,0,0,0,0,0,1.7,1.6,1.29,9.1999999999999998E-2,0.18,1,1,0.2,1.5,1,1,1,1,1,100,1,1,1]
[{"$f":"'Форма 4'!A1020","v":"28."},1,1,1,1,1,1,1,1,1,0,0,100,0,0,1,1,0,0,1,0,0,0,0,0,0,0,0,0,0,0,0,1.7,1.6,1.29,9.1999999999999998E-2,0.18,1,1,0.2,1.5,1,1,1,1,1,100,1,1,1]
[{"$f":"'Форма 4'!A1040","v":"29."},1,1,1,1,1,1,1,1,1,0,0,100,0,0,1,1,0,0,1,0,0,0,0,0,0,0,0,0,0,0,0,1.7,1.6,1.29,9.1999999999999998E-2,0.18,1,1,0.2,1.5,1,1,1,1,1,100,1,1,1]
[]
[null,"Раздел 5.  Устройство тротуаров"]
[]
[{"$f":"'Форма 4'!A1219","v":"30."},1,1,1,1,1,1,1,1,1,0,0,100,0,0,1,1,0,0,1,0,0,0,0,0,0,0,0,0,0,0,0,1.7,1.6,1.29,9.1999999999999998E-2,0.18,1,1,0.2,1.5,1,1,1,1,1,100,1,1,1]
[{"$f":"'Форма 4'!A1239","v":"31."},1,1,1,1,1,1,1,1,1,0,0,100,0,0,1,1,0,0,1,0,0,0,0,0,0,0,0,0,0,0,0,1.7,1.6,1.29,9.1999999999999998E-2,0.18,1,1,0.2,1.5,1,1,1,1,1,100,1,1,1]
[{"$f":"'Форма 4'!A1259","v":"32."},1,1,1,1,1,1,1,1,1,0,0,100,0,0,1,1,0,0,1,0,0,0,0,0,0,0,0,0,0,0,0,1.7,1.6,1.29,9.1999999999999998E-2,0.18,1,1,0.2,1.5,1,1,1,1,1,100,1,1,1]
[{"$f":"'Форма 4'!A1279","v":"33."},1,1,1,1,1,1,1,1,1,0,0,100,0,0,1,1,0,0,1,0,0,0,0,0,0,0,0,0,0,0,0,1.7,1.6,1.29,9.1999999999999998E-2,0.18,1,1,0.2,1.5,1,1,1,1,1,100,1,1,1]
[{"$f":"'Форма 4'!A1298","v":"34."},1,1,1,1,1,1,1,1,1,0,0,100,0,0,1,1,0,0,1,0,0,0,0,0,0,0,0,0,0,0,0,1.7,1.6,1.29,9.1999999999999998E-2,0.18,1,1,0.2,1.5,1,1,1,1,1,100,1,1,1]
[{"$f":"'Форма 4'!A1318","v":"35."},1,1,1,1,1,1,1,1,1,0,0,100,0,0,1,1,0,0,1,0,0,0,0,0,0,0,0,0,0,0,0,1.7,1.6,1.29,9.1999999999999998E-2,0.18,1,1,0.2,1.5,1,1,1,1,1,100,1,1,1]
[{"$f":"'Форма 4'!A1338","v":"36."},1,1,1,1,1,1,1,1,1,0,0,100,0,0,1,1,0,0,1,0,0,0,0,0,0,0,0,0,0,0,0,1.7,1.6,1.29,9.1999999999999998E-2,0.18,1,1,0.2,1.5,1,1,1,1,1,100,1,1,1]
[{"$f":"'Форма 4'!A1357","v":"37."},1,1,1,1,1,1,1,1,1,0,0,100,0,0,1,1,0,0,1,0,0,0,0,0,0,0,0,0,0,0,0,1.7,1.6,1.29,9.1999999999999998E-2,0.18,1,1,0.2,1.5,1,1,1,1,1,100,1,1,1]
[{"$f":"'Форма 4'!A1377","v":"38."},1,1,1,1,1,1,1,1,1,0,0,100,0,0,1,1,0,0,1,0,0,0,0,0,0,0,0,0,0,0,0,1.7,1.6,1.29,9.1999999999999998E-2,0.18,1,1,0.2,1.5,1,1,1,1,1,100,1,1,1]
[]
[null,"Раздел 6.  Восстановление газонов"]
[]
[{"$f":"'Форма 4'!A1555","v":"39."},1,1,1,1,1,1,1,1,1,0,0,100,0,0,1,1,0,0,1,0,0,0,0,0,0,0,0,0,0,0,0,1.7,1.6,1.29,9.1999999999999998E-2,0.18,1,1,0.2,1.5,1,1,1,1,1,100,1,1,1]
[]
[null,"Раздел 7.  Наращивание колодцев"]
[]
[{"$f":"'Форма 4'!A1730","v":"40."},1,0,0.6,0.6,0.6,1,1,1,1,0,0,100,0,0,1,1,0,0,1,0,0,0,0,0,0,0,0,0,0,0,0,1.7,1.6,1.29,9.1999999999999998E-2,0.18,1,1,0.2,1.5,1,1,1,1,1,100,1,1,1]
[{"$f":"'Форма 4'!A1749","v":"41."},1,1,1,1,1,1,1,1,1,0,0,100,0,0,1,1,0,0,1,0,0,0,0,0,0,0,0,0,0,0,0,1.7,1.6,1.29,9.1999999999999998E-2,0.18,1,1,0.2,1.5,1,1,1,1,1,100,1,1,1]
[{"$f":"'Форма 4'!A1768","v":"42."},1,1,1,1,1,1,1,1,1,0,0,100,0,0,1,1,0,0,1,0,0,0,0,0,0,0,0,0,0,0,0,1.7,1.6,1.29,9.1999999999999998E-2,0.18,1,1,0.2,1.5,1,1,1,1,1,100,1,1,1]
[{"$f":"'Форма 4'!A1788","v":"43."},1,1,1,1,1,1,1,1,1,0,0,100,0,0,1,1,0,0,1,0,0,0,0,0,0,0,0,0,0,0,0,1.7,1.6,1.29,9.1999999999999998E-2,0.18,1,1,0.2,1.5,1,1,1,1,1,100,1,1,1]

{"sheet":"Определители","index":5,"n_rows":69,"n_cols":10,"rows_kept":69,"cut":false,"hidden":false,"merged":[[47,1,48,9],[1,0,1,9],[2,1,2,9],[3,1,3,9],[4,0,4,9],[63,1,64,9],[6,1,7,9],[17,1,18,9],[23,1,24,9],[39,1,40,9],[59,1,60,9]]}
[null,"О0","О1","О2","О3","О4","О5","О6","О7","О8"]
[]
[null,"N = < 9 * 13 * 64 >"]
[null,"          Кирова,97 .Собственники"]
[]
[]
[null,"Раздел 1.  Валка деревьев"]
[]
[{"$f":"'Форма 4'!A27","v":"1."},"1","1"," "," ","0"," "," ","2"," "]
[{"$f":"'Форма 4'!A45","v":"2."},"1","1"," "," ","0"," "," ","2"," "]
[{"$f":"'Форма 4'!A63","v":"3."},"1","1"," "," ","0"," "," ","2"," "]
[{"$f":"'Форма 4'!A81","v":"4."},"1","1"," "," ","0"," "," ","2"," "]
[{"$f":"'Форма 4'!A99","v":"5."},"1","1"," "," ","0"," "," ","2"," "]
[{"$f":"'Форма 4'!A117","v":"6."},"1","1"," "," ","0"," "," ","2"," "]
[{"$f":"'Форма 4'!A136","v":"7."},"1","1"," "," ","0","3"," ",";"," "]
[{"$f":"'Форма 4'!A155","v":"8."},"1","1"," "," ","0","3"," ",";"," "]
[]
[null,"Раздел 2.  Разборка бортовых камней и а/бетонного покрытия"]
[]
[{"$f":"'Форма 4'!A334","v":"9."},"1","1"," "," ","0"," "," ","2"," "]
[{"$f":"'Форма 4'!A352","v":"10."},"1","1"," "," ","0","3"," ",";"," "]
[{"$f":"'Форма 4'!A371","v":"11."},"1","1"," "," ","0","3"," ",";"," "]
[]
[null,"Раздел 3.  Устройство новой дорожной одежды на уширениях и парковках"]
[]
[{"$f":"'Форма 4'!A550","v":"12."},"1","1"," "," ","0"," "," ","2"," "]
[{"$f":"'Форма 4'!A569","v":"13."},"1","1"," "," ","0","3"," ",";"," "]
[{"$f":"'Форма 4'!A588","v":"14."},"1","1"," "," ","0","3"," ",";"," "]
[{"$f":"'Форма 4'!A607","v":"15."},"1","1"," "," ","0"," "," ","2"," "]
[{"$f":"'Форма 4'!A626","v":"16."},"1","1"," "," ","0"," "," ","2"," "]
[{"$f":"'Форма 4'!A646","v":"17."},"1","1"," "," ","0"," "," ","2"," "]
[{"$f":"'Форма 4'!A666","v":"18."},"1","1"," "," ","0"," "," ","2"," "]
[{"$f":"'Форма 4'!A685","v":"19."},"1","1"," "," ","0"," "," ","2"," "]
[{"$f":"'Форма 4'!A705","v":"20."},"1","1"," "," ","0"," "," ","2"," "]
[{"$f":"'Форма 4'!A723","v":"21."},"1","1"," "," ","0","1"," ","2","1"]
[{"$f":"'Форма 4'!A742","v":"22."},"1","1"," "," ","0"," "," ","2"," "]
[{"$f":"'Форма 4'!A760","v":"23."},"1","1"," "," ","0"," "," ","2"," "]
[{"$f":"'Форма 4'!A779","v":"24."},"1","1"," "," ","0","1"," ","2","1"]
[]
[null,"Раздел 4.  Установка бортовых камней"]
[]
[{"$f":"'Форма 4'!A959","v":"25."},"1","1"," "," ","0"," "," ","2"," "]
[{"$f":"'Форма 4'!A979","v":"26."},"1","1"," "," ","0"," "," ","2"," "]
[{"$f":"'Форма 4'!A1000","v":"27."},"1","1"," "," ","0"," "," ","2"," "]
[{"$f":"'Форма 4'!A1020","v":"28."},"1","1"," "," ","0"," "," ","2"," "]
[{"$f":"'Форма 4'!A1040","v":"29."},"1","1"," "," ","0"," "," ","2"," "]
[]
[null,"Раздел 5.  Устройство тротуаров"]
[]
[{"$f":"'Форма 4'!A1219","v":"30."},"1","1"," "," ","0"," "," ","2"," "]
[{"$f":"'Форма 4'!A1239","v":"31."},"1","1"," "," ","0"," "," ","2"," "]
[{"$f":"'Форма 4'!A1259","v":"32."},"1","1"," "," ","0"," "," ","2"," "]
[{"$f":"'Форма 4'!A1279","v":"33."},"1","1"," "," ","0"," "," ","2"," "]
[{"$f":"'Форма 4'!A1298","v":"34."},"1","1"," "," ","0"," "," ","2"," "]
[{"$f":"'Форма 4'!A1318","v":"35."},"1","1"," "," ","0"," "," ","2"," "]
[{"$f":"'Форма 4'!A1338","v":"36."},"1","1"," "," ","0"," "," ","2"," "]
[{"$f":"'Форма 4'!A1357","v":"37."},"1","1"," "," ","0"," "," ","2"," "]
[{"$f":"'Форма 4'!A1377","v":"38."},"1","1"," "," ","0","1"," ","2","1"]
[]
[null,"Раздел 6.  Восстановление газонов"]
[]
[{"$f":"'Форма 4'!A1555","v":"39."},"1","1"," "," ","0"," "," ","2"," "]
[]
[null,"Раздел 7.  Наращивание колодцев"]
[]
[{"$f":"'Форма 4'!A1730","v":"40."},"1","1"," "," ","0"," "," ","2"," "]
[{"$f":"'Форма 4'!A1749","v":"41."},"1","1"," "," ","0"," "," ","2"," "]
[{"$f":"'Форма 4'!A1768","v":"42."},"1","1"," "," ","0"," "," ","2"," "]
[{"$f":"'Форма 4'!A1788","v":"43."},"1","1"," "," ","0"," "," ","2"," "]

{"sheet":"Базовые концовки","index":6,"n_rows":1266,"n_cols":14,"rows_kept":1266,"cut":false,"hidden":false,"merged":[[638,1,639,9],[1,0,1,9],[2,1,2,9],[3,1,3,9],[4,0,4,9],[954,1,955,9],[6,1,7,9],[164,1,165,9],[322,1,323,9],[480,1,481,9],[796,1,797,9]]}
[]
[]
[null,"N = < 9 * 13 * 64 >"]
[null,"          Кирова,97 .Собственники"]
[]
[]
[null,"Раздел 1.  Валка деревьев"]
[]
[null,"Наименование","Вид","Значение","ЕИ","Z1","Z2","Z3","Z4","Z5","Z6","Z7","Z8"]
[1,".    ИТОГО  ПО  СМЕТЕ","А",0,null,{"$f":"ROUND(SUM('Базовые цены с учетом расхода'!B9:B16),0)","v":1258},{"$f":"ROUND(SUM('Базовые цены с учетом расхода'!C9:C16),0)","v":581},{"$f":"ROUND(SUM('Базовые цены с учетом расхода'!D9:D16),0)","v":535},{"$f":"ROUND(SUM('Базовые цены с учетом расхода'!E9:E16),0)","v":20},{"$f":"ROUND(SUM('Базовые цены с учетом расхода'!I9:I16),8)","v":57.904989999999998},{"$f":"ROUND(SUM('Базовые цены с учетом расхода'!K9:K16),8)","v":1.44814},{"$f":"ROUND(SUM('Базовые цены с учетом расхода'!F9:F16),0)","v":97}]
[2,"СТОИМОСТЬ ОБОРУДОВАНИЯ -","Б",0,null,{"$f":"ROUND(SUMIF(Определители!I9:I16,\"= \",'Базовые цены с учетом расхода'!B9:B16),0)","v":0},{"$f":"ROUND(SUMIF(Определители!I9:I16,\"= \",'Базовые цены с учетом расхода'!C9:C16),0)","v":0},{"$f":"ROUND(SUMIF(Определители!I9:I16,\"= \",'Базовые цены с учетом расхода'!D9:D16),0)","v":0},{"$f":"ROUND(SUMIF(Определители!I9:I16,\"= \",'Базовые цены с учетом расхода'!E9:E16),0)","v":0},{"$f":"ROUND(SUMIF(Определители!I9:I16,\"= \",'Базовые цены с учетом расхода'!I9:I16),8)","v":0},{"$f":"ROUND(SUMIF(Определители!I9:I16,\"= \",'Базовые цены с учетом расхода'!K9:K16),8)","v":0},{"$f":"ROUND(SUMIF(Определители!I9:I16,\"= \",'Базовые цены с учетом расхода'!F9:F16),0)","v":0}]
[3,".   ЗАПАСНЫЕ ЧАСТИ -","Б",0,null,{"$f":"ROUND(СУММПРОИЗВЕСЛИ(0.01,Определители!I9:I16,\" \",'Базовые цены с учетом расхода'!B9:B16,Начисления!X9:X16,0),0)","v":0}]
[4,".   ТАРА И УПАКОВКА -","Б",0,null,{"$f":"ROUND(СУММПРОИЗВЕСЛИ(0.01,Определители!I9:I16,\" \",'Базовые цены с учетом расхода'!B9:B16,Начисления!Y9:Y16,0),0)","v":0}]
[5,".   ТРАНСПОРТНЫЕ РАСХОДЫ -","Б",0,null,{"$f":"ROUND(ТРАНСПРАСХОД(Определители!B9:B16,Определители!H9:H16,Определители!I9:I16,'Базовые цены с учетом расхода'!B9:B16,Начисления!Z9:Z16,Начисления!AA9:AA16),0)","v":0}]
[6,".   КОМПЛЕКТАЦИЯ -","Б",0,null,{"$f":"ROUND(СУММПРОИЗВЕСЛИ(0.01,Определители!I9:I16,\" \",'Базовые цены с учетом расхода'!B9:B16,Начисления!AC9:AC16,0),0)","v":0}]
[7,".   НАЦЕНКА СНАБА -","Б",0,null,{"$f":"ROUND(СУММПРОИЗВЕСЛИ(0.01,Определители!I9:I16,\" \",'Базовые цены с учетом расхода'!B9:B16,Начисления!AF9:AF16,0),0)","v":0}]
[8,".   ЗАГОТОВИТЕЛЬНО-СКЛАДСКИЕ РАСХОДЫ -","Б",0,null,{"$f":"ROUND(ЗАГОТСКЛАДРАСХОД(Определители!B9:B16,Определители!H9:H16,Определители!I9:I16,'Базовые цены с учетом расхода'!B9:B16,Начисления!X9:X16,Начисления!Y9:Y16,Начисления!Z9:Z16,Начисления!AA9:AA16,Начисления!AB9:AB16,Начисления!AC9:AC16,Начисления!AF9:AF16),0)","v":0}]
[9,". ШЕФМОНТАЖ ПО ОБОРУДОВАНИЮ -","Б",0,null,{"$f":"ROUND(СУММПРОИЗВЕСЛИ(1,Определители!I9:I16,\" \",'Базовые цены с учетом расхода'!M9:M16,Начисления!I9:I16,0),0)","v":0}]
[10,". ШЕФМОНТАЖ -","!",0,null,{"$f":"ROUND((F18+F30+F59),0)","v":0}]
[11,"ВСЕГО, СТОИМОСТЬ ОБОРУДОВАНИЯ -","!",0,null,{"$f":"ROUND((F11+F12+F13+F14+F15+F16+F17+F19),0)","v":0}]
[12,"Оборудование ТЦ","k",1,null,{"$f":"ROUND((F20)*D21,0)","v":0}]
[13,"СТОИМОСТЬ МОНТАЖНЫХ РАБОТ -","Б",0,null,{"$f":"ROUND(SUMIF(Определители!I9:I16,\"=1\",'Базовые цены с учетом расхода'!B9:B16),0)","v":0},{"$f":"ROUND(SUMIF(Определители!I9:I16,\"=1\",'Базовые цены с учетом расхода'!C9:C16),0)","v":0},{"$f":"ROUND(SUMIF(Определители!I9:I16,\"=1\",'Базовые цены с учетом расхода'!D9:D16),0)","v":0},{"$f":"ROUND(SUMIF(Определители!I9:I16,\"=1\",'Базовые цены с учетом расхода'!E9:E16),0)","v":0},{"$f":"ROUND(SUMIF(Определители!I9:I16,\"=1\",'Базовые цены с учетом расхода'!I9:I16),8)","v":0},{"$f":"ROUND(SUMIF(Определители!I9:I16,\"=1\",'Базовые цены с учетом расхода'!K9:K16),8)","v":0},{"$f":"ROUND(SUMIF(Определители!I9:I16,\"=1\",'Базовые цены с учетом расхода'!F9:F16),0)","v":0}]
[14,".     В ТОМ ЧИСЛЕ:","Б",0]
[15,". ОТКЛОНЕНИЕ ПО ЗАРАБОТНОЙ ПЛАТЕ -","Б",0,null,null,{"$f":"ROUND(SUMIF(Определители!I9:I16,\"=1\",'Базовые цены с учетом расхода'!T9:T16),0)","v":0}]
[16,". КОСВЕННЫЕ РАСХОДЫ -","Б",0,null,{"$f":"ROUND(SUMIF(Определители!I9:I16,\"=1\",'Базовые цены с учетом расхода'!U9:U16),0)","v":0}]
[17,". МАТЕРИАЛЬНЫЕ РЕСУРСЫ НЕ УЧТЕННЫЕ В РАСЦЕНКАХ -","Б",0,null,{"$f":"ROUND(СУММЕСЛИ2(Определители!I9:I16,\"1\",Определители!G9:G16,\"1\",'Базовые цены с учетом расхода'!B9:B16),0)","v":0}]
[18,".   СТОИМОСТЬ ВОЗВРАЩАЕМЫХ МАТЕРИАЛОВ -","Б",0,null,{"$f":"ROUND(SUMIF(Определители!I9:I16,\"=1\",'Базовые цены с учетом расхода'!H9:H16),0)","v":0}]
[19,".   НАКЛАДНЫЕ РАСХОДЫ -","Б",0,null,{"$f":"ROUND(SUMIF(Определители!I9:I16,\"=1\",'Базовые цены с учетом расхода'!N9:N16),0)","v":0}]
[20,".   СМЕТНАЯ ПРИБЫЛЬ -","Б",0,null,{"$f":"ROUND(SUMIF(Определители!I9:I16,\"=1\",'Базовые цены с учетом расхода'!O9:O16),0)","v":0}]
[21,". ШЕФМОНТАЖ -","Б",0,null,{"$f":"ROUND(СУММПРОИЗВЕСЛИ(1,Определители!I9:I16,\" \",'Базовые цены с учетом расхода'!M9:M16,Начисления!I9:I16,0),0)","v":0}]
[22,"ВСЕГО, СТОИМОСТЬ МОНТАЖНЫХ РАБОТ -","!",0,null,{"$f":"ROUND((F22+F28+F29),0)","v":0}]
[23,"Монтажные работы БЦ ЭМ","s",0,null,{"$f":"ROUND((H22),0)","v":0}]
[24,"Монтажные работы БЦ ЗПМ","s",0,null,{"$f":"ROUND((I22),0)","v":0}]
[25,"Монтажные работы ТЦ ЗП","k",21.324000000000002,null,{"$f":"ROUND((G22)*D34,0)","v":0}]
[26,"Монтажные работы ТЦ ЗПМ","k",21.324000000000002,null,{"$f":"ROUND((F33)*D35,0)","v":0}]
[27,"Монтажные работы ТЦ ЭМ","k",6.1520000000000001,null,{"$f":"ROUND((F32)*D36,0)","v":0}]
[28,"Монтажные работы ТЦ материалы","k",6.32,null,{"$f":"ROUND((L22)*D37,0)","v":0}]
[29,"Монтажные работы ТЦ НР","k",21.324000000000002,null,{"$f":"ROUND((F28)*D38,0)","v":0}]
[30,"Монтажные работы ТЦ СП","k",21.324000000000002,null,{"$f":"ROUND((F29)*D39,0)","v":0}]
[31,"Монтажные работы ТЦ всего","s",0,null,{"$f":"ROUND((F34+F36+F37+F38+F39),0)","v":0}]
[32,"СТОИМОСТЬ ОБЩЕСТРОИТЕЛЬНЫХ РАБОТ -","Б",0,null,{"$f":"ROUND(SUMIF(Определители!I9:I16,\"=2\",'Базовые цены с учетом расхода'!B9:B16),0)","v":1024},{"$f":"ROUND(SUMIF(Определители!I9:I16,\"=2\",'Базовые цены с учетом расхода'!C9:C16),0)","v":563},{"$f":"ROUND(SUMIF(Определители!I9:I16,\"=2\",'Базовые цены с учетом расхода'!D9:D16),0)","v":364},{"$f":"ROUND(SUMIF(Определители!I9:I16,\"=2\",'Базовые цены с учетом расхода'!E9:E16),0)","v":11},{"$f":"ROUND(SUMIF(Определители!I9:I16,\"=2\",'Базовые цены с учетом расхода'!I9:I16),8)","v":55.936900000000001},{"$f":"ROUND(SUMIF(Определители!I9:I16,\"=2\",'Базовые цены с учетом расхода'!K9:K16),8)","v":0.67179999999999995},{"$f":"ROUND(SUMIF(Определители!I9:I16,\"=2\",'Базовые цены с учетом расхода'!F9:F16),0)","v":97}]
[33,".     В ТОМ ЧИСЛЕ:","Б",0]
[34,".       МАТЕРИАЛОВ -","Б",0,null,{"$f":"ROUND(СУММЕСЛИ2(Определители!I9:I16,\"2\",Определители!G9:G16,\"1\",'Базовые цены с учетом расхода'!B9:B16),0)","v":0}]
[35,".   СТОИМОСТЬ ВОЗВРАЩАЕМЫХ МАТЕРИАЛОВ -","Б",0,null,{"$f":"ROUND(SUMIF(Определители!I9:I16,\"=2\",'Базовые цены с учетом расхода'!H9:H16),0)","v":0}]
[36,".   НАКЛАДНЫЕ РАСХОДЫ -","Б",0,null,{"$f":"ROUND(SUMIF(Определители!I9:I16,\"=2\",'Базовые цены с учетом расхода'!N9:N16),0)","v":594}]
[37,".   СМЕТНАЯ ПРИБЫЛЬ -","Б",0,null,{"$f":"ROUND(SUMIF(Определители!I9:I16,\"=2\",'Базовые цены с учетом расхода'!O9:O16),0)","v":342}]
[38,"ВСЕГО, СТОИМОСТЬ ОБЩЕСТРОИТЕЛЬНЫХ РАБОТ -","!",0,null,{"$f":"ROUND((F41+F45+F46),0)","v":1960}]
[39,"СТОИМОСТЬ МЕТАЛЛОМОНТАЖНЫХ РАБОТ -","Б",0,null,{"$f":"ROUND(SUMIF(Определители!I9:I16,\"=3\",'Базовые цены с учетом расхода'!B9:B16),0)","v":0},{"$f":"ROUND(SUMIF(Определители!I9:I16,\"=3\",'Базовые цены с учетом расхода'!C9:C16),0)","v":0},{"$f":"ROUND(SUMIF(Определители!I9:I16,\"=3\",'Базовые цены с учетом расхода'!D9:D16),0)","v":0},{"$f":"ROUND(SUMIF(Определители!I9:I16,\"=3\",'Базовые цены с учетом расхода'!E9:E16),0)","v":0},{"$f":"ROUND(SUMIF(Определители!I9:I16,\"=3\",'Базовые цены с учетом расхода'!I9:I16),8)","v":0},{"$f":"ROUND(SUMIF(Определители!I9:I16,\"=3\",'Базовые цены с учетом расхода'!K9:K16),8)","v":0},{"$f":"ROUND(SUMIF(Определители!I9:I16,\"=3\",'Базовые цены с учетом расхода'!F9:F16),0)","v":0}]
[40,".   СТОИМОСТЬ ВОЗВРАЩАЕМЫХ МАТЕРИАЛОВ -","Б",0,null,{"$f":"ROUND(SUMIF(Определители!I9:I16,\"=3\",'Базовые цены с учетом расхода'!H9:H16),0)","v":0}]
[41,".   НАКЛАДНЫЕ РАСХОДЫ -","Б",0,null,{"$f":"ROUND(SUMIF(Определители!I9:I16,\"=3\",'Базовые цены с учетом расхода'!N9:N16),0)","v":0}]
[42,".   СМЕТНАЯ ПРИБЫЛЬ -","Б",0,null,{"$f":"ROUND(SUMIF(Определители!I9:I16,\"=3\",'Базовые цены с учетом расхода'!O9:O16),0)","v":0}]
[43,"ВСЕГО, СТОИМОСТЬ МЕТАЛЛОМОНТАЖНЫХ РАБОТ -","!",0,null,{"$f":"ROUND((F48+F50+F51),0)","v":0}]
[44,"СТОИМОСТЬ САНТЕХНИЧЕСКИХ РАБОТ -","Б",0,null,{"$f":"ROUND(SUMIF(Определители!I9:I16,\"=4\",'Базовые цены с учетом расхода'!B9:B16),0)","v":0},{"$f":"ROUND(SUMIF(Определители!I9:I16,\"=4\",'Базовые цены с учетом расхода'!C9:C16),0)","v":0},{"$f":"ROUND(SUMIF(Определители!I9:I16,\"=4\",'Базовые цены с учетом расхода'!D9:D16),0)","v":0},{"$f":"ROUND(SUMIF(Определители!I9:I16,\"=4\",'Базовые цены с учетом расхода'!E9:E16),0)","v":0},{"$f":"ROUND(SUMIF(Определители!I9:I16,\"=4\",'Базовые цены с учетом расхода'!I9:I16),8)","v":0},{"$f":"ROUND(SUMIF(Определители!I9:I16,\"=4\",'Базовые цены с учетом расхода'!K9:K16),8)","v":0},{"$f":"ROUND(SUMIF(Определители!I9:I16,\"=4\",'Базовые цены с учетом расхода'!F9:F16),0)","v":0}]
[45,".     В ТОМ ЧИСЛЕ:","Б",0]
[46,". СДАЧА И ИСПЫТАНИЕ -","Б",0,null,{"$f":"ROUND(SUMIF(Определители!I9:I16,\"=4\",'Базовые цены с учетом расхода'!AJ9:AJ16),0)","v":0},{"$f":"ROUND(SUMIF(Определители!I9:I16,\"=4\",'Базовые цены с учетом расхода'!AI9:AI16),0)","v":0},{"$f":"ROUND(SUMIF(Определители!I9:I16,\"=4\",'Базовые цены с учетом расхода'!AH9:AH16),0)","v":0},{"$f":"ROUND(SUMIF(Определители!I9:I16,\"=4\",'Базовые цены с учетом расхода'!V9:V16),0)","v":0}]
[47,".   СТОИМОСТЬ ВОЗВРАЩАЕМЫХ МАТЕРИАЛОВ -","Б",0,null,{"$f":"ROUND(SUMIF(Определители!I9:I16,\"=4\",'Базовые цены с учетом расхода'!H9:H16),0)","v":0}]
[48,".   НАКЛАДНЫЕ РАСХОДЫ -","Б",0,null,{"$f":"ROUND(SUMIF(Определители!I9:I16,\"=4\",'Базовые цены с учетом расхода'!N9:N16),0)","v":0}]
[49,".   СМЕТНАЯ ПРИБЫЛЬ -","Б",0,null,{"$f":"ROUND(SUMIF(Определители!I9:I16,\"=4\",'Базовые цены с учетом расхода'!O9:O16),0)","v":0}]
[50,". ШЕФМОНТАЖ -","Б",0,null,{"$f":"ROUND(СУММПРОИЗВЕСЛИ(1,Определители!I9:I16,\" \",'Базовые цены с учетом расхода'!M9:M16,Начисления!I9:I16,0),0)","v":0}]
[51,"ВСЕГО, СТОИМОСТЬ САНТЕХНИЧЕСКИХ РАБОТ -","!",0,null,{"$f":"ROUND((F53+F57+F58),0)","v":0}]
[52,"СТОИМОСТЬ БУРО-ВЗРЫВНЫХ РАБОТ -","Б",0,null,{"$f":"ROUND(SUMIF(Определители!I9:I16,\"=5\",'Базовые цены с учетом расхода'!B9:B16),0)","v":0},{"$f":"ROUND(SUMIF(Определители!I9:I16,\"=5\",'Базовые цены с учетом расхода'!C9:C16),0)","v":0},{"$f":"ROUND(SUMIF(Определители!I9:I16,\"=5\",'Базовые цены с учетом расхода'!D9:D16),0)","v":0},{"$f":"ROUND(SUMIF(Определители!I9:I16,\"=5\",'Базовые цены с учетом расхода'!E9:E16),0)","v":0},{"$f":"ROUND(SUMIF(Определители!I9:I16,\"=5\",'Базовые цены с учетом расхода'!I9:I16),8)","v":0},{"$f":"ROUND(SUMIF(Определители!I9:I16,\"=5\",'Базовые цены с учетом расхода'!K9:K16),8)","v":0},{"$f":"ROUND(SUMIF(Определители!I9:I16,\"=5\",'Базовые цены с учетом расхода'!F9:F16),0)","v":0}]
[53,".   СТОИМОСТЬ ВОЗВРАЩАЕМЫХ МАТЕРИАЛОВ -","Б",0,null,{"$f":"ROUND(SUMIF(Определители!I9:I16,\"=5\",'Базовые цены с учетом расхода'!H9:H16),0)","v":0}]
[54,".   НАКЛАДНЫЕ РАСХОДЫ -","Б",0,null,{"$f":"ROUND(SUMIF(Определители!I9:I16,\"=5\",'Базовые цены с учетом расхода'!N9:N16),0)","v":0}]
[55,".   СМЕТНАЯ ПРИБЫЛЬ -","Б",0,null,{"$f":"ROUND(SUMIF(Определители!I9:I16,\"=5\",'Базовые цены с учетом расхода'!O9:O16),0)","v":0}]
[56,"ВСЕГО, СТОИМОСТЬ БУРО-ВЗРЫВНЫХ РАБОТ -","!",0,null,{"$f":"ROUND((F61+F63+F64),0)","v":0}]
[57,"СТОИМОСТЬ ГОРНОПРОХОДЧЕСКИХ РАБОТ -","Б",0,null,{"$f":"ROUND(SUMIF(Определители!I9:I16,\"=6\",'Базовые цены с учетом расхода'!B9:B16),0)","v":0},{"$f":"ROUND(SUMIF(Определители!I9:I16,\"=6\",'Базовые цены с учетом расхода'!C9:C16),0)","v":0},{"$f":"ROUND(SUMIF(Определители!I9:I16,\"=6\",'Базовые цены с учетом расхода'!D9:D16),0)","v":0},{"$f":"ROUND(SUMIF(Определители!I9:I16,\"=6\",'Базовые цены с учетом расхода'!E9:E16),0)","v":0},{"$f":"ROUND(SUMIF(Определители!I9:I16,\"=6\",'Базовые цены с учетом расхода'!I9:I16),8)","v":0},{"$f":"ROUND(SUMIF(Определители!I9:I16,\"=6\",'Базовые цены с учетом расхода'!K9:K16),8)","v":0},{"$f":"ROUND(SUMIF(Определители!I9:I16,\"=6\",'Базовые цены с учетом расхода'!F9:F16),0)","v":0}]
[58,".   СТОИМОСТЬ ВОЗВРАЩАЕМЫХ МАТЕРИАЛОВ -","Б",0,null,{"$f":"ROUND(SUMIF(Определители!I9:I16,\"=6\",'Базовые цены с учетом расхода'!H9:H16),0)","v":0}]
[59,".   НАКЛАДНЫЕ РАСХОДЫ -","Б",0,null,{"$f":"ROUND(SUMIF(Определители!I9:I16,\"=6\",'Базовые цены с учетом расхода'!N9:N16),0)","v":0}]
[60,".   СМЕТНАЯ ПРИБЫЛЬ -","Б",0,null,{"$f":"ROUND(SUMIF(Определители!I9:I16,\"=6\",'Базовые цены с учетом расхода'!O9:O16),0)","v":0}]
[61,"ВСЕГО, СТОИМОСТЬ ГОРНОПРОХОДЧЕСКИХ РАБОТ -","!",0,null,{"$f":"ROUND((F66+F68+F69),0)","v":0}]
[62,"СТОИМОСТЬ РЕСТАВРАЦИОННЫХ РАБОТ -","Б",0,null,{"$f":"ROUND(SUMIF(Определители!I9:I16,\"=7\",'Базовые цены с учетом расхода'!B9:B16),0)","v":0},{"$f":"ROUND(SUMIF(Определители!I9:I16,\"=7\",'Базовые цены с учетом расхода'!C9:C16),0)","v":0},{"$f":"ROUND(SUMIF(Определители!I9:I16,\"=7\",'Базовые цены с учетом расхода'!D9:D16),0)","v":0},{"$f":"ROUND(SUMIF(Определители!I9:I16,\"=7\",'Базовые цены с учетом расхода'!E9:E16),0)","v":0},{"$f":"ROUND(SUMIF(Определители!I9:I16,\"=7\",'Базовые цены с учетом расхода'!I9:I16),8)","v":0},{"$f":"ROUND(SUMIF(Определители!I9:I16,\"=7\",'Базовые цены с учетом расхода'!K9:K16),8)","v":0},{"$f":"ROUND(SUMIF(Определители!I9:I16,\"=7\",'Базовые цены с учетом расхода'!F9:F16),0)","v":0}]
[63,".     В ТОМ ЧИСЛЕ:","Б",0]
[64,". МАТЕРИАЛЫ -","Б",0,null,{"$f":"ROUND(СУММЕСЛИ2(Определители!I9:I16,\"2\",Определители!G9:G16,\"1\",'Базовые цены с учетом расхода'!B9:B16),0)","v":0}]
[65,".   СТОИМОСТЬ ВОЗВРАЩАЕМЫХ МАТЕРИАЛОВ -","Б",0,null,{"$f":"ROUND(SUMIF(Определители!I9:I16,\"=7\",'Базовые цены с учетом расхода'!H9:H16),0)","v":0}]
[66,".   НАКЛАДНЫЕ РАСХОДЫ -","Б",0,null,{"$f":"ROUND(SUMIF(Определители!I9:I16,\"=7\",'Базовые цены с учетом расхода'!N9:N16),0)","v":0}]
[67,".   СМЕТНАЯ ПРИБЫЛЬ -","Б",0,null,{"$f":"ROUND(SUMIF(Определители!I9:I16,\"=7\",'Базовые цены с учетом расхода'!O9:O16),0)","v":0}]
[68,"ВСЕГО, СТОИМОСТЬ РЕСТАВРАЦИОННЫХ РАБОТ -","!",0,null,{"$f":"ROUND((F71+F75+F76),0)","v":0}]
[69,"Строительные работы БЦ ЭМ","s",0,null,{"$f":"ROUND((H41+H48+H53+H61+H66+H71),0)","v":364}]
[70,"Строительные работы БЦ ЗПМ","s",0,null,{"$f":"ROUND((I41+I48+I53+I61+I66+I71),0)","v":11}]
[71,"Строительные работы ТЦ ЗП","k",21.324000000000002,null,{"$f":"ROUND((G41+G48+G53+G61+G66+G71)*D80,0)","v":12005}]
[72,"Строительные работы ТЦ ЗПМ","k",21.324000000000002,null,{"$f":"ROUND((F79)*D81,0)","v":235}]
[73,"Строительные работы ТЦ ЭМ","k",6.1520000000000001,null,{"$f":"ROUND((F78)*D82,0)","v":2239}]
[74,"Строительные работы ТЦ материалы","k",6.32,null,{"$f":"ROUND((L41+L48+L53+L61+L66+L71)*D83,0)","v":613}]
[75,"Строительные работы ТЦ НР","k",21.324000000000002,null,{"$f":"ROUND((F45+F50+F57+F63+F68+F75)*D84,0)","v":12666}]
[76,"Строительные работы ТЦ СП","k",21.324000000000002,null,{"$f":"ROUND((F46+F51+F58+F64+F69+F76)*D85,0)","v":7293}]
[77,"Строительные работы ТЦ всего","s",0,null,{"$f":"ROUND((F80+F82+F83+F84+F85),0)","v":34816}]
[78,"СТОИМОСТЬ ПЕРЕВОЗКИ ГРУЗОВ -","Б",0,null,{"$f":"ROUND(SUMIF(Определители!I9:I16,\"=;\",'Базовые цены с учетом расхода'!B9:B16),0)","v":234},{"$f":"ROUND(SUMIF(Определители!I9:I16,\"=;\",'Базовые цены с учетом расхода'!C9:C16),0)","v":18},{"$f":"ROUND(SUMIF(Определители!I9:I16,\"=;\",'Базовые цены с учетом расхода'!D9:D16),0)","v":171},{"$f":"ROUND(SUMIF(Определители!I9:I16,\"=;\",'Базовые цены с учетом расхода'!E9:E16),0)","v":9},{"$f":"ROUND(SUMIF(Определители!I9:I16,\"=;\",'Базовые цены с учетом расхода'!I9:I16),8)","v":1.9680899999999999},{"$f":"ROUND(SUMIF(Определители!I9:I16,\"=;\",'Базовые цены с учетом расхода'!K9:K16),8)","v":0.77634000000000003},{"$f":"ROUND(SUMIF(Определители!I9:I16,\"=;\",'Базовые цены с учетом расхода'!F9:F16),0)","v":0}]
[79,"СТОИМОСТЬ ПОГРУЗКИ-РАЗГРУЗКИ","m",0,null,{"$f":"ROUND((F87-F106-F107-F108),0)","v":129},{"$f":"ROUND((G87-G106-G107-G108),0)","v":18},{"$f":"ROUND((H87-H106-H107-H108),0)","v":66},{"$f":"ROUND((I87-I106-I107-I108),0)","v":9},{"$f":"ROUND((J87-J106-J107-J108),8)","v":1.9680899999999999},{"$f":"ROUND((K87-K106-K107-K108),8)","v":0.77634000000000003},{"$f":"ROUND((L87-L106-L107-L108),0)","v":0}]
[80,".   В Т.Ч. НАКЛАДНЫЕ РАСХОДЫ -","Б",0,null,{"$f":"ROUND(SUMIF(Определители!I9:I16,\"=;\",'Базовые цены с учетом расхода'!AF9:AF16),0)","v":28}]
[81,".   В Т.Ч. СМЕТНАЯ ПРИБЫЛЬ -","Б",0,null,{"$f":"ROUND(SUMIF(Определители!I9:I16,\"=;\",'Базовые цены с учетом расхода'!AG9:AG16),0)","v":17}]
[82,".   НАКЛАДНЫЕ РАСХОДЫ -","Б",0,null,{"$f":"ROUND(SUMIF(Определители!I9:I16,\"=;\",'Базовые цены с учетом расхода'!N9:N16),0)","v":0}]
[83,".   СМЕТНАЯ ПРИБЫЛЬ -","Б",0,null,{"$f":"ROUND(SUMIF(Определители!I9:I16,\"=;\",'Базовые цены с учетом расхода'!O9:O16),0)","v":0}]
[84,"ВСЕГО, СТОИМОСТЬ ПЕРЕВОЗКИ ГРУЗОВ -","!",0,null,{"$f":"ROUND((F87+F91+F92),0)","v":234}]
[85,"ВСЕГО, СТОИМОСТЬ ПОГРУЗКИ-РАЗГРУЗКИ -","s",0,null,{"$f":"ROUND((F88+F91+F92),0)","v":129}]
[86,"Погрузка-разгрузка БЦ ЭМ","s",0,null,{"$f":"ROUND((H88),0)","v":66}]
[87,"Погрузка-разгрузка БЦ ЗПМ","s",0,null,{"$f":"ROUND((I88),0)","v":9}]
[88,"Погрузка-разгрузка ТЦ ЗП","k",21.324000000000002,null,{"$f":"ROUND((G88)*D97,0)","v":384}]
[89,"Погрузка-разгрузка ТЦ ЗПМ","k",21.324000000000002,null,{"$f":"ROUND((I88)*D98,0)","v":192}]
[90,"Погрузка-разгрузка ТЦ ЭМ","k",6.1520000000000001,null,{"$f":"ROUND((F95)*D99,0)","v":406}]
[91,"Погрузка-разгрузка ТЦ материалы","k",6.32,null,{"$f":"ROUND((L87)*D100,0)","v":0}]
[92,"Погрузка-разгрузка ТЦ в т.ч. НР","k",21.324000000000002,null,{"$f":"ROUND((F89)*D101,0)","v":597}]
[93,"Погрузка-разгрузка ТЦ в т.ч. СП","k",21.324000000000002,null,{"$f":"ROUND((F90)*D102,0)","v":363}]
[94,"Погрузка-разгрузка ТЦ НР","k",21.324000000000002,null,{"$f":"ROUND((F91)*D103,0)","v":0}]
[95,"Погрузка-разгрузка ТЦ СП","k",21.324000000000002,null,{"$f":"ROUND((F92)*D104,0)","v":0}]
[96,"Погрузка-разгрузка ТЦ всего","s",0,null,{"$f":"ROUND((F97+F99+F100+F103+F104+F101+F102),0)","v":1750}]
[97,"ПЕРЕВОЗКА (таб.6)","f",0]
[98,"ПЕРЕВОЗКА (таб.7)","f",0]
[99,"ПЕРЕВОЗКА (таб.8)","f",0,null,105,null,105]
[100,"Перевозка (таб.6) ТЦ","k",1,null,{"$f":"ROUND((F106)*D109,0)","v":0}]
[101,"Перевозка (таб.7) ТЦ","k",1,null,{"$f":"ROUND((F107)*D110,0)","v":0}]
[102,"Перевозка (таб.8) ТЦ","k",10.144,null,{"$f":"ROUND((F108)*D111,0)","v":1065}]
[103,"Перевозка ТЦ  всего","s",0,null,{"$f":"ROUND((F109+F110+F111),0)","v":1065}]
[104,"СТОИМОСТЬ ПУСКОНАЛАДОЧНЫХ РАБОТ -","Б",0,null,{"$f":"ROUND(SUMIF(Определители!I9:I16,\"=9\",'Базовые цены с учетом расхода'!B9:B16),0)","v":0},{"$f":"ROUND(SUMIF(Определители!I9:I16,\"=9\",'Базовые цены с учетом расхода'!C9:C16),0)","v":0},{"$f":"ROUND(SUMIF(Определители!I9:I16,\"=9\",'Базовые цены с учетом расхода'!D9:D16),0)","v":0},{"$f":"ROUND(SUMIF(Определители!I9:I16,\"=9\",'Базовые цены с учетом расхода'!E9:E16),0)","v":0},{"$f":"ROUND(SUMIF(Определители!I9:I16,\"=9\",'Базовые цены с учетом расхода'!I9:I16),8)","v":0},{"$f":"ROUND(SUMIF(Определители!I9:I16,\"=9\",'Базовые цены с учетом расхода'!K9:K16),8)","v":0},{"$f":"ROUND(SUMIF(Определители!I9:I16,\"=9\",'Базовые цены с учетом расхода'!F9:F16),0)","v":0}]
[105,".   НАКЛАДНЫЕ РАСХОДЫ -","Б",0,null,{"$f":"ROUND(SUMIF(Определители!I9:I16,\"=9\",'Базовые цены с учетом расхода'!N9:N16),0)","v":0}]
[106,".   СМЕТНАЯ ПРИБЫЛЬ -","Б",0,null,{"$f":"ROUND(SUMIF(Определители!I9:I16,\"=9\",'Базовые цены с учетом расхода'!O9:O16),0)","v":0}]
[107,"ВСЕГО, СТОИМОСТЬ ПУСКОНАЛАДОЧНЫХ РАБОТ -","!",0,null,{"$f":"ROUND((F113+F114+F115),0)","v":0}]
[108,"Пусконаладочные работы ТЦ ЗП","k",1,null,{"$f":"ROUND((G113)*D117,0)","v":0}]
[109,"Пусконаладочные работы ТЦ НР","k",1,null,{"$f":"ROUND((F114)*D118,0)","v":0}]
[110,"Пусконаладочные работы ТЦ СП","k",1,null,{"$f":"ROUND((F115)*D119,0)","v":0}]
[111,"Пусконаладочные работы ТЦ всего","s",0,null,{"$f":"ROUND((F117+F118+F119),0)","v":0}]
[112,"СТОИМОСТЬ ПРОЧИХ РАБОТ (с НР и СП) -","Б",0,null,{"$f":"ROUND(SUMIF(Определители!I9:I16,\"=:\",'Базовые цены с учетом расхода'!B9:B16),0)","v":0},{"$f":"ROUND(SUMIF(Определители!I9:I16,\"=:\",'Базовые цены с учетом расхода'!C9:C16),0)","v":0},{"$f":"ROUND(SUMIF(Определители!I9:I16,\"=:\",'Базовые цены с учетом расхода'!D9:D16),0)","v":0},{"$f":"ROUND(SUMIF(Определители!I9:I16,\"=:\",'Базовые цены с учетом расхода'!E9:E16),0)","v":0},{"$f":"ROUND(SUMIF(Определители!I9:I16,\"=:\",'Базовые цены с учетом расхода'!I9:I16),8)","v":0},{"$f":"ROUND(SUMIF(Определители!I9:I16,\"=:\",'Базовые цены с учетом расхода'!K9:K16),8)","v":0},{"$f":"ROUND(SUMIF(Определители!I9:I16,\"=:\",'Базовые цены с учетом расхода'!F9:F16),0)","v":0}]
[113,".   СТОИМОСТЬ ВОЗВРАЩАЕМЫХ МАТЕРИАЛОВ -","Б",0,null,{"$f":"ROUND(SUMIF(Определители!I9:I16,\"=:\",'Базовые цены с учетом расхода'!H9:H16),0)","v":0}]
[114,".   НАКЛАДНЫЕ РАСХОДЫ -","Б",0,null,{"$f":"ROUND(SUMIF(Определители!I9:I16,\"=:\",'Базовые цены с учетом расхода'!N9:N16),0)","v":0}]
[115,".   СМЕТНАЯ ПРИБЫЛЬ -","Б",0,null,{"$f":"ROUND(SUMIF(Определители!I9:I16,\"=:\",'Базовые цены с учетом расхода'!O9:O16),0)","v":0}]
[116,"ВСЕГО, СТОИМОСТЬ ПРОЧИХ РАБОТ (с НР и СП) -","!",0,null,{"$f":"ROUND((F121+F123+F124),0)","v":0}]
[117,"ВСЕГО, СТОИМОСТЬ ПРОЧИХ РАБОТ (без НР и СП) -","Б",0,null,{"$f":"ROUND(SUMIF(Определители!I9:I16,\"=8\",'Базовые цены с учетом расхода'!B9:B16),0)","v":0},{"$f":"ROUND(SUMIF(Определители!I9:I16,\"=8\",'Базовые цены с учетом расхода'!C9:C16),0)","v":0},{"$f":"ROUND(SUMIF(Определители!I9:I16,\"=8\",'Базовые цены с учетом расхода'!D9:D16),0)","v":0},{"$f":"ROUND(SUMIF(Определители!I9:I16,\"=8\",'Базовые цены с учетом расхода'!E9:E16),0)","v":0},{"$f":"ROUND(SUMIF(Определители!I9:I16,\"=8\",'Базовые цены с учетом расхода'!I9:I16),8)","v":0},{"$f":"ROUND(SUMIF(Определители!I9:I16,\"=8\",'Базовые цены с учетом расхода'!K9:K16),8)","v":0},{"$f":"ROUND(SUMIF(Определители!I9:I16,\"=8\",'Базовые цены с учетом расхода'!F9:F16),0)","v":0}]
[118,".   СТОИМОСТЬ ВОЗВРАЩАЕМЫХ МАТЕРИАЛОВ -","Б",0,null,{"$f":"ROUND(SUMIF(Определители!I9:I16,\"=8\",'Базовые цены с учетом расхода'!H9:H16),0)","v":0}]
[119,"Прочие работы БЦ ЭМ","s",0,null,{"$f":"ROUND((H121+H126),0)","v":0}]
[120,"Прочие работы БЦ ЗПМ","s",0,null,{"$f":"ROUND((I121+I126),0)","v":0}]
[121,"Прочие работы ТЦ ЗП","k",1,null,{"$f":"ROUND((G121+G126)*D130,0)","v":0}]
[122,"Прочие работы ТЦ ЗПМ","k",1,null,{"$f":"ROUND((F129)*D131,0)","v":0}]
[123,"Прочие работы ТЦ ЭМ","k",1,null,{"$f":"ROUND((F128)*D132,0)","v":0}]
[124,"Прочие работы ТЦ материалы","k",1,null,{"$f":"ROUND((L121+L126)*D133,0)","v":0}]
[125,"Прочие работы ТЦ НР","k",1,null,{"$f":"ROUND((F123)*D134,0)","v":0}]
[126,"Прочие работы ТЦ СП","k",1,null,{"$f":"ROUND((F124)*D135,0)","v":0}]
[127,"Прочие работы ТЦ всего","s",0,null,{"$f":"ROUND((F130+F132+F133+F134+F135),0)","v":0}]
[128,". ВСЕГО  ПО  СМЕТЕ","!",0,null,{"$f":"ROUND((F20+F31+F47+F52+F60+F65+F70+F77+F93+F116+F125+F126),0)","v":2194},{"$f":"ROUND((G20+G31+G47+G52+G60+G65+G70+G77+G93+G116+G125+G126),0)","v":0},{"$f":"ROUND((H20+H31+H47+H52+H60+H65+H70+H77+H93+H116+H125+H126),0)","v":0},{"$f":"ROUND((I20+I31+I47+I52+I60+I65+I70+I77+I93+I116+I125+I126),0)","v":0},{"$f":"ROUND((J20+J31+J47+J52+J60+J65+J70+J77+J93+J116+J125+J126),8)","v":0},{"$f":"ROUND((K20+K31+K47+K52+K60+K65+K70+K77+K93+K116+K125+K126),8)","v":0},{"$f":"ROUND((L20+L31+L47+L52+L60+L65+L70+L77+L93+L116+L125+L126),0)","v":0}]
[129,"ВСЕГО СТОИМОСТЬ ВОЗВРАЩАЕМЫХ МАТЕРИАЛОВ -","!",0,null,{"$f":"ROUND((F27+F44+F49+F56+F62+F67+F74+F122+F127),0)","v":0}]
[130,"ВСЕГО НАКЛАДНЫЕ РАСХОДЫ","!",0,null,{"$f":"ROUND((F28+F45+F50+F57+F63+F68+F75+F91+F114+F123),0)","v":594}]
[131,"ВСЕГО НАКЛАДНЫЕ РАСХОДЫ","s",0,null,{"$f":"ROUND((F139+F89),0)","v":622}]
[132,"ВСЕГО СМЕТНАЯ ПРИБЫЛЬ","!",0,null,{"$f":"ROUND((F29+F46+F51+F58+F64+F69+F76+F92+F115+F124),0)","v":342}]
[133,"ВСЕГО СМЕТНАЯ ПРИБЫЛЬ","s",0,null,{"$f":"ROUND((F141+F90),0)","v":359}]
[134,"в т.ч. Вспомогательные материалы на монтаж","h",0,null,{"$f":"ROUND(SUM('Базовые цены с учетом расхода'!X9:X16),0)","v":0},null,null,null,null,null,{"$f":"ROUND(SUM('Базовые цены с учетом расхода'!X9:X16),0)","v":0}]
[135,"в т.ч. Вспомогательные материалы от ОЗП","h",0,null,{"$f":"ROUND(SUM('Базовые цены с учетом расхода'!AE9:AE16),0)","v":0}]
[136,"Оплата основных рабочих","h",0,null,{"$f":"ROUND(SUM('Базовые цены с учетом расхода'!C9:C16),0)","v":581}]
[137,"Оплата механизаторов","h",0,null,{"$f":"ROUND(SUM('Базовые цены с учетом расхода'!E9:E16),0)","v":20}]
[138,"Стоимость механизмов","h",0,null,{"$f":"ROUND(SUM('Базовые цены с учетом расхода'!D9:D16),0)","v":535}]
[139,"Сметная стоимость материалов","h",0,null,{"$f":"ROUND(SUM('Базовые цены с учетом расхода'!F9:F16),0)","v":97},null,null,null,null,null,{"$f":"ROUND(SUM('Базовые цены с учетом расхода'!F9:F16),0)","v":97}]
[140,"Трудозатраты осн. рабочих","h",0,null,null,null,null,null,{"$f":"ROUND(SUM('Базовые цены с учетом расхода'!I9:I16),8)","v":57.904989999999998}]
[141,"Трудозатраты механизаторов","h",0,null,null,null,null,null,{"$f":"ROUND(SUM('Базовые цены с учетом расхода'!K9:K16),8)","v":1.44814}]
[142,"Нормативная трудоемкость","s",0,null,null,null,null,null,{"$f":"ROUND((J149+J150),8)","v":59.35313}]
[143,"Оплата основных рабочих ТЦ","s",0,null,{"$f":"ROUND((F34+F80+F97+F130+F117),0)","v":12389}]
[144,"Оплата механизаторов ТЦ","s",0,null,{"$f":"ROUND((F35+F81+F98+F131),0)","v":427}]
[145,"Стоимость механизмов ТЦ","s",0,null,{"$f":"ROUND((F36+F82+F99+F132),0)","v":2645}]
[146,"Стоимость материалов ТЦ","s",0,null,{"$f":"ROUND((F37+F83+F100+F133),0)","v":613}]
[147,"Оборудование ТЦ","s",0,null,{"$f":"ROUND((F21),0)","v":0}]
[148,"Перевозка ТЦ","s",0,null,{"$f":"ROUND((F112),0)","v":1065}]
[149,"ИТОГО ТЦ","s",0,null,{"$f":"ROUND((F152+F154+F155+F156+F157),0)","v":16712}]
[150,"В Т.Ч. НАКЛАДНЫЕ РАСХОДЫ ТЦ","s",0,null,{"$f":"ROUND((F101),0)","v":597}]
[151,"В Т.Ч. СМЕТНАЯ ПРИБЫЛЬ ТЦ","s",0,null,{"$f":"ROUND((F102),0)","v":363}]
[152,"НАКЛАДНЫЕ РАСХОДЫ ТЦ","s",0,null,{"$f":"ROUND((F38+F84+F103+F118+F134+F101),0)","v":13263}]
[153,"СМЕТНАЯ ПРИБЫЛЬ ТЦ","s",0,null,{"$f":"ROUND((F39+F85+F104+F135+F119+F102),0)","v":7656}]
[154,"ВСЕГО ТЦ","s",0,null,{"$f":"ROUND((F158+F161+F162),0)","v":37631}]
[]
[null,"Раздел 2.  Разборка бортовых камней и а/бетонного покрытия"]
[]
[null,"Наименование","Вид","Значение","ЕИ","Z1","Z2","Z3","Z4","Z5","Z6","Z7","Z8"]
[1,".    ИТОГО  ПО  СМЕТЕ","А",0,null,{"$f":"ROUND(SUM('Базовые цены с учетом расхода'!B20:B22),0)","v":2525},{"$f":"ROUND(SUM('Базовые цены с учетом расхода'!C20:C22),0)","v":1154},{"$f":"ROUND(SUM('Базовые цены с учетом расхода'!D20:D22),0)","v":1301},{"$f":"ROUND(SUM('Базовые цены с учетом расхода'!E20:E22),0)","v":180},{"$f":"ROUND(SUM('Базовые цены с учетом расхода'!I20:I22),8)","v":115.7205},{"$f":"ROUND(SUM('Базовые цены с учетом расхода'!K20:K22),8)","v":14.915800000000001},{"$f":"ROUND(SUM('Базовые цены с учетом расхода'!F20:F22),0)","v":0}]
[2,"СТОИМОСТЬ ОБОРУДОВАНИЯ -","Б",0,null,{"$f":"ROUND(SUMIF(Определители!I20:I22,\"= \",'Базовые цены с учетом расхода'!B20:B22),0)","v":0},{"$f":"ROUND(SUMIF(Определители!I20:I22,\"= \",'Базовые цены с учетом расхода'!C20:C22),0)","v":0},{"$f":"ROUND(SUMIF(Определители!I20:I22,\"= \",'Базовые цены с учетом расхода'!D20:D22),0)","v":0},{"$f":"ROUND(SUMIF(Определители!I20:I22,\"= \",'Базовые цены с учетом расхода'!E20:E22),0)","v":0},{"$f":"ROUND(SUMIF(Определители!I20:I22,\"= \",'Базовые цены с учетом расхода'!I20:I22),8)","v":0},{"$f":"ROUND(SUMIF(Определители!I20:I22,\"= \",'Базовые цены с учетом расхода'!K20:K22),8)","v":0},{"$f":"ROUND(SUMIF(Определители!I20:I22,\"= \",'Базовые цены с учетом расхода'!F20:F22),0)","v":0}]
[3,".   ЗАПАСНЫЕ ЧАСТИ -","Б",0,null,{"$f":"ROUND(СУММПРОИЗВЕСЛИ(0.01,Определители!I20:I22,\" \",'Базовые цены с учетом расхода'!B20:B22,Начисления!X20:X22,0),0)","v":0}]
[4,".   ТАРА И УПАКОВКА -","Б",0,null,{"$f":"ROUND(СУММПРОИЗВЕСЛИ(0.01,Определители!I20:I22,\" \",'Базовые цены с учетом расхода'!B20:B22,Начисления!Y20:Y22,0),0)","v":0}]
[5,".   ТРАНСПОРТНЫЕ РАСХОДЫ -","Б",0,null,{"$f":"ROUND(ТРАНСПРАСХОД(Определители!B20:B22,Определители!H20:H22,Определители!I20:I22,'Базовые цены с учетом расхода'!B20:B22,Начисления!Z20:Z22,Начисления!AA20:AA22),0)","v":0}]
[6,".   КОМПЛЕКТАЦИЯ -","Б",0,null,{"$f":"ROUND(СУММПРОИЗВЕСЛИ(0.01,Определители!I20:I22,\" \",'Базовые цены с учетом расхода'!B20:B22,Начисления!AC20:AC22,0),0)","v":0}]
[7,".   НАЦЕНКА СНАБА -","Б",0,null,{"$f":"ROUND(СУММПРОИЗВЕСЛИ(0.01,Определители!I20:I22,\" \",'Базовые цены с учетом расхода'!B20:B22,Начисления!AF20:AF22,0),0)","v":0}]
[8,".   ЗАГОТОВИТЕЛЬНО-СКЛАДСКИЕ РАСХОДЫ -","Б",0,null,{"$f":"ROUND(ЗАГОТСКЛАДРАСХОД(Определители!B20:B22,Определители!H20:H22,Определители!I20:I22,'Базовые цены с учетом расхода'!B20:B22,Начисления!X20:X22,Начисления!Y20:Y22,Начисления!Z20:Z22,Начисления!AA20:AA22,Начисления!AB20:AB22,Начисления!AC20:AC22,Начисления!AF20:AF22),0)","v":0}]
[9,". ШЕФМОНТАЖ ПО ОБОРУДОВАНИЮ -","Б",0,null,{"$f":"ROUND(СУММПРОИЗВЕСЛИ(1,Определители!I20:I22,\" \",'Базовые цены с учетом расхода'!M20:M22,Начисления!I20:I22,0),0)","v":0}]
[10,". ШЕФМОНТАЖ -","!",0,null,{"$f":"ROUND((F176+F188+F217),0)","v":0}]
[11,"ВСЕГО, СТОИМОСТЬ ОБОРУДОВАНИЯ -","!",0,null,{"$f":"ROUND((F169+F170+F171+F172+F173+F174+F175+F177),0)","v":0}]
[12,"Оборудование ТЦ","k",1,null,{"$f":"ROUND((F178)*D179,0)","v":0}]
[13,"СТОИМОСТЬ МОНТАЖНЫХ РАБОТ -","Б",0,null,{"$f":"ROUND(SUMIF(Определители!I20:I22,\"=1\",'Базовые цены с учетом расхода'!B20:B22),0)","v":0},{"$f":"ROUND(SUMIF(Определители!I20:I22,\"=1\",'Базовые цены с учетом расхода'!C20:C22),0)","v":0},{"$f":"ROUND(SUMIF(Определители!I20:I22,\"=1\",'Базовые цены с учетом расхода'!D20:D22),0)","v":0},{"$f":"ROUND(SUMIF(Определители!I20:I22,\"=1\",'Базовые цены с учетом расхода'!E20:E22),0)","v":0},{"$f":"ROUND(SUMIF(Определители!I20:I22,\"=1\",'Базовые цены с учетом расхода'!I20:I22),8)","v":0},{"$f":"ROUND(SUMIF(Определители!I20:I22,\"=1\",'Базовые цены с учетом расхода'!K20:K22),8)","v":0},{"$f":"ROUND(SUMIF(Определители!I20:I22,\"=1\",'Базовые цены с учетом расхода'!F20:F22),0)","v":0}]
[14,".     В ТОМ ЧИСЛЕ:","Б",0]
[15,". ОТКЛОНЕНИЕ ПО ЗАРАБОТНОЙ ПЛАТЕ -","Б",0,null,null,{"$f":"ROUND(SUMIF(Определители!I20:I22,\"=1\",'Базовые цены с учетом расхода'!T20:T22),0)","v":0}]
[16,". КОСВЕННЫЕ РАСХОДЫ -","Б",0,null,{"$f":"ROUND(SUMIF(Определители!I20:I22,\"=1\",'Базовые цены с учетом расхода'!U20:U22),0)","v":0}]
[17,". МАТЕРИАЛЬНЫЕ РЕСУРСЫ НЕ УЧТЕННЫЕ В РАСЦЕНКАХ -","Б",0,null,{"$f":"ROUND(СУММЕСЛИ2(Определители!I20:I22,\"1\",Определители!G20:G22,\"1\",'Базовые цены с учетом расхода'!B20:B22),0)","v":0}]
[18,".   СТОИМОСТЬ ВОЗВРАЩАЕМЫХ МАТЕРИАЛОВ -","Б",0,null,{"$f":"ROUND(SUMIF(Определители!I20:I22,\"=1\",'Базовые цены с учетом расхода'!H20:H22),0)","v":0}]
[19,".   НАКЛАДНЫЕ РАСХОДЫ -","Б",0,null,{"$f":"ROUND(SUMIF(Определители!I20:I22,\"=1\",'Базовые цены с учетом расхода'!N20:N22),0)","v":0}]
[20,".   СМЕТНАЯ ПРИБЫЛЬ -","Б",0,null,{"$f":"ROUND(SUMIF(Определители!I20:I22,\"=1\",'Базовые цены с учетом расхода'!O20:O22),0)","v":0}]
[21,". ШЕФМОНТАЖ -","Б",0,null,{"$f":"ROUND(СУММПРОИЗВЕСЛИ(1,Определители!I20:I22,\" \",'Базовые цены с учетом расхода'!M20:M22,Начисления!I20:I22,0),0)","v":0}]
[22,"ВСЕГО, СТОИМОСТЬ МОНТАЖНЫХ РАБОТ -","!",0,null,{"$f":"ROUND((F180+F186+F187),0)","v":0}]
[23,"Монтажные работы БЦ ЭМ","s",0,null,{"$f":"ROUND((H180),0)","v":0}]
[24,"Монтажные работы БЦ ЗПМ","s",0,null,{"$f":"ROUND((I180),0)","v":0}]
[25,"Монтажные работы ТЦ ЗП","k",21.324000000000002,null,{"$f":"ROUND((G180)*D192,0)","v":0}]
[26,"Монтажные работы ТЦ ЗПМ","k",21.324000000000002,null,{"$f":"ROUND((F191)*D193,0)","v":0}]
[27,"Монтажные работы ТЦ ЭМ","k",6.1520000000000001,null,{"$f":"ROUND((F190)*D194,0)","v":0}]
[28,"Монтажные работы ТЦ материалы","k",6.32,null,{"$f":"ROUND((L180)*D195,0)","v":0}]
[29,"Монтажные работы ТЦ НР","k",21.324000000000002,null,{"$f":"ROUND((F186)*D196,0)","v":0}]
[30,"Монтажные работы ТЦ СП","k",21.324000000000002,null,{"$f":"ROUND((F187)*D197,0)","v":0}]
[31,"Монтажные работы ТЦ всего","s",0,null,{"$f":"ROUND((F192+F194+F195+F196+F197),0)","v":0}]
[32,"СТОИМОСТЬ ОБЩЕСТРОИТЕЛЬНЫХ РАБОТ -","Б",0,null,{"$f":"ROUND(SUMIF(Определители!I20:I22,\"=2\",'Базовые цены с учетом расхода'!B20:B22),0)","v":2158},{"$f":"ROUND(SUMIF(Определители!I20:I22,\"=2\",'Базовые цены с учетом расхода'!C20:C22),0)","v":1125},{"$f":"ROUND(SUMIF(Определители!I20:I22,\"=2\",'Базовые цены с учетом расхода'!D20:D22),0)","v":1033},{"$f":"ROUND(SUMIF(Определители!I20:I22,\"=2\",'Базовые цены с учетом расхода'!E20:E22),0)","v":165},{"$f":"ROUND(SUMIF(Определители!I20:I22,\"=2\",'Базовые цены с учетом расхода'!I20:I22),8)","v":112.62820000000001},{"$f":"ROUND(SUMIF(Определители!I20:I22,\"=2\",'Базовые цены с учетом расхода'!K20:K22),8)","v":13.696},{"$f":"ROUND(SUMIF(Определители!I20:I22,\"=2\",'Базовые цены с учетом расхода'!F20:F22),0)","v":0}]
[33,".     В ТОМ ЧИСЛЕ:","Б",0]
[34,".       МАТЕРИАЛОВ -","Б",0,null,{"$f":"ROUND(СУММЕСЛИ2(Определители!I20:I22,\"2\",Определители!G20:G22,\"1\",'Базовые цены с учетом расхода'!B20:B22),0)","v":0}]
[35,".   СТОИМОСТЬ ВОЗВРАЩАЕМЫХ МАТЕРИАЛОВ -","Б",0,null,{"$f":"ROUND(SUMIF(Определители!I20:I22,\"=2\",'Базовые цены с учетом расхода'!H20:H22),0)","v":0}]
[36,".   НАКЛАДНЫЕ РАСХОДЫ -","Б",0,null,{"$f":"ROUND(SUMIF(Определители!I20:I22,\"=2\",'Базовые цены с учетом расхода'!N20:N22),0)","v":1342}]
[37,".   СМЕТНАЯ ПРИБЫЛЬ -","Б",0,null,{"$f":"ROUND(SUMIF(Определители!I20:I22,\"=2\",'Базовые цены с учетом расхода'!O20:O22),0)","v":774}]
[38,"ВСЕГО, СТОИМОСТЬ ОБЩЕСТРОИТЕЛЬНЫХ РАБОТ -","!",0,null,{"$f":"ROUND((F199+F203+F204),0)","v":4274}]
[39,"СТОИМОСТЬ МЕТАЛЛОМОНТАЖНЫХ РАБОТ -","Б",0,null,{"$f":"ROUND(SUMIF(Определители!I20:I22,\"=3\",'Базовые цены с учетом расхода'!B20:B22),0)","v":0},{"$f":"ROUND(SUMIF(Определители!I20:I22,\"=3\",'Базовые цены с учетом расхода'!C20:C22),0)","v":0},{"$f":"ROUND(SUMIF(Определители!I20:I22,\"=3\",'Базовые цены с учетом расхода'!D20:D22),0)","v":0},{"$f":"ROUND(SUMIF(Определители!I20:I22,\"=3\",'Базовые цены с учетом расхода'!E20:E22),0)","v":0},{"$f":"ROUND(SUMIF(Определители!I20:I22,\"=3\",'Базовые цены с учетом расхода'!I20:I22),8)","v":0},{"$f":"ROUND(SUMIF(Определители!I20:I22,\"=3\",'Базовые цены с учетом расхода'!K20:K22),8)","v":0},{"$f":"ROUND(SUMIF(Определители!I20:I22,\"=3\",'Базовые цены с учетом расхода'!F20:F22),0)","v":0}]
[40,".   СТОИМОСТЬ ВОЗВРАЩАЕМЫХ МАТЕРИАЛОВ -","Б",0,null,{"$f":"ROUND(SUMIF(Определители!I20:I22,\"=3\",'Базовые цены с учетом расхода'!H20:H22),0)","v":0}]
[41,".   НАКЛАДНЫЕ РАСХОДЫ -","Б",0,null,{"$f":"ROUND(SUMIF(Определители!I20:I22,\"=3\",'Базовые цены с учетом расхода'!N20:N22),0)","v":0}]
[42,".   СМЕТНАЯ ПРИБЫЛЬ -","Б",0,null,{"$f":"ROUND(SUMIF(Определители!I20:I22,\"=3\",'Базовые цены с учетом расхода'!O20:O22),0)","v":0}]
[43,"ВСЕГО, СТОИМОСТЬ МЕТАЛЛОМОНТАЖНЫХ РАБОТ -","!",0,null,{"$f":"ROUND((F206+F208+F209),0)","v":0}]
[44,"СТОИМОСТЬ САНТЕХНИЧЕСКИХ РАБОТ -","Б",0,null,{"$f":"ROUND(SUMIF(Определители!I20:I22,\"=4\",'Базовые цены с учетом расхода'!B20:B22),0)","v":0},{"$f":"ROUND(SUMIF(Определители!I20:I22,\"=4\",'Базовые цены с учетом расхода'!C20:C22),0)","v":0},{"$f":"ROUND(SUMIF(Определители!I20:I22,\"=4\",'Базовые цены с учетом расхода'!D20:D22),0)","v":0},{"$f":"ROUND(SUMIF(Определители!I20:I22,\"=4\",'Базовые цены с учетом расхода'!E20:E22),0)","v":0},{"$f":"ROUND(SUMIF(Определители!I20:I22,\"=4\",'Базовые цены с учетом расхода'!I20:I22),8)","v":0},{"$f":"ROUND(SUMIF(Определители!I20:I22,\"=4\",'Базовые цены с учетом расхода'!K20:K22),8)","v":0},{"$f":"ROUND(SUMIF(Определители!I20:I22,\"=4\",'Базовые цены с учетом расхода'!F20:F22),0)","v":0}]
[45,".     В ТОМ ЧИСЛЕ:","Б",0]
[46,". СДАЧА И ИСПЫТАНИЕ -","Б",0,null,{"$f":"ROUND(SUMIF(Определители!I20:I22,\"=4\",'Базовые цены с учетом расхода'!AJ20:AJ22),0)","v":0},{"$f":"ROUND(SUMIF(Определители!I20:I22,\"=4\",'Базовые цены с учетом расхода'!AI20:AI22),0)","v":0},{"$f":"ROUND(SUMIF(Определители!I20:I22,\"=4\",'Базовые цены с учетом расхода'!AH20:AH22),0)","v":0},{"$f":"ROUND(SUMIF(Определители!I20:I22,\"=4\",'Базовые цены с учетом расхода'!V20:V22),0)","v":0}]
[47,".   СТОИМОСТЬ ВОЗВРАЩАЕМЫХ МАТЕРИАЛОВ -","Б",0,null,{"$f":"ROUND(SUMIF(Определители!I20:I22,\"=4\",'Базовые цены с учетом расхода'!H20:H22),0)","v":0}]
[48,".   НАКЛАДНЫЕ РАСХОДЫ -","Б",0,null,{"$f":"ROUND(SUMIF(Определители!I20:I22,\"=4\",'Базовые цены с учетом расхода'!N20:N22),0)","v":0}]
[49,".   СМЕТНАЯ ПРИБЫЛЬ -","Б",0,null,{"$f":"ROUND(SUMIF(Определители!I20:I22,\"=4\",'Базовые цены с учетом расхода'!O20:O22),0)","v":0}]
[50,". ШЕФМОНТАЖ -","Б",0,null,{"$f":"ROUND(СУММПРОИЗВЕСЛИ(1,Определители!I20:I22,\" \",'Базовые цены с учетом расхода'!M20:M22,Начисления!I20:I22,0),0)","v":0}]
[51,"ВСЕГО, СТОИМОСТЬ САНТЕХНИЧЕСКИХ РАБОТ -","!",0,null,{"$f":"ROUND((F211+F215+F216),0)","v":0}]
[52,"СТОИМОСТЬ БУРО-ВЗРЫВНЫХ РАБОТ -","Б",0,null,{"$f":"ROUND(SUMIF(Определители!I20:I22,\"=5\",'Базовые цены с учетом расхода'!B20:B22),0)","v":0},{"$f":"ROUND(SUMIF(Определители!I20:I22,\"=5\",'Базовые цены с учетом расхода'!C20:C22),0)","v":0},{"$f":"ROUND(SUMIF(Определители!I20:I22,\"=5\",'Базовые цены с учетом расхода'!D20:D22),0)","v":0},{"$f":"ROUND(SUMIF(Определители!I20:I22,\"=5\",'Базовые цены с учетом расхода'!E20:E22),0)","v":0},{"$f":"ROUND(SUMIF(Определители!I20:I22,\"=5\",'Базовые цены с учетом расхода'!I20:I22),8)","v":0},{"$f":"ROUND(SUMIF(Определители!I20:I22,\"=5\",'Базовые цены с учетом расхода'!K20:K22),8)","v":0},{"$f":"ROUND(SUMIF(Определители!I20:I22,\"=5\",'Базовые цены с учетом расхода'!F20:F22),0)","v":0}]
[53,".   СТОИМОСТЬ ВОЗВРАЩАЕМЫХ МАТЕРИАЛОВ -","Б",0,null,{"$f":"ROUND(SUMIF(Определители!I20:I22,\"=5\",'Базовые цены с учетом расхода'!H20:H22),0)","v":0}]
[54,".   НАКЛАДНЫЕ РАСХОДЫ -","Б",0,null,{"$f":"ROUND(SUMIF(Определители!I20:I22,\"=5\",'Базовые цены с учетом расхода'!N20:N22),0)","v":0}]
[55,".   СМЕТНАЯ ПРИБЫЛЬ -","Б",0,null,{"$f":"ROUND(SUMIF(Определители!I20:I22,\"=5\",'Базовые цены с учетом расхода'!O20:O22),0)","v":0}]
[56,"ВСЕГО, СТОИМОСТЬ БУРО-ВЗРЫВНЫХ РАБОТ -","!",0,null,{"$f":"ROUND((F219+F221+F222),0)","v":0}]
[57,"СТОИМОСТЬ ГОРНОПРОХОДЧЕСКИХ РАБОТ -","Б",0,null,{"$f":"ROUND(SUMIF(Определители!I20:I22,\"=6\",'Базовые цены с учетом расхода'!B20:B22),0)","v":0},{"$f":"ROUND(SUMIF(Определители!I20:I22,\"=6\",'Базовые цены с учетом расхода'!C20:C22),0)","v":0},{"$f":"ROUND(SUMIF(Определители!I20:I22,\"=6\",'Базовые цены с учетом расхода'!D20:D22),0)","v":0},{"$f":"ROUND(SUMIF(Определители!I20:I22,\"=6\",'Базовые цены с учетом расхода'!E20:E22),0)","v":0},{"$f":"ROUND(SUMIF(Определители!I20:I22,\"=6\",'Базовые цены с учетом расхода'!I20:I22),8)","v":0},{"$f":"ROUND(SUMIF(Определители!I20:I22,\"=6\",'Базовые цены с учетом расхода'!K20:K22),8)","v":0},{"$f":"ROUND(SUMIF(Определители!I20:I22,\"=6\",'Базовые цены с учетом расхода'!F20:F22),0)","v":0}]
[58,".   СТОИМОСТЬ ВОЗВРАЩАЕМЫХ МАТЕРИАЛОВ -","Б",0,null,{"$f":"ROUND(SUMIF(Определители!I20:I22,\"=6\",'Базовые цены с учетом расхода'!H20:H22),0)","v":0}]
[59,".   НАКЛАДНЫЕ РАСХОДЫ -","Б",0,null,{"$f":"ROUND(SUMIF(Определители!I20:I22,\"=6\",'Базовые цены с учетом расхода'!N20:N22),0)","v":0}]
[60,".   СМЕТНАЯ ПРИБЫЛЬ -","Б",0,null,{"$f":"ROUND(SUMIF(Определители!I20:I22,\"=6\",'Базовые цены с учетом расхода'!O20:O22),0)","v":0}]
[61,"ВСЕГО, СТОИМОСТЬ ГОРНОПРОХОДЧЕСКИХ РАБОТ -","!",0,null,{"$f":"ROUND((F224+F226+F227),0)","v":0}]
[62,"СТОИМОСТЬ РЕСТАВРАЦИОННЫХ РАБОТ -","Б",0,null,{"$f":"ROUND(SUMIF(Определители!I20:I22,\"=7\",'Базовые цены с учетом расхода'!B20:B22),0)","v":0},{"$f":"ROUND(SUMIF(Определители!I20:I22,\"=7\",'Базовые цены с учетом расхода'!C20:C22),0)","v":0},{"$f":"ROUND(SUMIF(Определители!I20:I22,\"=7\",'Базовые цены с учетом расхода'!D20:D22),0)","v":0},{"$f":"ROUND(SUMIF(Определители!I20:I22,\"=7\",'Базовые цены с учетом расхода'!E20:E22),0)","v":0},{"$f":"ROUND(SUMIF(Определители!I20:I22,\"=7\",'Базовые цены с учетом расхода'!I20:I22),8)","v":0},{"$f":"ROUND(SUMIF(Определители!I20:I22,\"=7\",'Базовые цены с учетом расхода'!K20:K22),8)","v":0},{"$f":"ROUND(SUMIF(Определители!I20:I22,\"=7\",'Базовые цены с учетом расхода'!F20:F22),0)","v":0}]
[63,".     В ТОМ ЧИСЛЕ:","Б",0]
[64,". МАТЕРИАЛЫ -","Б",0,null,{"$f":"ROUND(СУММЕСЛИ2(Определители!I20:I22,\"2\",Определители!G20:G22,\"1\",'Базовые цены с учетом расхода'!B20:B22),0)","v":0}]
[65,".   СТОИМОСТЬ ВОЗВРАЩАЕМЫХ МАТЕРИАЛОВ -","Б",0,null,{"$f":"ROUND(SUMIF(Определители!I20:I22,\"=7\",'Базовые цены с учетом расхода'!H20:H22),0)","v":0}]
[66,".   НАКЛАДНЫЕ РАСХОДЫ -","Б",0,null,{"$f":"ROUND(SUMIF(Определители!I20:I22,\"=7\",'Базовые цены с учетом расхода'!N20:N22),0)","v":0}]
[67,".   СМЕТНАЯ ПРИБЫЛЬ -","Б",0,null,{"$f":"ROUND(SUMIF(Определители!I20:I22,\"=7\",'Базовые цены с учетом расхода'!O20:O22),0)","v":0}]
[68,"ВСЕГО, СТОИМОСТЬ РЕСТАВРАЦИОННЫХ РАБОТ -","!",0,null,{"$f":"ROUND((F229+F233+F234),0)","v":0}]
[69,"Строительные работы БЦ ЭМ","s",0,null,{"$f":"ROUND((H199+H206+H211+H219+H224+H229),0)","v":1033}]
[70,"Строительные работы БЦ ЗПМ","s",0,null,{"$f":"ROUND((I199+I206+I211+I219+I224+I229),0)","v":165}]
[71,"Строительные работы ТЦ ЗП","k",21.324000000000002,null,{"$f":"ROUND((G199+G206+G211+G219+G224+G229)*D238,0)","v":23990}]
[72,"Строительные работы ТЦ ЗПМ","k",21.324000000000002,null,{"$f":"ROUND((F237)*D239,0)","v":3518}]
[73,"Строительные работы ТЦ ЭМ","k",6.1520000000000001,null,{"$f":"ROUND((F236)*D240,0)","v":6355}]
[74,"Строительные работы ТЦ материалы","k",6.32,null,{"$f":"ROUND((L199+L206+L211+L219+L224+L229)*D241,0)","v":0}]
[75,"Строительные работы ТЦ НР","k",21.324000000000002,null,{"$f":"ROUND((F203+F208+F215+F221+F226+F233)*D242,0)","v":28617}]
[76,"Строительные работы ТЦ СП","k",21.324000000000002,null,{"$f":"ROUND((F204+F209+F216+F222+F227+F234)*D243,0)","v":16505}]
[77,"Строительные работы ТЦ всего","s",0,null,{"$f":"ROUND((F238+F240+F241+F242+F243),0)","v":75467}]
[78,"СТОИМОСТЬ ПЕРЕВОЗКИ ГРУЗОВ -","Б",0,null,{"$f":"ROUND(SUMIF(Определители!I20:I22,\"=;\",'Базовые цены с учетом расхода'!B20:B22),0)","v":367},{"$f":"ROUND(SUMIF(Определители!I20:I22,\"=;\",'Базовые цены с учетом расхода'!C20:C22),0)","v":29},{"$f":"ROUND(SUMIF(Определители!I20:I22,\"=;\",'Базовые цены с учетом расхода'!D20:D22),0)","v":268},{"$f":"ROUND(SUMIF(Определители!I20:I22,\"=;\",'Базовые цены с учетом расхода'!E20:E22),0)","v":15},{"$f":"ROUND(SUMIF(Определители!I20:I22,\"=;\",'Базовые цены с учетом расхода'!I20:I22),8)","v":3.0922999999999998},{"$f":"ROUND(SUMIF(Определители!I20:I22,\"=;\",'Базовые цены с учетом расхода'!K20:K22),8)","v":1.2198},{"$f":"ROUND(SUMIF(Определители!I20:I22,\"=;\",'Базовые цены с учетом расхода'!F20:F22),0)","v":0}]
[79,"СТОИМОСТЬ ПОГРУЗКИ-РАЗГРУЗКИ","m",0,null,{"$f":"ROUND((F245-F264-F265-F266),0)","v":203},{"$f":"ROUND((G245-G264-G265-G266),0)","v":29},{"$f":"ROUND((H245-H264-H265-H266),0)","v":104},{"$f":"ROUND((I245-I264-I265-I266),0)","v":15},{"$f":"ROUND((J245-J264-J265-J266),8)","v":3.0922999999999998},{"$f":"ROUND((K245-K264-K265-K266),8)","v":1.2198},{"$f":"ROUND((L245-L264-L265-L266),0)","v":0}]
[80,".   В Т.Ч. НАКЛАДНЫЕ РАСХОДЫ -","Б",0,null,{"$f":"ROUND(SUMIF(Определители!I20:I22,\"=;\",'Базовые цены с учетом расхода'!AF20:AF22),0)","v":44}]
[81,".   В Т.Ч. СМЕТНАЯ ПРИБЫЛЬ -","Б",0,null,{"$f":"ROUND(SUMIF(Определители!I20:I22,\"=;\",'Базовые цены с учетом расхода'!AG20:AG22),0)","v":26}]
[82,".   НАКЛАДНЫЕ РАСХОДЫ -","Б",0,null,{"$f":"ROUND(SUMIF(Определители!I20:I22,\"=;\",'Базовые цены с учетом расхода'!N20:N22),0)","v":0}]
[83,".   СМЕТНАЯ ПРИБЫЛЬ -","Б",0,null,{"$f":"ROUND(SUMIF(Определители!I20:I22,\"=;\",'Базовые цены с учетом расхода'!O20:O22),0)","v":0}]
[84,"ВСЕГО, СТОИМОСТЬ ПЕРЕВОЗКИ ГРУЗОВ -","!",0,null,{"$f":"ROUND((F245+F249+F250),0)","v":367}]
[85,"ВСЕГО, СТОИМОСТЬ ПОГРУЗКИ-РАЗГРУЗКИ -","s",0,null,{"$f":"ROUND((F246+F249+F250),0)","v":203}]
[86,"Погрузка-разгрузка БЦ ЭМ","s",0,null,{"$f":"ROUND((H246),0)","v":104}]
[87,"Погрузка-разгрузка БЦ ЗПМ","s",0,null,{"$f":"ROUND((I246),0)","v":15}]
[88,"Погрузка-разгрузка ТЦ ЗП","k",21.324000000000002,null,{"$f":"ROUND((G246)*D255,0)","v":618}]
[89,"Погрузка-разгрузка ТЦ ЗПМ","k",21.324000000000002,null,{"$f":"ROUND((I246)*D256,0)","v":320}]
[90,"Погрузка-разгрузка ТЦ ЭМ","k",6.1520000000000001,null,{"$f":"ROUND((F253)*D257,0)","v":640}]
[91,"Погрузка-разгрузка ТЦ материалы","k",6.32,null,{"$f":"ROUND((L245)*D258,0)","v":0}]
[92,"Погрузка-разгрузка ТЦ в т.ч. НР","k",21.324000000000002,null,{"$f":"ROUND((F247)*D259,0)","v":938}]
[93,"Погрузка-разгрузка ТЦ в т.ч. СП","k",21.324000000000002,null,{"$f":"ROUND((F248)*D260,0)","v":554}]
[94,"Погрузка-разгрузка ТЦ НР","k",21.324000000000002,null,{"$f":"ROUND((F249)*D261,0)","v":0}]
[95,"Погрузка-разгрузка ТЦ СП","k",21.324000000000002,null,{"$f":"ROUND((F250)*D262,0)","v":0}]
[96,"Погрузка-разгрузка ТЦ всего","s",0,null,{"$f":"ROUND((F255+F257+F258+F261+F262+F259+F260),0)","v":2750}]
[97,"ПЕРЕВОЗКА (таб.6)","f",0]
[98,"ПЕРЕВОЗКА (таб.7)","f",0]
[99,"ПЕРЕВОЗКА (таб.8)","f",0,null,164,null,164]
[100,"Перевозка (таб.6) ТЦ","k",1,null,{"$f":"ROUND((F264)*D267,0)","v":0}]
[101,"Перевозка (таб.7) ТЦ","k",1,null,{"$f":"ROUND((F265)*D268,0)","v":0}]
[102,"Перевозка (таб.8) ТЦ","k",10.144,null,{"$f":"ROUND((F266)*D269,0)","v":1664}]
[103,"Перевозка ТЦ  всего","s",0,null,{"$f":"ROUND((F267+F268+F269),0)","v":1664}]
[104,"СТОИМОСТЬ ПУСКОНАЛАДОЧНЫХ РАБОТ -","Б",0,null,{"$f":"ROUND(SUMIF(Определители!I20:I22,\"=9\",'Базовые цены с учетом расхода'!B20:B22),0)","v":0},{"$f":"ROUND(SUMIF(Определители!I20:I22,\"=9\",'Базовые цены с учетом расхода'!C20:C22),0)","v":0},{"$f":"ROUND(SUMIF(Определители!I20:I22,\"=9\",'Базовые цены с учетом расхода'!D20:D22),0)","v":0},{"$f":"ROUND(SUMIF(Определители!I20:I22,\"=9\",'Базовые цены с учетом расхода'!E20:E22),0)","v":0},{"$f":"ROUND(SUMIF(Определители!I20:I22,\"=9\",'Базовые цены с учетом расхода'!I20:I22),8)","v":0},{"$f":"ROUND(SUMIF(Определители!I20:I22,\"=9\",'Базовые цены с учетом расхода'!K20:K22),8)","v":0},{"$f":"ROUND(SUMIF(Определители!I20:I22,\"=9\",'Базовые цены с учетом расхода'!F20:F22),0)","v":0}]
[105,".   НАКЛАДНЫЕ РАСХОДЫ -","Б",0,null,{"$f":"ROUND(SUMIF(Определители!I20:I22,\"=9\",'Базовые цены с учетом расхода'!N20:N22),0)","v":0}]
[106,".   СМЕТНАЯ ПРИБЫЛЬ -","Б",0,null,{"$f":"ROUND(SUMIF(Определители!I20:I22,\"=9\",'Базовые цены с учетом расхода'!O20:O22),0)","v":0}]
[107,"ВСЕГО, СТОИМОСТЬ ПУСКОНАЛАДОЧНЫХ РАБОТ -","!",0,null,{"$f":"ROUND((F271+F272+F273),0)","v":0}]
[108,"Пусконаладочные работы ТЦ ЗП","k",1,null,{"$f":"ROUND((G271)*D275,0)","v":0}]
[109,"Пусконаладочные работы ТЦ НР","k",1,null,{"$f":"ROUND((F272)*D276,0)","v":0}]
[110,"Пусконаладочные работы ТЦ СП","k",1,null,{"$f":"ROUND((F273)*D277,0)","v":0}]
[111,"Пусконаладочные работы ТЦ всего","s",0,null,{"$f":"ROUND((F275+F276+F277),0)","v":0}]
[112,"СТОИМОСТЬ ПРОЧИХ РАБОТ (с НР и СП) -","Б",0,null,{"$f":"ROUND(SUMIF(Определители!I20:I22,\"=:\",'Базовые цены с учетом расхода'!B20:B22),0)","v":0},{"$f":"ROUND(SUMIF(Определители!I20:I22,\"=:\",'Базовые цены с учетом расхода'!C20:C22),0)","v":0},{"$f":"ROUND(SUMIF(Определители!I20:I22,\"=:\",'Базовые цены с учетом расхода'!D20:D22),0)","v":0},{"$f":"ROUND(SUMIF(Определители!I20:I22,\"=:\",'Базовые цены с учетом расхода'!E20:E22),0)","v":0},{"$f":"ROUND(SUMIF(Определители!I20:I22,\"=:\",'Базовые цены с учетом расхода'!I20:I22),8)","v":0},{"$f":"ROUND(SUMIF(Определители!I20:I22,\"=:\",'Базовые цены с учетом расхода'!K20:K22),8)","v":0},{"$f":"ROUND(SUMIF(Определители!I20:I22,\"=:\",'Базовые цены с учетом расхода'!F20:F22),0)","v":0}]
[113,".   СТОИМОСТЬ ВОЗВРАЩАЕМЫХ МАТЕРИАЛОВ -","Б",0,null,{"$f":"ROUND(SUMIF(Определители!I20:I22,\"=:\",'Базовые цены с учетом расхода'!H20:H22),0)","v":0}]
[114,".   НАКЛАДНЫЕ РАСХОДЫ -","Б",0,null,{"$f":"ROUND(SUMIF(Определители!I20:I22,\"=:\",'Базовые цены с учетом расхода'!N20:N22),0)","v":0}]
[115,".   СМЕТНАЯ ПРИБЫЛЬ -","Б",0,null,{"$f":"ROUND(SUMIF(Определители!I20:I22,\"=:\",'Базовые цены с учетом расхода'!O20:O22),0)","v":0}]
[116,"ВСЕГО, СТОИМОСТЬ ПРОЧИХ РАБОТ (с НР и СП) -","!",0,null,{"$f":"ROUND((F279+F281+F282),0)","v":0}]
[117,"ВСЕГО, СТОИМОСТЬ ПРОЧИХ РАБОТ (без НР и СП) -","Б",0,null,{"$f":"ROUND(SUMIF(Определители!I20:I22,\"=8\",'Базовые цены с учетом расхода'!B20:B22),0)","v":0},{"$f":"ROUND(SUMIF(Определители!I20:I22,\"=8\",'Базовые цены с учетом расхода'!C20:C22),0)","v":0},{"$f":"ROUND(SUMIF(Определители!I20:I22,\"=8\",'Базовые цены с учетом расхода'!D20:D22),0)","v":0},{"$f":"ROUND(SUMIF(Определители!I20:I22,\"=8\",'Базовые цены с учетом расхода'!E20:E22),0)","v":0},{"$f":"ROUND(SUMIF(Определители!I20:I22,\"=8\",'Базовые цены с учетом расхода'!I20:I22),8)","v":0},{"$f":"ROUND(SUMIF(Определители!I20:I22,\"=8\",'Базовые цены с учетом расхода'!K20:K22),8)","v":0},{"$f":"ROUND(SUMIF(Определители!I20:I22,\"=8\",'Базовые цены с учетом расхода'!F20:F22),0)","v":0}]
[118,".   СТОИМОСТЬ ВОЗВРАЩАЕМЫХ МАТЕРИАЛОВ -","Б",0,null,{"$f":"ROUND(SUMIF(Определители!I20:I22,\"=8\",'Базовые цены с учетом расхода'!H20:H22),0)","v":0}]
[119,"Прочие работы БЦ ЭМ","s",0,null,{"$f":"ROUND((H279+H284),0)","v":0}]
[120,"Прочие работы БЦ ЗПМ","s",0,null,{"$f":"ROUND((I279+I284),0)","v":0}]
[121,"Прочие работы ТЦ ЗП","k",1,null,{"$f":"ROUND((G279+G284)*D288,0)","v":0}]
[122,"Прочие работы ТЦ ЗПМ","k",1,null,{"$f":"ROUND((F287)*D289,0)","v":0}]
[123,"Прочие работы ТЦ ЭМ","k",1,null,{"$f":"ROUND((F286)*D290,0)","v":0}]
[124,"Прочие работы ТЦ материалы","k",1,null,{"$f":"ROUND((L279+L284)*D291,0)","v":0}]
[125,"Прочие работы ТЦ НР","k",1,null,{"$f":"ROUND((F281)*D292,0)","v":0}]
[126,"Прочие работы ТЦ СП","k",1,null,{"$f":"ROUND((F282)*D293,0)","v":0}]
[127,"Прочие работы ТЦ всего","s",0,null,{"$f":"ROUND((F288+F290+F291+F292+F293),0)","v":0}]
[128,". ВСЕГО  ПО  СМЕТЕ","!",0,null,{"$f":"ROUND((F178+F189+F205+F210+F218+F223+F228+F235+F251+F274+F283+F284),0)","v":4641},{"$f":"ROUND((G178+G189+G205+G210+G218+G223+G228+G235+G251+G274+G283+G284),0)","v":0},{"$f":"ROUND((H178+H189+H205+H210+H218+H223+H228+H235+H251+H274+H283+H284),0)","v":0},{"$f":"ROUND((I178+I189+I205+I210+I218+I223+I228+I235+I251+I274+I283+I284),0)","v":0},{"$f":"ROUND((J178+J189+J205+J210+J218+J223+J228+J235+J251+J274+J283+J284),8)","v":0},{"$f":"ROUND((K178+K189+K205+K210+K218+K223+K228+K235+K251+K274+K283+K284),8)","v":0},{"$f":"ROUND((L178+L189+L205+L210+L218+L223+L228+L235+L251+L274+L283+L284),0)","v":0}]
[129,"ВСЕГО СТОИМОСТЬ ВОЗВРАЩАЕМЫХ МАТЕРИАЛОВ -","!",0,null,{"$f":"ROUND((F185+F202+F207+F214+F220+F225+F232+F280+F285),0)","v":0}]
[130,"ВСЕГО НАКЛАДНЫЕ РАСХОДЫ","!",0,null,{"$f":"ROUND((F186+F203+F208+F215+F221+F226+F233+F249+F272+F281),0)","v":1342}]
[131,"ВСЕГО НАКЛАДНЫЕ РАСХОДЫ","s",0,null,{"$f":"ROUND((F297+F247),0)","v":1386}]
[132,"ВСЕГО СМЕТНАЯ ПРИБЫЛЬ","!",0,null,{"$f":"ROUND((F187+F204+F209+F216+F222+F227+F234+F250+F273+F282),0)","v":774}]
[133,"ВСЕГО СМЕТНАЯ ПРИБЫЛЬ","s",0,null,{"$f":"ROUND((F299+F248),0)","v":800}]
[134,"в т.ч. Вспомогательные материалы на монтаж","h",0,null,{"$f":"ROUND(SUM('Базовые цены с учетом расхода'!X20:X22),0)","v":0},null,null,null,null,null,{"$f":"ROUND(SUM('Базовые цены с учетом расхода'!X20:X22),0)","v":0}]
[135,"в т.ч. Вспомогательные материалы от ОЗП","h",0,null,{"$f":"ROUND(SUM('Базовые цены с учетом расхода'!AE20:AE22),0)","v":0}]
[136,"Оплата основных рабочих","h",0,null,{"$f":"ROUND(SUM('Базовые цены с учетом расхода'!C20:C22),0)","v":1154}]
[137,"Оплата механизаторов","h",0,null,{"$f":"ROUND(SUM('Базовые цены с учетом расхода'!E20:E22),0)","v":180}]
[138,"Стоимость механизмов","h",0,null,{"$f":"ROUND(SUM('Базовые цены с учетом расхода'!D20:D22),0)","v":1301}]
[139,"Сметная стоимость материалов","h",0,null,{"$f":"ROUND(SUM('Базовые цены с учетом расхода'!F20:F22),0)","v":0},null,null,null,null,null,{"$f":"ROUND(SUM('Базовые цены с учетом расхода'!F20:F22),0)","v":0}]
[140,"Трудозатраты осн. рабочих","h",0,null,null,null,null,null,{"$f":"ROUND(SUM('Базовые цены с учетом расхода'!I20:I22),8)","v":115.7205}]
[141,"Трудозатраты механизаторов","h",0,null,null,null,null,null,{"$f":"ROUND(SUM('Базовые цены с учетом расхода'!K20:K22),8)","v":14.915800000000001}]
[142,"Нормативная трудоемкость","s",0,null,null,null,null,null,{"$f":"ROUND((J307+J308),8)","v":130.63630000000001}]
[143,"Оплата основных рабочих ТЦ","s",0,null,{"$f":"ROUND((F192+F238+F255+F288+F275),0)","v":24608}]
[144,"Оплата механизаторов ТЦ","s",0,null,{"$f":"ROUND((F193+F239+F256+F289),0)","v":3838}]
[145,"Стоимость механизмов ТЦ","s",0,null,{"$f":"ROUND((F194+F240+F257+F290),0)","v":6995}]
[146,"Стоимость материалов ТЦ","s",0,null,{"$f":"ROUND((F195+F241+F258+F291),0)","v":0}]
[147,"Оборудование ТЦ","s",0,null,{"$f":"ROUND((F179),0)","v":0}]
[148,"Перевозка ТЦ","s",0,null,{"$f":"ROUND((F270),0)","v":1664}]
[149,"ИТОГО ТЦ","s",0,null,{"$f":"ROUND((F310+F312+F313+F314+F315),0)","v":33267}]
[150,"В Т.Ч. НАКЛАДНЫЕ РАСХОДЫ ТЦ","s",0,null,{"$f":"ROUND((F259),0)","v":938}]
[151,"В Т.Ч. СМЕТНАЯ ПРИБЫЛЬ ТЦ","s",0,null,{"$f":"ROUND((F260),0)","v":554}]
[152,"НАКЛАДНЫЕ РАСХОДЫ ТЦ","s",0,null,{"$f":"ROUND((F196+F242+F261+F276+F292+F259),0)","v":29555}]
[153,"СМЕТНАЯ ПРИБЫЛЬ ТЦ","s",0,null,{"$f":"ROUND((F197+F243+F262+F293+F277+F260),0)","v":17059}]
[154,"ВСЕГО ТЦ","s",0,null,{"$f":"ROUND((F316+F319+F320),0)","v":79881}]
[]
[null,"Раздел 3.  Устройство новой дорожной одежды на уширениях и парковках"]
[]
[null,"Наименование","Вид","Значение","ЕИ","Z1","Z2","Z3","Z4","Z5","Z6","Z7","Z8"]
[1,".    ИТОГО  ПО  СМЕТЕ","А",0,null,{"$f":"ROUND(SUM('Базовые цены с учетом расхода'!B26:B38),0)","v":133220},{"$f":"ROUND(SUM('Базовые цены с учетом расхода'!C26:C38),0)","v":2394},{"$f":"ROUND(SUM('Базовые цены с учетом расхода'!D26:D38),0)","v":27189},{"$f":"ROUND(SUM('Базовые цены с учетом расхода'!E26:E38),0)","v":2319},{"$f":"ROUND(SUM('Базовые цены с учетом расхода'!I26:I38),8)","v":238.404504},{"$f":"ROUND(SUM('Базовые цены с учетом расхода'!K26:K38),8)","v":156.883836},{"$f":"ROUND(SUM('Базовые цены с учетом расхода'!F26:F38),0)","v":100465}]
[2,"СТОИМОСТЬ ОБОРУДОВАНИЯ -","Б",0,null,{"$f":"ROUND(SUMIF(Определители!I26:I38,\"= \",'Базовые цены с учетом расхода'!B26:B38),0)","v":0},{"$f":"ROUND(SUMIF(Определители!I26:I38,\"= \",'Базовые цены с учетом расхода'!C26:C38),0)","v":0},{"$f":"ROUND(SUMIF(Определители!I26:I38,\"= \",'Базовые цены с учетом расхода'!D26:D38),0)","v":0},{"$f":"ROUND(SUMIF(Определители!I26:I38,\"= \",'Базовые цены с учетом расхода'!E26:E38),0)","v":0},{"$f":"ROUND(SUMIF(Определители!I26:I38,\"= \",'Базовые цены с учетом расхода'!I26:I38),8)","v":0},{"$f":"ROUND(SUMIF(Определители!I26:I38,\"= \",'Базовые цены с учетом расхода'!K26:K38),8)","v":0},{"$f":"ROUND(SUMIF(Определители!I26:I38,\"= \",'Базовые цены с учетом расхода'!F26:F38),0)","v":0}]
[3,".   ЗАПАСНЫЕ ЧАСТИ -","Б",0,null,{"$f":"ROUND(СУММПРОИЗВЕСЛИ(0.01,Определители!I26:I38,\" \",'Базовые цены с учетом расхода'!B26:B38,Начисления!X26:X38,0),0)","v":0}]
[4,".   ТАРА И УПАКОВКА -","Б",0,null,{"$f":"ROUND(СУММПРОИЗВЕСЛИ(0.01,Определители!I26:I38,\" \",'Базовые цены с учетом расхода'!B26:B38,Начисления!Y26:Y38,0),0)","v":0}]
[5,".   ТРАНСПОРТНЫЕ РАСХОДЫ -","Б",0,null,{"$f":"ROUND(ТРАНСПРАСХОД(Определители!B26:B38,Определители!H26:H38,Определители!I26:I38,'Базовые цены с учетом расхода'!B26:B38,Начисления!Z26:Z38,Начисления!AA26:AA38),0)","v":0}]
[6,".   КОМПЛЕКТАЦИЯ -","Б",0,null,{"$f":"ROUND(СУММПРОИЗВЕСЛИ(0.01,Определители!I26:I38,\" \",'Базовые цены с учетом расхода'!B26:B38,Начисления!AC26:AC38,0),0)","v":0}]
[7,".   НАЦЕНКА СНАБА -","Б",0,null,{"$f":"ROUND(СУММПРОИЗВЕСЛИ(0.01,Определители!I26:I38,\" \",'Базовые цены с учетом расхода'!B26:B38,Начисления!AF26:AF38,0),0)","v":0}]
[8,".   ЗАГОТОВИТЕЛЬНО-СКЛАДСКИЕ РАСХОДЫ -","Б",0,null,{"$f":"ROUND(ЗАГОТСКЛАДРАСХОД(Определители!B26:B38,Определители!H26:H38,Определители!I26:I38,'Базовые цены с учетом расхода'!B26:B38,Начисления!X26:X38,Начисления!Y26:Y38,Начисления!Z26:Z38,Начисления!AA26:AA38,Начисления!AB26:AB38,Начисления!AC26:AC38,Начисления!AF26:AF38),0)","v":0}]
[9,". ШЕФМОНТАЖ ПО ОБОРУДОВАНИЮ -","Б",0,null,{"$f":"ROUND(СУММПРОИЗВЕСЛИ(1,Определители!I26:I38,\" \",'Базовые цены с учетом расхода'!M26:M38,Начисления!I26:I38,0),0)","v":0}]
[10,". ШЕФМОНТАЖ -","!",0,null,{"$f":"ROUND((F334+F346+F375),0)","v":0}]
[11,"ВСЕГО, СТОИМОСТЬ ОБОРУДОВАНИЯ -","!",0,null,{"$f":"ROUND((F327+F328+F329+F330+F331+F332+F333+F335),0)","v":0}]
[12,"Оборудование ТЦ","k",1,null,{"$f":"ROUND((F336)*D337,0)","v":0}]
[13,"СТОИМОСТЬ МОНТАЖНЫХ РАБОТ -","Б",0,null,{"$f":"ROUND(SUMIF(Определители!I26:I38,\"=1\",'Базовые цены с учетом расхода'!B26:B38),0)","v":0},{"$f":"ROUND(SUMIF(Определители!I26:I38,\"=1\",'Базовые цены с учетом расхода'!C26:C38),0)","v":0},{"$f":"ROUND(SUMIF(Определители!I26:I38,\"=1\",'Базовые цены с учетом расхода'!D26:D38),0)","v":0},{"$f":"ROUND(SUMIF(Определители!I26:I38,\"=1\",'Базовые цены с учетом расхода'!E26:E38),0)","v":0},{"$f":"ROUND(SUMIF(Определители!I26:I38,\"=1\",'Базовые цены с учетом расхода'!I26:I38),8)","v":0},{"$f":"ROUND(SUMIF(Определители!I26:I38,\"=1\",'Базовые цены с учетом расхода'!K26:K38),8)","v":0},{"$f":"ROUND(SUMIF(Определители!I26:I38,\"=1\",'Базовые цены с учетом расхода'!F26:F38),0)","v":0}]
[14,".     В ТОМ ЧИСЛЕ:","Б",0]
[15,". ОТКЛОНЕНИЕ ПО ЗАРАБОТНОЙ ПЛАТЕ -","Б",0,null,null,{"$f":"ROUND(SUMIF(Определители!I26:I38,\"=1\",'Базовые цены с учетом расхода'!T26:T38),0)","v":0}]
[16,". КОСВЕННЫЕ РАСХОДЫ -","Б",0,null,{"$f":"ROUND(SUMIF(Определители!I26:I38,\"=1\",'Базовые цены с учетом расхода'!U26:U38),0)","v":0}]
[17,". МАТЕРИАЛЬНЫЕ РЕСУРСЫ НЕ УЧТЕННЫЕ В РАСЦЕНКАХ -","Б",0,null,{"$f":"ROUND(СУММЕСЛИ2(Определители!I26:I38,\"1\",Определители!G26:G38,\"1\",'Базовые цены с учетом расхода'!B26:B38),0)","v":0}]
[18,".   СТОИМОСТЬ ВОЗВРАЩАЕМЫХ МАТЕРИАЛОВ -","Б",0,null,{"$f":"ROUND(SUMIF(Определители!I26:I38,\"=1\",'Базовые цены с учетом расхода'!H26:H38),0)","v":0}]
[19,".   НАКЛАДНЫЕ РАСХОДЫ -","Б",0,null,{"$f":"ROUND(SUMIF(Определители!I26:I38,\"=1\",'Базовые цены с учетом расхода'!N26:N38),0)","v":0}]
[20,".   СМЕТНАЯ ПРИБЫЛЬ -","Б",0,null,{"$f":"ROUND(SUMIF(Определители!I26:I38,\"=1\",'Базовые цены с учетом расхода'!O26:O38),0)","v":0}]
[21,". ШЕФМОНТАЖ -","Б",0,null,{"$f":"ROUND(СУММПРОИЗВЕСЛИ(1,Определители!I26:I38,\" \",'Базовые цены с учетом расхода'!M26:M38,Начисления!I26:I38,0),0)","v":0}]
[22,"ВСЕГО, СТОИМОСТЬ МОНТАЖНЫХ РАБОТ -","!",0,null,{"$f":"ROUND((F338+F344+F345),0)","v":0}]
[23,"Монтажные работы БЦ ЭМ","s",0,null,{"$f":"ROUND((H338),0)","v":0}]
[24,"Монтажные работы БЦ ЗПМ","s",0,null,{"$f":"ROUND((I338),0)","v":0}]
[25,"Монтажные работы ТЦ ЗП","k",21.324000000000002,null,{"$f":"ROUND((G338)*D350,0)","v":0}]
[26,"Монтажные работы ТЦ ЗПМ","k",21.324000000000002,null,{"$f":"ROUND((F349)*D351,0)","v":0}]
[27,"Монтажные работы ТЦ ЭМ","k",6.1520000000000001,null,{"$f":"ROUND((F348)*D352,0)","v":0}]
[28,"Монтажные работы ТЦ материалы","k",6.32,null,{"$f":"ROUND((L338)*D353,0)","v":0}]
[29,"Монтажные работы ТЦ НР","k",21.324000000000002,null,{"$f":"ROUND((F344)*D354,0)","v":0}]
[30,"Монтажные работы ТЦ СП","k",21.324000000000002,null,{"$f":"ROUND((F345)*D355,0)","v":0}]
[31,"Монтажные работы ТЦ всего","s",0,null,{"$f":"ROUND((F350+F352+F353+F354+F355),0)","v":0}]
[32,"СТОИМОСТЬ ОБЩЕСТРОИТЕЛЬНЫХ РАБОТ -","Б",0,null,{"$f":"ROUND(SUMIF(Определители!I26:I38,\"=2\",'Базовые цены с учетом расхода'!B26:B38),0)","v":116562},{"$f":"ROUND(SUMIF(Определители!I26:I38,\"=2\",'Базовые цены с учетом расхода'!C26:C38),0)","v":1079},{"$f":"ROUND(SUMIF(Определители!I26:I38,\"=2\",'Базовые цены с учетом расхода'!D26:D38),0)","v":15018},{"$f":"ROUND(SUMIF(Определители!I26:I38,\"=2\",'Базовые цены с учетом расхода'!E26:E38),0)","v":1650},{"$f":"ROUND(SUMIF(Определители!I26:I38,\"=2\",'Базовые цены с учетом расхода'!I26:I38),8)","v":98.210604000000004},{"$f":"ROUND(SUMIF(Определители!I26:I38,\"=2\",'Базовые цены с учетом расхода'!K26:K38),8)","v":101.582436},{"$f":"ROUND(SUMIF(Определители!I26:I38,\"=2\",'Базовые цены с учетом расхода'!F26:F38),0)","v":100465}]
[33,".     В ТОМ ЧИСЛЕ:","Б",0]
[34,".       МАТЕРИАЛОВ -","Б",0,null,{"$f":"ROUND(СУММЕСЛИ2(Определители!I26:I38,\"2\",Определители!G26:G38,\"1\",'Базовые цены с учетом расхода'!B26:B38),0)","v":82505}]
[35,".   СТОИМОСТЬ ВОЗВРАЩАЕМЫХ МАТЕРИАЛОВ -","Б",0,null,{"$f":"ROUND(SUMIF(Определители!I26:I38,\"=2\",'Базовые цены с учетом расхода'!H26:H38),0)","v":0}]
[36,".   НАКЛАДНЫЕ РАСХОДЫ -","Б",0,null,{"$f":"ROUND(SUMIF(Определители!I26:I38,\"=2\",'Базовые цены с учетом расхода'!N26:N38),0)","v":3858}]
[37,".   СМЕТНАЯ ПРИБЫЛЬ -","Б",0,null,{"$f":"ROUND(SUMIF(Определители!I26:I38,\"=2\",'Базовые цены с учетом расхода'!O26:O38),0)","v":2198}]
[38,"ВСЕГО, СТОИМОСТЬ ОБЩЕСТРОИТЕЛЬНЫХ РАБОТ -","!",0,null,{"$f":"ROUND((F357+F361+F362),0)","v":122618}]
[39,"СТОИМОСТЬ МЕТАЛЛОМОНТАЖНЫХ РАБОТ -","Б",0,null,{"$f":"ROUND(SUMIF(Определители!I26:I38,\"=3\",'Базовые цены с учетом расхода'!B26:B38),0)","v":0},{"$f":"ROUND(SUMIF(Определители!I26:I38,\"=3\",'Базовые цены с учетом расхода'!C26:C38),0)","v":0},{"$f":"ROUND(SUMIF(Определители!I26:I38,\"=3\",'Базовые цены с учетом расхода'!D26:D38),0)","v":0},{"$f":"ROUND(SUMIF(Определители!I26:I38,\"=3\",'Базовые цены с учетом расхода'!E26:E38),0)","v":0},{"$f":"ROUND(SUMIF(Определители!I26:I38,\"=3\",'Базовые цены с учетом расхода'!I26:I38),8)","v":0},{"$f":"ROUND(SUMIF(Определители!I26:I38,\"=3\",'Базовые цены с учетом расхода'!K26:K38),8)","v":0},{"$f":"ROUND(SUMIF(Определители!I26:I38,\"=3\",'Базовые цены с учетом расхода'!F26:F38),0)","v":0}]
[40,".   СТОИМОСТЬ ВОЗВРАЩАЕМЫХ МАТЕРИАЛОВ -","Б",0,null,{"$f":"ROUND(SUMIF(Определители!I26:I38,\"=3\",'Базовые цены с учетом расхода'!H26:H38),0)","v":0}]
[41,".   НАКЛАДНЫЕ РАСХОДЫ -","Б",0,null,{"$f":"ROUND(SUMIF(Определители!I26:I38,\"=3\",'Базовые цены с учетом расхода'!N26:N38),0)","v":0}]
[42,".   СМЕТНАЯ ПРИБЫЛЬ -","Б",0,null,{"$f":"ROUND(SUMIF(Определители!I26:I38,\"=3\",'Базовые цены с учетом расхода'!O26:O38),0)","v":0}]
[43,"ВСЕГО, СТОИМОСТЬ МЕТАЛЛОМОНТАЖНЫХ РАБОТ -","!",0,null,{"$f":"ROUND((F364+F366+F367),0)","v":0}]
[44,"СТОИМОСТЬ САНТЕХНИЧЕСКИХ РАБОТ -","Б",0,null,{"$f":"ROUND(SUMIF(Определители!I26:I38,\"=4\",'Базовые цены с учетом расхода'!B26:B38),0)","v":0},{"$f":"ROUND(SUMIF(Определители!I26:I38,\"=4\",'Базовые цены с учетом расхода'!C26:C38),0)","v":0},{"$f":"ROUND(SUMIF(Определители!I26:I38,\"=4\",'Базовые цены с учетом расхода'!D26:D38),0)","v":0},{"$f":"ROUND(SUMIF(Определители!I26:I38,\"=4\",'Базовые цены с учетом расхода'!E26:E38),0)","v":0},{"$f":"ROUND(SUMIF(Определители!I26:I38,\"=4\",'Базовые цены с учетом расхода'!I26:I38),8)","v":0},{"$f":"ROUND(SUMIF(Определители!I26:I38,\"=4\",'Базовые цены с учетом расхода'!K26:K38),8)","v":0},{"$f":"ROUND(SUMIF(Определители!I26:I38,\"=4\",'Базовые цены с учетом расхода'!F26:F38),0)","v":0}]
[45,".     В ТОМ ЧИСЛЕ:","Б",0]
[46,". СДАЧА И ИСПЫТАНИЕ -","Б",0,null,{"$f":"ROUND(SUMIF(Определители!I26:I38,\"=4\",'Базовые цены с учетом расхода'!AJ26:AJ38),0)","v":0},{"$f":"ROUND(SUMIF(Определители!I26:I38,\"=4\",'Базовые цены с учетом расхода'!AI26:AI38),0)","v":0},{"$f":"ROUND(SUMIF(Определители!I26:I38,\"=4\",'Базовые цены с учетом расхода'!AH26:AH38),0)","v":0},{"$f":"ROUND(SUMIF(Определители!I26:I38,\"=4\",'Базовые цены с учетом расхода'!V26:V38),0)","v":0}]
[47,".   СТОИМОСТЬ ВОЗВРАЩАЕМЫХ МАТЕРИАЛОВ -","Б",0,null,{"$f":"ROUND(SUMIF(Определители!I26:I38,\"=4\",'Базовые цены с учетом расхода'!H26:H38),0)","v":0}]
[48,".   НАКЛАДНЫЕ РАСХОДЫ -","Б",0,null,{"$f":"ROUND(SUMIF(Определители!I26:I38,\"=4\",'Базовые цены с учетом расхода'!N26:N38),0)","v":0}]
[49,".   СМЕТНАЯ ПРИБЫЛЬ -","Б",0,null,{"$f":"ROUND(SUMIF(Определители!I26:I38,\"=4\",'Базовые цены с учетом расхода'!O26:O38),0)","v":0}]
[50,". ШЕФМОНТАЖ -","Б",0,null,{"$f":"ROUND(СУММПРОИЗВЕСЛИ(1,Определители!I26:I38,\" \",'Базовые цены с учетом расхода'!M26:M38,Начисления!I26:I38,0),0)","v":0}]
[51,"ВСЕГО, СТОИМОСТЬ САНТЕХНИЧЕСКИХ РАБОТ -","!",0,null,{"$f":"ROUND((F369+F373+F374),0)","v":0}]
[52,"СТОИМОСТЬ БУРО-ВЗРЫВНЫХ РАБОТ -","Б",0,null,{"$f":"ROUND(SUMIF(Определители!I26:I38,\"=5\",'Базовые цены с учетом расхода'!B26:B38),0)","v":0},{"$f":"ROUND(SUMIF(Определители!I26:I38,\"=5\",'Базовые цены с учетом расхода'!C26:C38),0)","v":0},{"$f":"ROUND(SUMIF(Определители!I26:I38,\"=5\",'Базовые цены с учетом расхода'!D26:D38),0)","v":0},{"$f":"ROUND(SUMIF(Определители!I26:I38,\"=5\",'Базовые цены с учетом расхода'!E26:E38),0)","v":0},{"$f":"ROUND(SUMIF(Определители!I26:I38,\"=5\",'Базовые цены с учетом расхода'!I26:I38),8)","v":0},{"$f":"ROUND(SUMIF(Определители!I26:I38,\"=5\",'Базовые цены с учетом расхода'!K26:K38),8)","v":0},{"$f":"ROUND(SUMIF(Определители!I26:I38,\"=5\",'Базовые цены с учетом расхода'!F26:F38),0)","v":0}]
[53,".   СТОИМОСТЬ ВОЗВРАЩАЕМЫХ МАТЕРИАЛОВ -","Б",0,null,{"$f":"ROUND(SUMIF(Определители!I26:I38,\"=5\",'Базовые цены с учетом расхода'!H26:H38),0)","v":0}]
[54,".   НАКЛАДНЫЕ РАСХОДЫ -","Б",0,null,{"$f":"ROUND(SUMIF(Определители!I26:I38,\"=5\",'Базовые цены с учетом расхода'!N26:N38),0)","v":0}]
[55,".   СМЕТНАЯ ПРИБЫЛЬ -","Б",0,null,{"$f":"ROUND(SUMIF(Определители!I26:I38,\"=5\",'Базовые цены с учетом расхода'!O26:O38),0)","v":0}]
[56,"ВСЕГО, СТОИМОСТЬ БУРО-ВЗРЫВНЫХ РАБОТ -","!",0,null,{"$f":"ROUND((F377+F379+F380),0)","v":0}]
[57,"СТОИМОСТЬ ГОРНОПРОХОДЧЕСКИХ РАБОТ -","Б",0,null,{"$f":"ROUND(SUMIF(Определители!I26:I38,\"=6\",'Базовые цены с учетом расхода'!B26:B38),0)","v":0},{"$f":"ROUND(SUMIF(Определители!I26:I38,\"=6\",'Базовые цены с учетом расхода'!C26:C38),0)","v":0},{"$f":"ROUND(SUMIF(Определители!I26:I38,\"=6\",'Базовые цены с учетом расхода'!D26:D38),0)","v":0},{"$f":"ROUND(SUMIF(Определители!I26:I38,\"=6\",'Базовые цены с учетом расхода'!E26:E38),0)","v":0},{"$f":"ROUND(SUMIF(Определители!I26:I38,\"=6\",'Базовые цены с учетом расхода'!I26:I38),8)","v":0},{"$f":"ROUND(SUMIF(Определители!I26:I38,\"=6\",'Базовые цены с учетом расхода'!K26:K38),8)","v":0},{"$f":"ROUND(SUMIF(Определители!I26:I38,\"=6\",'Базовые цены с учетом расхода'!F26:F38),0)","v":0}]
[58,".   СТОИМОСТЬ ВОЗВРАЩАЕМЫХ МАТЕРИАЛОВ -","Б",0,null,{"$f":"ROUND(SUMIF(Определители!I26:I38,\"=6\",'Базовые цены с учетом расхода'!H26:H38),0)","v":0}]
[59,".   НАКЛАДНЫЕ РАСХОДЫ -","Б",0,null,{"$f":"ROUND(SUMIF(Определители!I26:I38,\"=6\",'Базовые цены с учетом расхода'!N26:N38),0)","v":0}]
[60,".   СМЕТНАЯ ПРИБЫЛЬ -","Б",0,null,{"$f":"ROUND(SUMIF(Определители!I26:I38,\"=6\",'Базовые цены с учетом расхода'!O26:O38),0)","v":0}]
[61,"ВСЕГО, СТОИМОСТЬ ГОРНОПРОХОДЧЕСКИХ РАБОТ -","!",0,null,{"$f":"ROUND((F382+F384+F385),0)","v":0}]
[62,"СТОИМОСТЬ РЕСТАВРАЦИОННЫХ РАБОТ -","Б",0,null,{"$f":"ROUND(SUMIF(Определители!I26:I38,\"=7\",'Базовые цены с учетом расхода'!B26:B38),0)","v":0},{"$f":"ROUND(SUMIF(Определители!I26:I38,\"=7\",'Базовые цены с учетом расхода'!C26:C38),0)","v":0},{"$f":"ROUND(SUMIF(Определители!I26:I38,\"=7\",'Базовые цены с учетом расхода'!D26:D38),0)","v":0},{"$f":"ROUND(SUMIF(Определители!I26:I38,\"=7\",'Базовые цены с учетом расхода'!E26:E38),0)","v":0},{"$f":"ROUND(SUMIF(Определители!I26:I38,\"=7\",'Базовые цены с учетом расхода'!I26:I38),8)","v":0},{"$f":"ROUND(SUMIF(Определители!I26:I38,\"=7\",'Базовые цены с учетом расхода'!K26:K38),8)","v":0},{"$f":"ROUND(SUMIF(Определители!I26:I38,\"=7\",'Базовые цены с учетом расхода'!F26:F38),0)","v":0}]
[63,".     В ТОМ ЧИСЛЕ:","Б",0]
[64,". МАТЕРИАЛЫ -","Б",0,null,{"$f":"ROUND(СУММЕСЛИ2(Определители!I26:I38,\"2\",Определители!G26:G38,\"1\",'Базовые цены с учетом расхода'!B26:B38),0)","v":82505}]
[65,".   СТОИМОСТЬ ВОЗВРАЩАЕМЫХ МАТЕРИАЛОВ -","Б",0,null,{"$f":"ROUND(SUMIF(Определители!I26:I38,\"=7\",'Базовые цены с учетом расхода'!H26:H38),0)","v":0}]
[66,".   НАКЛАДНЫЕ РАСХОДЫ -","Б",0,null,{"$f":"ROUND(SUMIF(Определители!I26:I38,\"=7\",'Базовые цены с учетом расхода'!N26:N38),0)","v":0}]
[67,".   СМЕТНАЯ ПРИБЫЛЬ -","Б",0,null,{"$f":"ROUND(SUMIF(Определители!I26:I38,\"=7\",'Базовые цены с учетом расхода'!O26:O38),0)","v":0}]
[68,"ВСЕГО, СТОИМОСТЬ РЕСТАВРАЦИОННЫХ РАБОТ -","!",0,null,{"$f":"ROUND((F387+F391+F392),0)","v":0}]
[69,"Строительные работы БЦ ЭМ","s",0,null,{"$f":"ROUND((H357+H364+H369+H377+H382+H387),0)","v":15018}]
[70,"Строительные работы БЦ ЗПМ","s",0,null,{"$f":"ROUND((I357+I364+I369+I377+I382+I387),0)","v":1650}]
[71,"Строительные работы ТЦ ЗП","k",21.324000000000002,null,{"$f":"ROUND((G357+G364+G369+G377+G382+G387)*D396,0)","v":23009}]
[72,"Строительные работы ТЦ ЗПМ","k",21.324000000000002,null,{"$f":"ROUND((F395)*D397,0)","v":35185}]
[73,"Строительные работы ТЦ ЭМ","k",6.1520000000000001,null,{"$f":"ROUND((F394)*D398,0)","v":92391}]
[74,"Строительные работы ТЦ материалы","k",6.32,null,{"$f":"ROUND((L357+L364+L369+L377+L382+L387)*D399,0)","v":634939}]
[75,"Строительные работы ТЦ НР","k",21.324000000000002,null,{"$f":"ROUND((F361+F366+F373+F379+F384+F391)*D400,0)","v":82268}]
[76,"Строительные работы ТЦ СП","k",21.324000000000002,null,{"$f":"ROUND((F362+F367+F374+F380+F385+F392)*D401,0)","v":46870}]
[77,"Строительные работы ТЦ всего","s",0,null,{"$f":"ROUND((F396+F398+F399+F400+F401),0)","v":879477}]
[78,"СТОИМОСТЬ ПЕРЕВОЗКИ ГРУЗОВ -","Б",0,null,{"$f":"ROUND(SUMIF(Определители!I26:I38,\"=;\",'Базовые цены с учетом расхода'!B26:B38),0)","v":16658},{"$f":"ROUND(SUMIF(Определители!I26:I38,\"=;\",'Базовые цены с учетом расхода'!C26:C38),0)","v":1315},{"$f":"ROUND(SUMIF(Определители!I26:I38,\"=;\",'Базовые цены с учетом расхода'!D26:D38),0)","v":12171},{"$f":"ROUND(SUMIF(Определители!I26:I38,\"=;\",'Базовые цены с учетом расхода'!E26:E38),0)","v":669},{"$f":"ROUND(SUMIF(Определители!I26:I38,\"=;\",'Базовые цены с учетом расхода'!I26:I38),8)","v":140.19390000000001},{"$f":"ROUND(SUMIF(Определители!I26:I38,\"=;\",'Базовые цены с учетом расхода'!K26:K38),8)","v":55.301400000000001},{"$f":"ROUND(SUMIF(Определители!I26:I38,\"=;\",'Базовые цены с учетом расхода'!F26:F38),0)","v":0}]
[79,"СТОИМОСТЬ ПОГРУЗКИ-РАЗГРУЗКИ","m",0,null,{"$f":"ROUND((F403-F422-F423-F424),0)","v":9207},{"$f":"ROUND((G403-G422-G423-G424),0)","v":1315},{"$f":"ROUND((H403-H422-H423-H424),0)","v":4720},{"$f":"ROUND((I403-I422-I423-I424),0)","v":669},{"$f":"ROUND((J403-J422-J423-J424),8)","v":140.19390000000001},{"$f":"ROUND((K403-K422-K423-K424),8)","v":55.301400000000001},{"$f":"ROUND((L403-L422-L423-L424),0)","v":0}]
[80,".   В Т.Ч. НАКЛАДНЫЕ РАСХОДЫ -","Б",0,null,{"$f":"ROUND(SUMIF(Определители!I26:I38,\"=;\",'Базовые цены с учетом расхода'!AF26:AF38),0)","v":1984}]
[81,".   В Т.Ч. СМЕТНАЯ ПРИБЫЛЬ -","Б",0,null,{"$f":"ROUND(SUMIF(Определители!I26:I38,\"=;\",'Базовые цены с учетом расхода'!AG26:AG38),0)","v":1188}]
[82,".   НАКЛАДНЫЕ РАСХОДЫ -","Б",0,null,{"$f":"ROUND(SUMIF(Определители!I26:I38,\"=;\",'Базовые цены с учетом расхода'!N26:N38),0)","v":0}]
[83,".   СМЕТНАЯ ПРИБЫЛЬ -","Б",0,null,{"$f":"ROUND(SUMIF(Определители!I26:I38,\"=;\",'Базовые цены с учетом расхода'!O26:O38),0)","v":0}]
[84,"ВСЕГО, СТОИМОСТЬ ПЕРЕВОЗКИ ГРУЗОВ -","!",0,null,{"$f":"ROUND((F403+F407+F408),0)","v":16658}]
[85,"ВСЕГО, СТОИМОСТЬ ПОГРУЗКИ-РАЗГРУЗКИ -","s",0,null,{"$f":"ROUND((F404+F407+F408),0)","v":9207}]
[86,"Погрузка-разгрузка БЦ ЭМ","s",0,null,{"$f":"ROUND((H404),0)","v":4720}]
[87,"Погрузка-разгрузка БЦ ЗПМ","s",0,null,{"$f":"ROUND((I404),0)","v":669}]
[88,"Погрузка-разгрузка ТЦ ЗП","k",21.324000000000002,null,{"$f":"ROUND((G404)*D413,0)","v":28041}]
[89,"Погрузка-разгрузка ТЦ ЗПМ","k",21.324000000000002,null,{"$f":"ROUND((I404)*D414,0)","v":14266}]
[90,"Погрузка-разгрузка ТЦ ЭМ","k",6.1520000000000001,null,{"$f":"ROUND((F411)*D415,0)","v":29037}]
[91,"Погрузка-разгрузка ТЦ материалы","k",6.32,null,{"$f":"ROUND((L403)*D416,0)","v":0}]
[92,"Погрузка-разгрузка ТЦ в т.ч. НР","k",21.324000000000002,null,{"$f":"ROUND((F405)*D417,0)","v":42307}]
[93,"Погрузка-разгрузка ТЦ в т.ч. СП","k",21.324000000000002,null,{"$f":"ROUND((F406)*D418,0)","v":25333}]
[94,"Погрузка-разгрузка ТЦ НР","k",21.324000000000002,null,{"$f":"ROUND((F407)*D419,0)","v":0}]
[95,"Погрузка-разгрузка ТЦ СП","k",21.324000000000002,null,{"$f":"ROUND((F408)*D420,0)","v":0}]
[96,"Погрузка-разгрузка ТЦ всего","s",0,null,{"$f":"ROUND((F413+F415+F416+F419+F420+F417+F418),0)","v":124718}]
[97,"ПЕРЕВОЗКА (таб.6)","f",0]
[98,"ПЕРЕВОЗКА (таб.7)","f",0]
[99,"ПЕРЕВОЗКА (таб.8)","f",0,null,7451,null,7451]
[100,"Перевозка (таб.6) ТЦ","k",1,null,{"$f":"ROUND((F422)*D425,0)","v":0}]
[101,"Перевозка (таб.7) ТЦ","k",1,null,{"$f":"ROUND((F423)*D426,0)","v":0}]
[102,"Перевозка (таб.8) ТЦ","k",10.144,null,{"$f":"ROUND((F424)*D427,0)","v":75583}]
[103,"Перевозка ТЦ  всего","s",0,null,{"$f":"ROUND((F425+F426+F427),0)","v":75583}]
[104,"СТОИМОСТЬ ПУСКОНАЛАДОЧНЫХ РАБОТ -","Б",0,null,{"$f":"ROUND(SUMIF(Определители!I26:I38,\"=9\",'Базовые цены с учетом расхода'!B26:B38),0)","v":0},{"$f":"ROUND(SUMIF(Определители!I26:I38,\"=9\",'Базовые цены с учетом расхода'!C26:C38),0)","v":0},{"$f":"ROUND(SUMIF(Определители!I26:I38,\"=9\",'Базовые цены с учетом расхода'!D26:D38),0)","v":0},{"$f":"ROUND(SUMIF(Определители!I26:I38,\"=9\",'Базовые цены с учетом расхода'!E26:E38),0)","v":0},{"$f":"ROUND(SUMIF(Определители!I26:I38,\"=9\",'Базовые цены с учетом расхода'!I26:I38),8)","v":0},{"$f":"ROUND(SUMIF(Определители!I26:I38,\"=9\",'Базовые цены с учетом расхода'!K26:K38),8)","v":0},{"$f":"ROUND(SUMIF(Определители!I26:I38,\"=9\",'Базовые цены с учетом расхода'!F26:F38),0)","v":0}]
[105,".   НАКЛАДНЫЕ РАСХОДЫ -","Б",0,null,{"$f":"ROUND(SUMIF(Определители!I26:I38,\"=9\",'Базовые цены с учетом расхода'!N26:N38),0)","v":0}]
[106,".   СМЕТНАЯ ПРИБЫЛЬ -","Б",0,null,{"$f":"ROUND(SUMIF(Определители!I26:I38,\"=9\",'Базовые цены с учетом расхода'!O26:O38),0)","v":0}]
[107,"ВСЕГО, СТОИМОСТЬ ПУСКОНАЛАДОЧНЫХ РАБОТ -","!",0,null,{"$f":"ROUND((F429+F430+F431),0)","v":0}]
[108,"Пусконаладочные работы ТЦ ЗП","k",1,null,{"$f":"ROUND((G429)*D433,0)","v":0}]
[109,"Пусконаладочные работы ТЦ НР","k",1,null,{"$f":"ROUND((F430)*D434,0)","v":0}]
[110,"Пусконаладочные работы ТЦ СП","k",1,null,{"$f":"ROUND((F431)*D435,0)","v":0}]
[111,"Пусконаладочные работы ТЦ всего","s",0,null,{"$f":"ROUND((F433+F434+F435),0)","v":0}]
[112,"СТОИМОСТЬ ПРОЧИХ РАБОТ (с НР и СП) -","Б",0,null,{"$f":"ROUND(SUMIF(Определители!I26:I38,\"=:\",'Базовые цены с учетом расхода'!B26:B38),0)","v":0},{"$f":"ROUND(SUMIF(Определители!I26:I38,\"=:\",'Базовые цены с учетом расхода'!C26:C38),0)","v":0},{"$f":"ROUND(SUMIF(Определители!I26:I38,\"=:\",'Базовые цены с учетом расхода'!D26:D38),0)","v":0},{"$f":"ROUND(SUMIF(Определители!I26:I38,\"=:\",'Базовые цены с учетом расхода'!E26:E38),0)","v":0},{"$f":"ROUND(SUMIF(Определители!I26:I38,\"=:\",'Базовые цены с учетом расхода'!I26:I38),8)","v":0},{"$f":"ROUND(SUMIF(Определители!I26:I38,\"=:\",'Базовые цены с учетом расхода'!K26:K38),8)","v":0},{"$f":"ROUND(SUMIF(Определители!I26:I38,\"=:\",'Базовые цены с учетом расхода'!F26:F38),0)","v":0}]
[113,".   СТОИМОСТЬ ВОЗВРАЩАЕМЫХ МАТЕРИАЛОВ -","Б",0,null,{"$f":"ROUND(SUMIF(Определители!I26:I38,\"=:\",'Базовые цены с учетом расхода'!H26:H38),0)","v":0}]
[114,".   НАКЛАДНЫЕ РАСХОДЫ -","Б",0,null,{"$f":"ROUND(SUMIF(Определители!I26:I38,\"=:\",'Базовые цены с учетом расхода'!N26:N38),0)","v":0}]
[115,".   СМЕТНАЯ ПРИБЫЛЬ -","Б",0,null,{"$f":"ROUND(SUMIF(Определители!I26:I38,\"=:\",'Базовые цены с учетом расхода'!O26:O38),0)","v":0}]
[116,"ВСЕГО, СТОИМОСТЬ ПРОЧИХ РАБОТ (с НР и СП) -","!",0,null,{"$f":"ROUND((F437+F439+F440),0)","v":0}]
[117,"ВСЕГО, СТОИМОСТЬ ПРОЧИХ РАБОТ (без НР и СП) -","Б",0,null,{"$f":"ROUND(SUMIF(Определители!I26:I38,\"=8\",'Базовые цены с учетом расхода'!B26:B38),0)","v":0},{"$f":"ROUND(SUMIF(Определители!I26:I38,\"=8\",'Базовые цены с учетом расхода'!C26:C38),0)","v":0},{"$f":"ROUND(SUMIF(Определители!I26:I38,\"=8\",'Базовые цены с учетом расхода'!D26:D38),0)","v":0},{"$f":"ROUND(SUMIF(Определители!I26:I38,\"=8\",'Базовые цены с учетом расхода'!E26:E38),0)","v":0},{"$f":"ROUND(SUMIF(Определители!I26:I38,\"=8\",'Базовые цены с учетом расхода'!I26:I38),8)","v":0},{"$f":"ROUND(SUMIF(Определители!I26:I38,\"=8\",'Базовые цены с учетом расхода'!K26:K38),8)","v":0},{"$f":"ROUND(SUMIF(Определители!I26:I38,\"=8\",'Базовые цены с учетом расхода'!F26:F38),0)","v":0}]
[118,".   СТОИМОСТЬ ВОЗВРАЩАЕМЫХ МАТЕРИАЛОВ -","Б",0,null,{"$f":"ROUND(SUMIF(Определители!I26:I38,\"=8\",'Базовые цены с учетом расхода'!H26:H38),0)","v":0}]
[119,"Прочие работы БЦ ЭМ","s",0,null,{"$f":"ROUND((H437+H442),0)","v":0}]
[120,"Прочие работы БЦ ЗПМ","s",0,null,{"$f":"ROUND((I437+I442),0)","v":0}]
[121,"Прочие работы ТЦ ЗП","k",1,null,{"$f":"ROUND((G437+G442)*D446,0)","v":0}]
[122,"Прочие работы ТЦ ЗПМ","k",1,null,{"$f":"ROUND((F445)*D447,0)","v":0}]
[123,"Прочие работы ТЦ ЭМ","k",1,null,{"$f":"ROUND((F444)*D448,0)","v":0}]
[124,"Прочие работы ТЦ материалы","k",1,null,{"$f":"ROUND((L437+L442)*D449,0)","v":0}]
[125,"Прочие работы ТЦ НР","k",1,null,{"$f":"ROUND((F439)*D450,0)","v":0}]
[126,"Прочие работы ТЦ СП","k",1,null,{"$f":"ROUND((F440)*D451,0)","v":0}]
[127,"Прочие работы ТЦ всего","s",0,null,{"$f":"ROUND((F446+F448+F449+F450+F451),0)","v":0}]
[128,". ВСЕГО  ПО  СМЕТЕ","!",0,null,{"$f":"ROUND((F336+F347+F363+F368+F376+F381+F386+F393+F409+F432+F441+F442),0)","v":139276},{"$f":"ROUND((G336+G347+G363+G368+G376+G381+G386+G393+G409+G432+G441+G442),0)","v":0},{"$f":"ROUND((H336+H347+H363+H368+H376+H381+H386+H393+H409+H432+H441+H442),0)","v":0},{"$f":"ROUND((I336+I347+I363+I368+I376+I381+I386+I393+I409+I432+I441+I442),0)","v":0},{"$f":"ROUND((J336+J347+J363+J368+J376+J381+J386+J393+J409+J432+J441+J442),8)","v":0},{"$f":"ROUND((K336+K347+K363+K368+K376+K381+K386+K393+K409+K432+K441+K442),8)","v":0},{"$f":"ROUND((L336+L347+L363+L368+L376+L381+L386+L393+L409+L432+L441+L442),0)","v":0}]
[129,"ВСЕГО СТОИМОСТЬ ВОЗВРАЩАЕМЫХ МАТЕРИАЛОВ -","!",0,null,{"$f":"ROUND((F343+F360+F365+F372+F378+F383+F390+F438+F443),0)","v":0}]
[130,"ВСЕГО НАКЛАДНЫЕ РАСХОДЫ","!",0,null,{"$f":"ROUND((F344+F361+F366+F373+F379+F384+F391+F407+F430+F439),0)","v":3858}]
[131,"ВСЕГО НАКЛАДНЫЕ РАСХОДЫ","s",0,null,{"$f":"ROUND((F455+F405),0)","v":5842}]
[132,"ВСЕГО СМЕТНАЯ ПРИБЫЛЬ","!",0,null,{"$f":"ROUND((F345+F362+F367+F374+F380+F385+F392+F408+F431+F440),0)","v":2198}]
[133,"ВСЕГО СМЕТНАЯ ПРИБЫЛЬ","s",0,null,{"$f":"ROUND((F457+F406),0)","v":3386}]
[134,"в т.ч. Вспомогательные материалы на монтаж","h",0,null,{"$f":"ROUND(SUM('Базовые цены с учетом расхода'!X26:X38),0)","v":0},null,null,null,null,null,{"$f":"ROUND(SUM('Базовые цены с учетом расхода'!X26:X38),0)","v":0}]
[135,"в т.ч. Вспомогательные материалы от ОЗП","h",0,null,{"$f":"ROUND(SUM('Базовые цены с учетом расхода'!AE26:AE38),0)","v":0}]
[136,"Оплата основных рабочих","h",0,null,{"$f":"ROUND(SUM('Базовые цены с учетом расхода'!C26:C38),0)","v":2394}]
[137,"Оплата механизаторов","h",0,null,{"$f":"ROUND(SUM('Базовые цены с учетом расхода'!E26:E38),0)","v":2319}]
[138,"Стоимость механизмов","h",0,null,{"$f":"ROUND(SUM('Базовые цены с учетом расхода'!D26:D38),0)","v":27189}]
[139,"Сметная стоимость материалов","h",0,null,{"$f":"ROUND(SUM('Базовые цены с учетом расхода'!F26:F38),0)","v":100465},null,null,null,null,null,{"$f":"ROUND(SUM('Базовые цены с учетом расхода'!F26:F38),0)","v":100465}]
[140,"Трудозатраты осн. рабочих","h",0,null,null,null,null,null,{"$f":"ROUND(SUM('Базовые цены с учетом расхода'!I26:I38),8)","v":238.404504}]
[141,"Трудозатраты механизаторов","h",0,null,null,null,null,null,{"$f":"ROUND(SUM('Базовые цены с учетом расхода'!K26:K38),8)","v":156.883836}]
[142,"Нормативная трудоемкость","s",0,null,null,null,null,null,{"$f":"ROUND((J465+J466),8)","v":395.28834000000001}]
[143,"Оплата основных рабочих ТЦ","s",0,null,{"$f":"ROUND((F350+F396+F413+F446+F433),0)","v":51050}]
[144,"Оплата механизаторов ТЦ","s",0,null,{"$f":"ROUND((F351+F397+F414+F447),0)","v":49451}]
[145,"Стоимость механизмов ТЦ","s",0,null,{"$f":"ROUND((F352+F398+F415+F448),0)","v":121428}]
[146,"Стоимость материалов ТЦ","s",0,null,{"$f":"ROUND((F353+F399+F416+F449),0)","v":634939}]
[147,"Оборудование ТЦ","s",0,null,{"$f":"ROUND((F337),0)","v":0}]
[148,"Перевозка ТЦ","s",0,null,{"$f":"ROUND((F428),0)","v":75583}]
[149,"ИТОГО ТЦ","s",0,null,{"$f":"ROUND((F468+F470+F471+F472+F473),0)","v":883000}]
[150,"В Т.Ч. НАКЛАДНЫЕ РАСХОДЫ ТЦ","s",0,null,{"$f":"ROUND((F417),0)","v":42307}]
[151,"В Т.Ч. СМЕТНАЯ ПРИБЫЛЬ ТЦ","s",0,null,{"$f":"ROUND((F418),0)","v":25333}]
[152,"НАКЛАДНЫЕ РАСХОДЫ ТЦ","s",0,null,{"$f":"ROUND((F354+F400+F419+F434+F450+F417),0)","v":124575}]
[153,"СМЕТНАЯ ПРИБЫЛЬ ТЦ","s",0,null,{"$f":"ROUND((F355+F401+F420+F451+F435+F418),0)","v":72203}]
[154,"ВСЕГО ТЦ","s",0,null,{"$f":"ROUND((F474+F477+F478),0)","v":1079778}]
[]
[null,"Раздел 4.  Установка бортовых камней"]
[]
[null,"Наименование","Вид","Значение","ЕИ","Z1","Z2","Z3","Z4","Z5","Z6","Z7","Z8"]
[1,".    ИТОГО  ПО  СМЕТЕ","А",0,null,{"$f":"ROUND(SUM('Базовые цены с учетом расхода'!B42:B46),0)","v":18571},{"$f":"ROUND(SUM('Базовые цены с учетом расхода'!C42:C46),0)","v":2025},{"$f":"ROUND(SUM('Базовые цены с учетом расхода'!D42:D46),0)","v":-78},{"$f":"ROUND(SUM('Базовые цены с учетом расхода'!E42:E46),0)","v":-11},{"$f":"ROUND(SUM('Базовые цены с учетом расхода'!I42:I46),8)","v":197.21520000000001},{"$f":"ROUND(SUM('Базовые цены с учетом расхода'!K42:K46),8)","v":-0.64680000000000004},{"$f":"ROUND(SUM('Базовые цены с учетом расхода'!F42:F46),0)","v":16624}]
[2,"СТОИМОСТЬ ОБОРУДОВАНИЯ -","Б",0,null,{"$f":"ROUND(SUMIF(Определители!I42:I46,\"= \",'Базовые цены с учетом расхода'!B42:B46),0)","v":0},{"$f":"ROUND(SUMIF(Определители!I42:I46,\"= \",'Базовые цены с учетом расхода'!C42:C46),0)","v":0},{"$f":"ROUND(SUMIF(Определители!I42:I46,\"= \",'Базовые цены с учетом расхода'!D42:D46),0)","v":0},{"$f":"ROUND(SUMIF(Определители!I42:I46,\"= \",'Базовые цены с учетом расхода'!E42:E46),0)","v":0},{"$f":"ROUND(SUMIF(Определители!I42:I46,\"= \",'Базовые цены с учетом расхода'!I42:I46),8)","v":0},{"$f":"ROUND(SUMIF(Определители!I42:I46,\"= \",'Базовые цены с учетом расхода'!K42:K46),8)","v":0},{"$f":"ROUND(SUMIF(Определители!I42:I46,\"= \",'Базовые цены с учетом расхода'!F42:F46),0)","v":0}]
[3,".   ЗАПАСНЫЕ ЧАСТИ -","Б",0,null,{"$f":"ROUND(СУММПРОИЗВЕСЛИ(0.01,Определители!I42:I46,\" \",'Базовые цены с учетом расхода'!B42:B46,Начисления!X42:X46,0),0)","v":0}]
[4,".   ТАРА И УПАКОВКА -","Б",0,null,{"$f":"ROUND(СУММПРОИЗВЕСЛИ(0.01,Определители!I42:I46,\" \",'Базовые цены с учетом расхода'!B42:B46,Начисления!Y42:Y46,0),0)","v":0}]
[5,".   ТРАНСПОРТНЫЕ РАСХОДЫ -","Б",0,null,{"$f":"ROUND(ТРАНСПРАСХОД(Определители!B42:B46,Определители!H42:H46,Определители!I42:I46,'Базовые цены с учетом расхода'!B42:B46,Начисления!Z42:Z46,Начисления!AA42:AA46),0)","v":0}]
[6,".   КОМПЛЕКТАЦИЯ -","Б",0,null,{"$f":"ROUND(СУММПРОИЗВЕСЛИ(0.01,Определители!I42:I46,\" \",'Базовые цены с учетом расхода'!B42:B46,Начисления!AC42:AC46,0),0)","v":0}]
[7,".   НАЦЕНКА СНАБА -","Б",0,null,{"$f":"ROUND(СУММПРОИЗВЕСЛИ(0.01,Определители!I42:I46,\" \",'Базовые цены с учетом расхода'!B42:B46,Начисления!AF42:AF46,0),0)","v":0}]
[8,".   ЗАГОТОВИТЕЛЬНО-СКЛАДСКИЕ РАСХОДЫ -","Б",0,null,{"$f":"ROUND(ЗАГОТСКЛАДРАСХОД(Определители!B42:B46,Определители!H42:H46,Определители!I42:I46,'Базовые цены с учетом расхода'!B42:B46,Начисления!X42:X46,Начисления!Y42:Y46,Начисления!Z42:Z46,Начисления!AA42:AA46,Начисления!AB42:AB46,Начисления!AC42:AC46,Начисления!AF42:AF46),0)","v":0}]
[9,". ШЕФМОНТАЖ ПО ОБОРУДОВАНИЮ -","Б",0,null,{"$f":"ROUND(СУММПРОИЗВЕСЛИ(1,Определители!I42:I46,\" \",'Базовые цены с учетом расхода'!M42:M46,Начисления!I42:I46,0),0)","v":0}]
[10,". ШЕФМОНТАЖ -","!",0,null,{"$f":"ROUND((F492+F504+F533),0)","v":0}]
[11,"ВСЕГО, СТОИМОСТЬ ОБОРУДОВАНИЯ -","!",0,null,{"$f":"ROUND((F485+F486+F487+F488+F489+F490+F491+F493),0)","v":0}]
[12,"Оборудование ТЦ","k",1,null,{"$f":"ROUND((F494)*D495,0)","v":0}]
[13,"СТОИМОСТЬ МОНТАЖНЫХ РАБОТ -","Б",0,null,{"$f":"ROUND(SUMIF(Определители!I42:I46,\"=1\",'Базовые цены с учетом расхода'!B42:B46),0)","v":0},{"$f":"ROUND(SUMIF(Определители!I42:I46,\"=1\",'Базовые цены с учетом расхода'!C42:C46),0)","v":0},{"$f":"ROUND(SUMIF(Определители!I42:I46,\"=1\",'Базовые цены с учетом расхода'!D42:D46),0)","v":0},{"$f":"ROUND(SUMIF(Определители!I42:I46,\"=1\",'Базовые цены с учетом расхода'!E42:E46),0)","v":0},{"$f":"ROUND(SUMIF(Определители!I42:I46,\"=1\",'Базовые цены с учетом расхода'!I42:I46),8)","v":0},{"$f":"ROUND(SUMIF(Определители!I42:I46,\"=1\",'Базовые цены с учетом расхода'!K42:K46),8)","v":0},{"$f":"ROUND(SUMIF(Определители!I42:I46,\"=1\",'Базовые цены с учетом расхода'!F42:F46),0)","v":0}]
[14,".     В ТОМ ЧИСЛЕ:","Б",0]
[15,". ОТКЛОНЕНИЕ ПО ЗАРАБОТНОЙ ПЛАТЕ -","Б",0,null,null,{"$f":"ROUND(SUMIF(Определители!I42:I46,\"=1\",'Базовые цены с учетом расхода'!T42:T46),0)","v":0}]
[16,". КОСВЕННЫЕ РАСХОДЫ -","Б",0,null,{"$f":"ROUND(SUMIF(Определители!I42:I46,\"=1\",'Базовые цены с учетом расхода'!U42:U46),0)","v":0}]
[17,". МАТЕРИАЛЬНЫЕ РЕСУРСЫ НЕ УЧТЕННЫЕ В РАСЦЕНКАХ -","Б",0,null,{"$f":"ROUND(СУММЕСЛИ2(Определители!I42:I46,\"1\",Определители!G42:G46,\"1\",'Базовые цены с учетом расхода'!B42:B46),0)","v":0}]
[18,".   СТОИМОСТЬ ВОЗВРАЩАЕМЫХ МАТЕРИАЛОВ -","Б",0,null,{"$f":"ROUND(SUMIF(Определители!I42:I46,\"=1\",'Базовые цены с учетом расхода'!H42:H46),0)","v":0}]
[19,".   НАКЛАДНЫЕ РАСХОДЫ -","Б",0,null,{"$f":"ROUND(SUMIF(Определители!I42:I46,\"=1\",'Базовые цены с учетом расхода'!N42:N46),0)","v":0}]
[20,".   СМЕТНАЯ ПРИБЫЛЬ -","Б",0,null,{"$f":"ROUND(SUMIF(Определители!I42:I46,\"=1\",'Базовые цены с учетом расхода'!O42:O46),0)","v":0}]
[21,". ШЕФМОНТАЖ -","Б",0,null,{"$f":"ROUND(СУММПРОИЗВЕСЛИ(1,Определители!I42:I46,\" \",'Базовые цены с учетом расхода'!M42:M46,Начисления!I42:I46,0),0)","v":0}]
[22,"ВСЕГО, СТОИМОСТЬ МОНТАЖНЫХ РАБОТ -","!",0,null,{"$f":"ROUND((F496+F502+F503),0)","v":0}]
[23,"Монтажные работы БЦ ЭМ","s",0,null,{"$f":"ROUND((H496),0)","v":0}]
[24,"Монтажные работы БЦ ЗПМ","s",0,null,{"$f":"ROUND((I496),0)","v":0}]
[25,"Монтажные работы ТЦ ЗП","k",21.324000000000002,null,{"$f":"ROUND((G496)*D508,0)","v":0}]
[26,"Монтажные работы ТЦ ЗПМ","k",21.324000000000002,null,{"$f":"ROUND((F507)*D509,0)","v":0}]
[27,"Монтажные работы ТЦ ЭМ","k",6.1520000000000001,null,{"$f":"ROUND((F506)*D510,0)","v":0}]
[28,"Монтажные работы ТЦ материалы","k",6.32,null,{"$f":"ROUND((L496)*D511,0)","v":0}]
[29,"Монтажные работы ТЦ НР","k",21.324000000000002,null,{"$f":"ROUND((F502)*D512,0)","v":0}]
[30,"Монтажные работы ТЦ СП","k",21.324000000000002,null,{"$f":"ROUND((F503)*D513,0)","v":0}]
[31,"Монтажные работы ТЦ всего","s",0,null,{"$f":"ROUND((F508+F510+F511+F512+F513),0)","v":0}]
[32,"СТОИМОСТЬ ОБЩЕСТРОИТЕЛЬНЫХ РАБОТ -","Б",0,null,{"$f":"ROUND(SUMIF(Определители!I42:I46,\"=2\",'Базовые цены с учетом расхода'!B42:B46),0)","v":18571},{"$f":"ROUND(SUMIF(Определители!I42:I46,\"=2\",'Базовые цены с учетом расхода'!C42:C46),0)","v":2025},{"$f":"ROUND(SUMIF(Определители!I42:I46,\"=2\",'Базовые цены с учетом расхода'!D42:D46),0)","v":-78},{"$f":"ROUND(SUMIF(Определители!I42:I46,\"=2\",'Базовые цены с учетом расхода'!E42:E46),0)","v":-11},{"$f":"ROUND(SUMIF(Определители!I42:I46,\"=2\",'Базовые цены с учетом расхода'!I42:I46),8)","v":197.21520000000001},{"$f":"ROUND(SUMIF(Определители!I42:I46,\"=2\",'Базовые цены с учетом расхода'!K42:K46),8)","v":-0.64680000000000004},{"$f":"ROUND(SUMIF(Определители!I42:I46,\"=2\",'Базовые цены с учетом расхода'!F42:F46),0)","v":16624}]
[33,".     В ТОМ ЧИСЛЕ:","Б",0]
[34,".       МАТЕРИАЛОВ -","Б",0,null,{"$f":"ROUND(СУММЕСЛИ2(Определители!I42:I46,\"2\",Определители!G42:G46,\"1\",'Базовые цены с учетом расхода'!B42:B46),0)","v":0}]
[35,".   СТОИМОСТЬ ВОЗВРАЩАЕМЫХ МАТЕРИАЛОВ -","Б",0,null,{"$f":"ROUND(SUMIF(Определители!I42:I46,\"=2\",'Базовые цены с учетом расхода'!H42:H46),0)","v":0}]
[36,".   НАКЛАДНЫЕ РАСХОДЫ -","Б",0,null,{"$f":"ROUND(SUMIF(Определители!I42:I46,\"=2\",'Базовые цены с учетом расхода'!N42:N46),0)","v":2967}]
[37,".   СМЕТНАЯ ПРИБЫЛЬ -","Б",0,null,{"$f":"ROUND(SUMIF(Определители!I42:I46,\"=2\",'Базовые цены с учетом расхода'!O42:O46),0)","v":1707}]
[38,"ВСЕГО, СТОИМОСТЬ ОБЩЕСТРОИТЕЛЬНЫХ РАБОТ -","!",0,null,{"$f":"ROUND((F515+F519+F520),0)","v":23245}]
[39,"СТОИМОСТЬ МЕТАЛЛОМОНТАЖНЫХ РАБОТ -","Б",0,null,{"$f":"ROUND(SUMIF(Определители!I42:I46,\"=3\",'Базовые цены с учетом расхода'!B42:B46),0)","v":0},{"$f":"ROUND(SUMIF(Определители!I42:I46,\"=3\",'Базовые цены с учетом расхода'!C42:C46),0)","v":0},{"$f":"ROUND(SUMIF(Определители!I42:I46,\"=3\",'Базовые цены с учетом расхода'!D42:D46),0)","v":0},{"$f":"ROUND(SUMIF(Определители!I42:I46,\"=3\",'Базовые цены с учетом расхода'!E42:E46),0)","v":0},{"$f":"ROUND(SUMIF(Определители!I42:I46,\"=3\",'Базовые цены с учетом расхода'!I42:I46),8)","v":0},{"$f":"ROUND(SUMIF(Определители!I42:I46,\"=3\",'Базовые цены с учетом расхода'!K42:K46),8)","v":0},{"$f":"ROUND(SUMIF(Определители!I42:I46,\"=3\",'Базовые цены с учетом расхода'!F42:F46),0)","v":0}]
[40,".   СТОИМОСТЬ ВОЗВРАЩАЕМЫХ МАТЕРИАЛОВ -","Б",0,null,{"$f":"ROUND(SUMIF(Определители!I42:I46,\"=3\",'Базовые цены с учетом расхода'!H42:H46),0)","v":0}]
[41,".   НАКЛАДНЫЕ РАСХОДЫ -","Б",0,null,{"$f":"ROUND(SUMIF(Определители!I42:I46,\"=3\",'Базовые цены с учетом расхода'!N42:N46),0)","v":0}]
[42,".   СМЕТНАЯ ПРИБЫЛЬ -","Б",0,null,{"$f":"ROUND(SUMIF(Определители!I42:I46,\"=3\",'Базовые цены с учетом расхода'!O42:O46),0)","v":0}]
[43,"ВСЕГО, СТОИМОСТЬ МЕТАЛЛОМОНТАЖНЫХ РАБОТ -","!",0,null,{"$f":"ROUND((F522+F524+F525),0)","v":0}]
[44,"СТОИМОСТЬ САНТЕХНИЧЕСКИХ РАБОТ -","Б",0,null,{"$f":"ROUND(SUMIF(Определители!I42:I46,\"=4\",'Базовые цены с учетом расхода'!B42:B46),0)","v":0},{"$f":"ROUND(SUMIF(Определители!I42:I46,\"=4\",'Базовые цены с учетом расхода'!C42:C46),0)","v":0},{"$f":"ROUND(SUMIF(Определители!I42:I46,\"=4\",'Базовые цены с учетом расхода'!D42:D46),0)","v":0},{"$f":"ROUND(SUMIF(Определители!I42:I46,\"=4\",'Базовые цены с учетом расхода'!E42:E46),0)","v":0},{"$f":"ROUND(SUMIF(Определители!I42:I46,\"=4\",'Базовые цены с учетом расхода'!I42:I46),8)","v":0},{"$f":"ROUND(SUMIF(Определители!I42:I46,\"=4\",'Базовые цены с учетом расхода'!K42:K46),8)","v":0},{"$f":"ROUND(SUMIF(Определители!I42:I46,\"=4\",'Базовые цены с учетом расхода'!F42:F46),0)","v":0}]
[45,".     В ТОМ ЧИСЛЕ:","Б",0]
[46,". СДАЧА И ИСПЫТАНИЕ -","Б",0,null,{"$f":"ROUND(SUMIF(Определители!I42:I46,\"=4\",'Базовые цены с учетом расхода'!AJ42:AJ46),0)","v":0},{"$f":"ROUND(SUMIF(Определители!I42:I46,\"=4\",'Базовые цены с учетом расхода'!AI42:AI46),0)","v":0},{"$f":"ROUND(SUMIF(Определители!I42:I46,\"=4\",'Базовые цены с учетом расхода'!AH42:AH46),0)","v":0},{"$f":"ROUND(SUMIF(Определители!I42:I46,\"=4\",'Базовые цены с учетом расхода'!V42:V46),0)","v":0}]
[47,".   СТОИМОСТЬ ВОЗВРАЩАЕМЫХ МАТЕРИАЛОВ -","Б",0,null,{"$f":"ROUND(SUMIF(Определители!I42:I46,\"=4\",'Базовые цены с учетом расхода'!H42:H46),0)","v":0}]
[48,".   НАКЛАДНЫЕ РАСХОДЫ -","Б",0,null,{"$f":"ROUND(SUMIF(Определители!I42:I46,\"=4\",'Базовые цены с учетом расхода'!N42:N46),0)","v":0}]
[49,".   СМЕТНАЯ ПРИБЫЛЬ -","Б",0,null,{"$f":"ROUND(SUMIF(Определители!I42:I46,\"=4\",'Базовые цены с учетом расхода'!O42:O46),0)","v":0}]
[50,". ШЕФМОНТАЖ -","Б",0,null,{"$f":"ROUND(СУММПРОИЗВЕСЛИ(1,Определители!I42:I46,\" \",'Базовые цены с учетом расхода'!M42:M46,Начисления!I42:I46,0),0)","v":0}]
[51,"ВСЕГО, СТОИМОСТЬ САНТЕХНИЧЕСКИХ РАБОТ -","!",0,null,{"$f":"ROUND((F527+F531+F532),0)","v":0}]
[52,"СТОИМОСТЬ БУРО-ВЗРЫВНЫХ РАБОТ -","Б",0,null,{"$f":"ROUND(SUMIF(Определители!I42:I46,\"=5\",'Базовые цены с учетом расхода'!B42:B46),0)","v":0},{"$f":"ROUND(SUMIF(Определители!I42:I46,\"=5\",'Базовые цены с учетом расхода'!C42:C46),0)","v":0},{"$f":"ROUND(SUMIF(Определители!I42:I46,\"=5\",'Базовые цены с учетом расхода'!D42:D46),0)","v":0},{"$f":"ROUND(SUMIF(Определители!I42:I46,\"=5\",'Базовые цены с учетом расхода'!E42:E46),0)","v":0},{"$f":"ROUND(SUMIF(Определители!I42:I46,\"=5\",'Базовые цены с учетом расхода'!I42:I46),8)","v":0},{"$f":"ROUND(SUMIF(Определители!I42:I46,\"=5\",'Базовые цены с учетом расхода'!K42:K46),8)","v":0},{"$f":"ROUND(SUMIF(Определители!I42:I46,\"=5\",'Базовые цены с учетом расхода'!F42:F46),0)","v":0}]
[53,".   СТОИМОСТЬ ВОЗВРАЩАЕМЫХ МАТЕРИАЛОВ -","Б",0,null,{"$f":"ROUND(SUMIF(Определители!I42:I46,\"=5\",'Базовые цены с учетом расхода'!H42:H46),0)","v":0}]
[54,".   НАКЛАДНЫЕ РАСХОДЫ -","Б",0,null,{"$f":"ROUND(SUMIF(Определители!I42:I46,\"=5\",'Базовые цены с учетом расхода'!N42:N46),0)","v":0}]
[55,".   СМЕТНАЯ ПРИБЫЛЬ -","Б",0,null,{"$f":"ROUND(SUMIF(Определители!I42:I46,\"=5\",'Базовые цены с учетом расхода'!O42:O46),0)","v":0}]
[56,"ВСЕГО, СТОИМОСТЬ БУРО-ВЗРЫВНЫХ РАБОТ -","!",0,null,{"$f":"ROUND((F535+F537+F538),0)","v":0}]
[57,"СТОИМОСТЬ ГОРНОПРОХОДЧЕСКИХ РАБОТ -","Б",0,null,{"$f":"ROUND(SUMIF(Определители!I42:I46,\"=6\",'Базовые цены с учетом расхода'!B42:B46),0)","v":0},{"$f":"ROUND(SUMIF(Определители!I42:I46,\"=6\",'Базовые цены с учетом расхода'!C42:C46),0)","v":0},{"$f":"ROUND(SUMIF(Определители!I42:I46,\"=6\",'Базовые цены с учетом расхода'!D42:D46),0)","v":0},{"$f":"ROUND(SUMIF(Определители!I42:I46,\"=6\",'Базовые цены с учетом расхода'!E42:E46),0)","v":0},{"$f":"ROUND(SUMIF(Определители!I42:I46,\"=6\",'Базовые цены с учетом расхода'!I42:I46),8)","v":0},{"$f":"ROUND(SUMIF(Определители!I42:I46,\"=6\",'Базовые цены с учетом расхода'!K42:K46),8)","v":0},{"$f":"ROUND(SUMIF(Определители!I42:I46,\"=6\",'Базовые цены с учетом расхода'!F42:F46),0)","v":0}]
[58,".   СТОИМОСТЬ ВОЗВРАЩАЕМЫХ МАТЕРИАЛОВ -","Б",0,null,{"$f":"ROUND(SUMIF(Определители!I42:I46,\"=6\",'Базовые цены с учетом расхода'!H42:H46),0)","v":0}]
[59,".   НАКЛАДНЫЕ РАСХОДЫ -","Б",0,null,{"$f":"ROUND(SUMIF(Определители!I42:I46,\"=6\",'Базовые цены с учетом расхода'!N42:N46),0)","v":0}]
[60,".   СМЕТНАЯ ПРИБЫЛЬ -","Б",0,null,{"$f":"ROUND(SUMIF(Определители!I42:I46,\"=6\",'Базовые цены с учетом расхода'!O42:O46),0)","v":0}]
[61,"ВСЕГО, СТОИМОСТЬ ГОРНОПРОХОДЧЕСКИХ РАБОТ -","!",0,null,{"$f":"ROUND((F540+F542+F543),0)","v":0}]
[62,"СТОИМОСТЬ РЕСТАВРАЦИОННЫХ РАБОТ -","Б",0,null,{"$f":"ROUND(SUMIF(Определители!I42:I46,\"=7\",'Базовые цены с учетом расхода'!B42:B46),0)","v":0},{"$f":"ROUND(SUMIF(Определители!I42:I46,\"=7\",'Базовые цены с учетом расхода'!C42:C46),0)","v":0},{"$f":"ROUND(SUMIF(Определители!I42:I46,\"=7\",'Базовые цены с учетом расхода'!D42:D46),0)","v":0},{"$f":"ROUND(SUMIF(Определители!I42:I46,\"=7\",'Базовые цены с учетом расхода'!E42:E46),0)","v":0},{"$f":"ROUND(SUMIF(Определители!I42:I46,\"=7\",'Базовые цены с учетом расхода'!I42:I46),8)","v":0},{"$f":"ROUND(SUMIF(Определители!I42:I46,\"=7\",'Базовые цены с учетом расхода'!K42:K46),8)","v":0},{"$f":"ROUND(SUMIF(Определители!I42:I46,\"=7\",'Базовые цены с учетом расхода'!F42:F46),0)","v":0}]
[63,".     В ТОМ ЧИСЛЕ:","Б",0]
[64,". МАТЕРИАЛЫ -","Б",0,null,{"$f":"ROUND(СУММЕСЛИ2(Определители!I42:I46,\"2\",Определители!G42:G46,\"1\",'Базовые цены с учетом расхода'!B42:B46),0)","v":0}]
[65,".   СТОИМОСТЬ ВОЗВРАЩАЕМЫХ МАТЕРИАЛОВ -","Б",0,null,{"$f":"ROUND(SUMIF(Определители!I42:I46,\"=7\",'Базовые цены с учетом расхода'!H42:H46),0)","v":0}]
[66,".   НАКЛАДНЫЕ РАСХОДЫ -","Б",0,null,{"$f":"ROUND(SUMIF(Определители!I42:I46,\"=7\",'Базовые цены с учетом расхода'!N42:N46),0)","v":0}]
[67,".   СМЕТНАЯ ПРИБЫЛЬ -","Б",0,null,{"$f":"ROUND(SUMIF(Определители!I42:I46,\"=7\",'Базовые цены с учетом расхода'!O42:O46),0)","v":0}]
[68,"ВСЕГО, СТОИМОСТЬ РЕСТАВРАЦИОННЫХ РАБОТ -","!",0,null,{"$f":"ROUND((F545+F549+F550),0)","v":0}]
[69,"Строительные работы БЦ ЭМ","s",0,null,{"$f":"ROUND((H515+H522+H527+H535+H540+H545),0)","v":-78}]
[70,"Строительные работы БЦ ЗПМ","s",0,null,{"$f":"ROUND((I515+I522+I527+I535+I540+I545),0)","v":-11}]
[71,"Строительные работы ТЦ ЗП","k",21.324000000000002,null,{"$f":"ROUND((G515+G522+G527+G535+G540+G545)*D554,0)","v":43181}]
[72,"Строительные работы ТЦ ЗПМ","k",21.324000000000002,null,{"$f":"ROUND((F553)*D555,0)","v":-235}]
[73,"Строительные работы ТЦ ЭМ","k",6.1520000000000001,null,{"$f":"ROUND((F552)*D556,0)","v":-480}]
[74,"Строительные работы ТЦ материалы","k",6.32,null,{"$f":"ROUND((L515+L522+L527+L535+L540+L545)*D557,0)","v":105064}]
[75,"Строительные работы ТЦ НР","k",21.324000000000002,null,{"$f":"ROUND((F519+F524+F531+F537+F542+F549)*D558,0)","v":63268}]
[76,"Строительные работы ТЦ СП","k",21.324000000000002,null,{"$f":"ROUND((F520+F525+F532+F538+F543+F550)*D559,0)","v":36400}]
[77,"Строительные работы ТЦ всего","s",0,null,{"$f":"ROUND((F554+F556+F557+F558+F559),0)","v":247433}]
[78,"СТОИМОСТЬ ПЕРЕВОЗКИ ГРУЗОВ -","Б",0,null,{"$f":"ROUND(SUMIF(Определители!I42:I46,\"=;\",'Базовые цены с учетом расхода'!B42:B46),0)","v":0},{"$f":"ROUND(SUMIF(Определители!I42:I46,\"=;\",'Базовые цены с учетом расхода'!C42:C46),0)","v":0},{"$f":"ROUND(SUMIF(Определители!I42:I46,\"=;\",'Базовые цены с учетом расхода'!D42:D46),0)","v":0},{"$f":"ROUND(SUMIF(Определители!I42:I46,\"=;\",'Базовые цены с учетом расхода'!E42:E46),0)","v":0},{"$f":"ROUND(SUMIF(Определители!I42:I46,\"=;\",'Базовые цены с учетом расхода'!I42:I46),8)","v":0},{"$f":"ROUND(SUMIF(Определители!I42:I46,\"=;\",'Базовые цены с учетом расхода'!K42:K46),8)","v":0},{"$f":"ROUND(SUMIF(Определители!I42:I46,\"=;\",'Базовые цены с учетом расхода'!F42:F46),0)","v":0}]
[79,"СТОИМОСТЬ ПОГРУЗКИ-РАЗГРУЗКИ","m",0,null,{"$f":"ROUND((F561-F580-F581-F582),0)","v":0},{"$f":"ROUND((G561-G580-G581-G582),0)","v":0},{"$f":"ROUND((H561-H580-H581-H582),0)","v":0},{"$f":"ROUND((I561-I580-I581-I582),0)","v":0},{"$f":"ROUND((J561-J580-J581-J582),8)","v":0},{"$f":"ROUND((K561-K580-K581-K582),8)","v":0},{"$f":"ROUND((L561-L580-L581-L582),0)","v":0}]
[80,".   В Т.Ч. НАКЛАДНЫЕ РАСХОДЫ -","Б",0,null,{"$f":"ROUND(SUMIF(Определители!I42:I46,\"=;\",'Базовые цены с учетом расхода'!AF42:AF46),0)","v":0}]
[81,".   В Т.Ч. СМЕТНАЯ ПРИБЫЛЬ -","Б",0,null,{"$f":"ROUND(SUMIF(Определители!I42:I46,\"=;\",'Базовые цены с учетом расхода'!AG42:AG46),0)","v":0}]
[82,".   НАКЛАДНЫЕ РАСХОДЫ -","Б",0,null,{"$f":"ROUND(SUMIF(Определители!I42:I46,\"=;\",'Базовые цены с учетом расхода'!N42:N46),0)","v":0}]
[83,".   СМЕТНАЯ ПРИБЫЛЬ -","Б",0,null,{"$f":"ROUND(SUMIF(Определители!I42:I46,\"=;\",'Базовые цены с учетом расхода'!O42:O46),0)","v":0}]
[84,"ВСЕГО, СТОИМОСТЬ ПЕРЕВОЗКИ ГРУЗОВ -","!",0,null,{"$f":"ROUND((F561+F565+F566),0)","v":0}]
[85,"ВСЕГО, СТОИМОСТЬ ПОГРУЗКИ-РАЗГРУЗКИ -","s",0,null,{"$f":"ROUND((F562+F565+F566),0)","v":0}]
[86,"Погрузка-разгрузка БЦ ЭМ","s",0,null,{"$f":"ROUND((H562),0)","v":0}]
[87,"Погрузка-разгрузка БЦ ЗПМ","s",0,null,{"$f":"ROUND((I562),0)","v":0}]
[88,"Погрузка-разгрузка ТЦ ЗП","k",21.324000000000002,null,{"$f":"ROUND((G562)*D571,0)","v":0}]
[89,"Погрузка-разгрузка ТЦ ЗПМ","k",21.324000000000002,null,{"$f":"ROUND((I562)*D572,0)","v":0}]
[90,"Погрузка-разгрузка ТЦ ЭМ","k",6.1520000000000001,null,{"$f":"ROUND((F569)*D573,0)","v":0}]
[91,"Погрузка-разгрузка ТЦ материалы","k",6.32,null,{"$f":"ROUND((L561)*D574,0)","v":0}]
[92,"Погрузка-разгрузка ТЦ в т.ч. НР","k",21.324000000000002,null,{"$f":"ROUND((F563)*D575,0)","v":0}]
[93,"Погрузка-разгрузка ТЦ в т.ч. СП","k",21.324000000000002,null,{"$f":"ROUND((F564)*D576,0)","v":0}]
[94,"Погрузка-разгрузка ТЦ НР","k",21.324000000000002,null,{"$f":"ROUND((F565)*D577,0)","v":0}]
[95,"Погрузка-разгрузка ТЦ СП","k",21.324000000000002,null,{"$f":"ROUND((F566)*D578,0)","v":0}]
[96,"Погрузка-разгрузка ТЦ всего","s",0,null,{"$f":"ROUND((F571+F573+F574+F577+F578+F575+F576),0)","v":0}]
[97,"ПЕРЕВОЗКА (таб.6)","f",0]
[98,"ПЕРЕВОЗКА (таб.7)","f",0]
[99,"ПЕРЕВОЗКА (таб.8)","f",0]
[100,"Перевозка (таб.6) ТЦ","k",1,null,{"$f":"ROUND((F580)*D583,0)","v":0}]
[101,"Перевозка (таб.7) ТЦ","k",1,null,{"$f":"ROUND((F581)*D584,0)","v":0}]
[102,"Перевозка (таб.8) ТЦ","k",10.144,null,{"$f":"ROUND((F582)*D585,0)","v":0}]
[103,"Перевозка ТЦ  всего","s",0,null,{"$f":"ROUND((F583+F584+F585),0)","v":0}]
[104,"СТОИМОСТЬ ПУСКОНАЛАДОЧНЫХ РАБОТ -","Б",0,null,{"$f":"ROUND(SUMIF(Определители!I42:I46,\"=9\",'Базовые цены с учетом расхода'!B42:B46),0)","v":0},{"$f":"ROUND(SUMIF(Определители!I42:I46,\"=9\",'Базовые цены с учетом расхода'!C42:C46),0)","v":0},{"$f":"ROUND(SUMIF(Определители!I42:I46,\"=9\",'Базовые цены с учетом расхода'!D42:D46),0)","v":0},{"$f":"ROUND(SUMIF(Определители!I42:I46,\"=9\",'Базовые цены с учетом расхода'!E42:E46),0)","v":0},{"$f":"ROUND(SUMIF(Определители!I42:I46,\"=9\",'Базовые цены с учетом расхода'!I42:I46),8)","v":0},{"$f":"ROUND(SUMIF(Определители!I42:I46,\"=9\",'Базовые цены с учетом расхода'!K42:K46),8)","v":0},{"$f":"ROUND(SUMIF(Определители!I42:I46,\"=9\",'Базовые цены с учетом расхода'!F42:F46),0)","v":0}]
[105,".   НАКЛАДНЫЕ РАСХОДЫ -","Б",0,null,{"$f":"ROUND(SUMIF(Определители!I42:I46,\"=9\",'Базовые цены с учетом расхода'!N42:N46),0)","v":0}]
[106,".   СМЕТНАЯ ПРИБЫЛЬ -","Б",0,null,{"$f":"ROUND(SUMIF(Определители!I42:I46,\"=9\",'Базовые цены с учетом расхода'!O42:O46),0)","v":0}]
[107,"ВСЕГО, СТОИМОСТЬ ПУСКОНАЛАДОЧНЫХ РАБОТ -","!",0,null,{"$f":"ROUND((F587+F588+F589),0)","v":0}]
[108,"Пусконаладочные работы ТЦ ЗП","k",1,null,{"$f":"ROUND((G587)*D591,0)","v":0}]
[109,"Пусконаладочные работы ТЦ НР","k",1,null,{"$f":"ROUND((F588)*D592,0)","v":0}]
[110,"Пусконаладочные работы ТЦ СП","k",1,null,{"$f":"ROUND((F589)*D593,0)","v":0}]
[111,"Пусконаладочные работы ТЦ всего","s",0,null,{"$f":"ROUND((F591+F592+F593),0)","v":0}]
[112,"СТОИМОСТЬ ПРОЧИХ РАБОТ (с НР и СП) -","Б",0,null,{"$f":"ROUND(SUMIF(Определители!I42:I46,\"=:\",'Базовые цены с учетом расхода'!B42:B46),0)","v":0},{"$f":"ROUND(SUMIF(Определители!I42:I46,\"=:\",'Базовые цены с учетом расхода'!C42:C46),0)","v":0},{"$f":"ROUND(SUMIF(Определители!I42:I46,\"=:\",'Базовые цены с учетом расхода'!D42:D46),0)","v":0},{"$f":"ROUND(SUMIF(Определители!I42:I46,\"=:\",'Базовые цены с учетом расхода'!E42:E46),0)","v":0},{"$f":"ROUND(SUMIF(Определители!I42:I46,\"=:\",'Базовые цены с учетом расхода'!I42:I46),8)","v":0},{"$f":"ROUND(SUMIF(Определители!I42:I46,\"=:\",'Базовые цены с учетом расхода'!K42:K46),8)","v":0},{"$f":"ROUND(SUMIF(Определители!I42:I46,\"=:\",'Базовые цены с учетом расхода'!F42:F46),0)","v":0}]
[113,".   СТОИМОСТЬ ВОЗВРАЩАЕМЫХ МАТЕРИАЛОВ -","Б",0,null,{"$f":"ROUND(SUMIF(Определители!I42:I46,\"=:\",'Базовые цены с учетом расхода'!H42:H46),0)","v":0}]
[114,".   НАКЛАДНЫЕ РАСХОДЫ -","Б",0,null,{"$f":"ROUND(SUMIF(Определители!I42:I46,\"=:\",'Базовые цены с учетом расхода'!N42:N46),0)","v":0}]
[115,".   СМЕТНАЯ ПРИБЫЛЬ -","Б",0,null,{"$f":"ROUND(SUMIF(Определители!I42:I46,\"=:\",'Базовые цены с учетом расхода'!O42:O46),0)","v":0}]
[116,"ВСЕГО, СТОИМОСТЬ ПРОЧИХ РАБОТ (с НР и СП) -","!",0,null,{"$f":"ROUND((F595+F597+F598),0)","v":0}]
[117,"ВСЕГО, СТОИМОСТЬ ПРОЧИХ РАБОТ (без НР и СП) -","Б",0,null,{"$f":"ROUND(SUMIF(Определители!I42:I46,\"=8\",'Базовые цены с учетом расхода'!B42:B46),0)","v":0},{"$f":"ROUND(SUMIF(Определители!I42:I46,\"=8\",'Базовые цены с учетом расхода'!C42:C46),0)","v":0},{"$f":"ROUND(SUMIF(Определители!I42:I46,\"=8\",'Базовые цены с учетом расхода'!D42:D46),0)","v":0},{"$f":"ROUND(SUMIF(Определители!I42:I46,\"=8\",'Базовые цены с учетом расхода'!E42:E46),0)","v":0},{"$f":"ROUND(SUMIF(Определители!I42:I46,\"=8\",'Базовые цены с учетом расхода'!I42:I46),8)","v":0},{"$f":"ROUND(SUMIF(Определители!I42:I46,\"=8\",'Базовые цены с учетом расхода'!K42:K46),8)","v":0},{"$f":"ROUND(SUMIF(Определители!I42:I46,\"=8\",'Базовые цены с учетом расхода'!F42:F46),0)","v":0}]
[118,".   СТОИМОСТЬ ВОЗВРАЩАЕМЫХ МАТЕРИАЛОВ -","Б",0,null,{"$f":"ROUND(SUMIF(Определители!I42:I46,\"=8\",'Базовые цены с учетом расхода'!H42:H46),0)","v":0}]
[119,"Прочие работы БЦ ЭМ","s",0,null,{"$f":"ROUND((H595+H600),0)","v":0}]
[120,"Прочие работы БЦ ЗПМ","s",0,null,{"$f":"ROUND((I595+I600),0)","v":0}]
[121,"Прочие работы ТЦ ЗП","k",1,null,{"$f":"ROUND((G595+G600)*D604,0)","v":0}]
[122,"Прочие работы ТЦ ЗПМ","k",1,null,{"$f":"ROUND((F603)*D605,0)","v":0}]
[123,"Прочие работы ТЦ ЭМ","k",1,null,{"$f":"ROUND((F602)*D606,0)","v":0}]
[124,"Прочие работы ТЦ материалы","k",1,null,{"$f":"ROUND((L595+L600)*D607,0)","v":0}]
[125,"Прочие работы ТЦ НР","k",1,null,{"$f":"ROUND((F597)*D608,0)","v":0}]
[126,"Прочие работы ТЦ СП","k",1,null,{"$f":"ROUND((F598)*D609,0)","v":0}]
[127,"Прочие работы ТЦ всего","s",0,null,{"$f":"ROUND((F604+F606+F607+F608+F609),0)","v":0}]
[128,". ВСЕГО  ПО  СМЕТЕ","!",0,null,{"$f":"ROUND((F494+F505+F521+F526+F534+F539+F544+F551+F567+F590+F599+F600),0)","v":23245},{"$f":"ROUND((G494+G505+G521+G526+G534+G539+G544+G551+G567+G590+G599+G600),0)","v":0},{"$f":"ROUND((H494+H505+H521+H526+H534+H539+H544+H551+H567+H590+H599+H600),0)","v":0},{"$f":"ROUND((I494+I505+I521+I526+I534+I539+I544+I551+I567+I590+I599+I600),0)","v":0},{"$f":"ROUND((J494+J505+J521+J526+J534+J539+J544+J551+J567+J590+J599+J600),8)","v":0},{"$f":"ROUND((K494+K505+K521+K526+K534+K539+K544+K551+K567+K590+K599+K600),8)","v":0},{"$f":"ROUND((L494+L505+L521+L526+L534+L539+L544+L551+L567+L590+L599+L600),0)","v":0}]
[129,"ВСЕГО СТОИМОСТЬ ВОЗВРАЩАЕМЫХ МАТЕРИАЛОВ -","!",0,null,{"$f":"ROUND((F501+F518+F523+F530+F536+F541+F548+F596+F601),0)","v":0}]
[130,"ВСЕГО НАКЛАДНЫЕ РАСХОДЫ","!",0,null,{"$f":"ROUND((F502+F519+F524+F531+F537+F542+F549+F565+F588+F597),0)","v":2967}]
[131,"ВСЕГО НАКЛАДНЫЕ РАСХОДЫ","s",0,null,{"$f":"ROUND((F613+F563),0)","v":2967}]
[132,"ВСЕГО СМЕТНАЯ ПРИБЫЛЬ","!",0,null,{"$f":"ROUND((F503+F520+F525+F532+F538+F543+F550+F566+F589+F598),0)","v":1707}]
[133,"ВСЕГО СМЕТНАЯ ПРИБЫЛЬ","s",0,null,{"$f":"ROUND((F615+F564),0)","v":1707}]
[134,"в т.ч. Вспомогательные материалы на монтаж","h",0,null,{"$f":"ROUND(SUM('Базовые цены с учетом расхода'!X42:X46),0)","v":0},null,null,null,null,null,{"$f":"ROUND(SUM('Базовые цены с учетом расхода'!X42:X46),0)","v":0}]
[135,"в т.ч. Вспомогательные материалы от ОЗП","h",0,null,{"$f":"ROUND(SUM('Базовые цены с учетом расхода'!AE42:AE46),0)","v":0}]
[136,"Оплата основных рабочих","h",0,null,{"$f":"ROUND(SUM('Базовые цены с учетом расхода'!C42:C46),0)","v":2025}]
[137,"Оплата механизаторов","h",0,null,{"$f":"ROUND(SUM('Базовые цены с учетом расхода'!E42:E46),0)","v":-11}]
[138,"Стоимость механизмов","h",0,null,{"$f":"ROUND(SUM('Базовые цены с учетом расхода'!D42:D46),0)","v":-78}]
[139,"Сметная стоимость материалов","h",0,null,{"$f":"ROUND(SUM('Базовые цены с учетом расхода'!F42:F46),0)","v":16624},null,null,null,null,null,{"$f":"ROUND(SUM('Базовые цены с учетом расхода'!F42:F46),0)","v":16624}]
[140,"Трудозатраты осн. рабочих","h",0,null,null,null,null,null,{"$f":"ROUND(SUM('Базовые цены с учетом расхода'!I42:I46),8)","v":197.21520000000001}]
[141,"Трудозатраты механизаторов","h",0,null,null,null,null,null,{"$f":"ROUND(SUM('Базовые цены с учетом расхода'!K42:K46),8)","v":-0.64680000000000004}]
[142,"Нормативная трудоемкость","s",0,null,null,null,null,null,{"$f":"ROUND((J623+J624),8)","v":196.5684}]
[143,"Оплата основных рабочих ТЦ","s",0,null,{"$f":"ROUND((F508+F554+F571+F604+F591),0)","v":43181}]
[144,"Оплата механизаторов ТЦ","s",0,null,{"$f":"ROUND((F509+F555+F572+F605),0)","v":-235}]
[145,"Стоимость механизмов ТЦ","s",0,null,{"$f":"ROUND((F510+F556+F573+F606),0)","v":-480}]
[146,"Стоимость материалов ТЦ","s",0,null,{"$f":"ROUND((F511+F557+F574+F607),0)","v":105064}]
[147,"Оборудование ТЦ","s",0,null,{"$f":"ROUND((F495),0)","v":0}]
[148,"Перевозка ТЦ","s",0,null,{"$f":"ROUND((F586),0)","v":0}]
[149,"ИТОГО ТЦ","s",0,null,{"$f":"ROUND((F626+F628+F629+F630+F631),0)","v":147765}]
[150,"В Т.Ч. НАКЛАДНЫЕ РАСХОДЫ ТЦ","s",0,null,{"$f":"ROUND((F575),0)","v":0}]
[151,"В Т.Ч. СМЕТНАЯ ПРИБЫЛЬ ТЦ","s",0,null,{"$f":"ROUND((F576),0)","v":0}]
[152,"НАКЛАДНЫЕ РАСХОДЫ ТЦ","s",0,null,{"$f":"ROUND((F512+F558+F577+F592+F608+F575),0)","v":63268}]
[153,"СМЕТНАЯ ПРИБЫЛЬ ТЦ","s",0,null,{"$f":"ROUND((F513+F559+F578+F609+F593+F576),0)","v":36400}]
[154,"ВСЕГО ТЦ","s",0,null,{"$f":"ROUND((F632+F635+F636),0)","v":247433}]
[]
[null,"Раздел 5.  Устройство тротуаров"]
[]
[null,"Наименование","Вид","Значение","ЕИ","Z1","Z2","Z3","Z4","Z5","Z6","Z7","Z8"]
[1,".    ИТОГО  ПО  СМЕТЕ","А",0,null,{"$f":"ROUND(SUM('Базовые цены с учетом расхода'!B50:B58),0)","v":30451},{"$f":"ROUND(SUM('Базовые цены с учетом расхода'!C50:C58),0)","v":1862},{"$f":"ROUND(SUM('Базовые цены с учетом расхода'!D50:D58),0)","v":1789},{"$f":"ROUND(SUM('Базовые цены с учетом расхода'!E50:E58),0)","v":181},{"$f":"ROUND(SUM('Базовые цены с учетом расхода'!I50:I58),8)","v":175.66},{"$f":"ROUND(SUM('Базовые цены с учетом расхода'!K50:K58),8)","v":13.5959},{"$f":"ROUND(SUM('Базовые цены с учетом расхода'!F50:F58),0)","v":26800}]
[2,"СТОИМОСТЬ ОБОРУДОВАНИЯ -","Б",0,null,{"$f":"ROUND(SUMIF(Определители!I50:I58,\"= \",'Базовые цены с учетом расхода'!B50:B58),0)","v":0},{"$f":"ROUND(SUMIF(Определители!I50:I58,\"= \",'Базовые цены с учетом расхода'!C50:C58),0)","v":0},{"$f":"ROUND(SUMIF(Определители!I50:I58,\"= \",'Базовые цены с учетом расхода'!D50:D58),0)","v":0},{"$f":"ROUND(SUMIF(Определители!I50:I58,\"= \",'Базовые цены с учетом расхода'!E50:E58),0)","v":0},{"$f":"ROUND(SUMIF(Определители!I50:I58,\"= \",'Базовые цены с учетом расхода'!I50:I58),8)","v":0},{"$f":"ROUND(SUMIF(Определители!I50:I58,\"= \",'Базовые цены с учетом расхода'!K50:K58),8)","v":0},{"$f":"ROUND(SUMIF(Определители!I50:I58,\"= \",'Базовые цены с учетом расхода'!F50:F58),0)","v":0}]
[3,".   ЗАПАСНЫЕ ЧАСТИ -","Б",0,null,{"$f":"ROUND(СУММПРОИЗВЕСЛИ(0.01,Определители!I50:I58,\" \",'Базовые цены с учетом расхода'!B50:B58,Начисления!X50:X58,0),0)","v":0}]
[4,".   ТАРА И УПАКОВКА -","Б",0,null,{"$f":"ROUND(СУММПРОИЗВЕСЛИ(0.01,Определители!I50:I58,\" \",'Базовые цены с учетом расхода'!B50:B58,Начисления!Y50:Y58,0),0)","v":0}]
[5,".   ТРАНСПОРТНЫЕ РАСХОДЫ -","Б",0,null,{"$f":"ROUND(ТРАНСПРАСХОД(Определители!B50:B58,Определители!H50:H58,Определители!I50:I58,'Базовые цены с учетом расхода'!B50:B58,Начисления!Z50:Z58,Начисления!AA50:AA58),0)","v":0}]
[6,".   КОМПЛЕКТАЦИЯ -","Б",0,null,{"$f":"ROUND(СУММПРОИЗВЕСЛИ(0.01,Определители!I50:I58,\" \",'Базовые цены с учетом расхода'!B50:B58,Начисления!AC50:AC58,0),0)","v":0}]
[7,".   НАЦЕНКА СНАБА -","Б",0,null,{"$f":"ROUND(СУММПРОИЗВЕСЛИ(0.01,Определители!I50:I58,\" \",'Базовые цены с учетом расхода'!B50:B58,Начисления!AF50:AF58,0),0)","v":0}]
[8,".   ЗАГОТОВИТЕЛЬНО-СКЛАДСКИЕ РАСХОДЫ -","Б",0,null,{"$f":"ROUND(ЗАГОТСКЛАДРАСХОД(Определители!B50:B58,Определители!H50:H58,Определители!I50:I58,'Базовые цены с учетом расхода'!B50:B58,Начисления!X50:X58,Начисления!Y50:Y58,Начисления!Z50:Z58,Начисления!AA50:AA58,Начисления!AB50:AB58,Начисления!AC50:AC58,Начисления!AF50:AF58),0)","v":0}]
[9,". ШЕФМОНТАЖ ПО ОБОРУДОВАНИЮ -","Б",0,null,{"$f":"ROUND(СУММПРОИЗВЕСЛИ(1,Определители!I50:I58,\" \",'Базовые цены с учетом расхода'!M50:M58,Начисления!I50:I58,0),0)","v":0}]
[10,". ШЕФМОНТАЖ -","!",0,null,{"$f":"ROUND((F650+F662+F691),0)","v":0}]
[11,"ВСЕГО, СТОИМОСТЬ ОБОРУДОВАНИЯ -","!",0,null,{"$f":"ROUND((F643+F644+F645+F646+F647+F648+F649+F651),0)","v":0}]
[12,"Оборудование ТЦ","k",1,null,{"$f":"ROUND((F652)*D653,0)","v":0}]
[13,"СТОИМОСТЬ МОНТАЖНЫХ РАБОТ -","Б",0,null,{"$f":"ROUND(SUMIF(Определители!I50:I58,\"=1\",'Базовые цены с учетом расхода'!B50:B58),0)","v":0},{"$f":"ROUND(SUMIF(Определители!I50:I58,\"=1\",'Базовые цены с учетом расхода'!C50:C58),0)","v":0},{"$f":"ROUND(SUMIF(Определители!I50:I58,\"=1\",'Базовые цены с учетом расхода'!D50:D58),0)","v":0},{"$f":"ROUND(SUMIF(Определители!I50:I58,\"=1\",'Базовые цены с учетом расхода'!E50:E58),0)","v":0},{"$f":"ROUND(SUMIF(Определители!I50:I58,\"=1\",'Базовые цены с учетом расхода'!I50:I58),8)","v":0},{"$f":"ROUND(SUMIF(Определители!I50:I58,\"=1\",'Базовые цены с учетом расхода'!K50:K58),8)","v":0},{"$f":"ROUND(SUMIF(Определители!I50:I58,\"=1\",'Базовые цены с учетом расхода'!F50:F58),0)","v":0}]
[14,".     В ТОМ ЧИСЛЕ:","Б",0]
[15,". ОТКЛОНЕНИЕ ПО ЗАРАБОТНОЙ ПЛАТЕ -","Б",0,null,null,{"$f":"ROUND(SUMIF(Определители!I50:I58,\"=1\",'Базовые цены с учетом расхода'!T50:T58),0)","v":0}]
[16,". КОСВЕННЫЕ РАСХОДЫ -","Б",0,null,{"$f":"ROUND(SUMIF(Определители!I50:I58,\"=1\",'Базовые цены с учетом расхода'!U50:U58),0)","v":0}]
[17,". МАТЕРИАЛЬНЫЕ РЕСУРСЫ НЕ УЧТЕННЫЕ В РАСЦЕНКАХ -","Б",0,null,{"$f":"ROUND(СУММЕСЛИ2(Определители!I50:I58,\"1\",Определители!G50:G58,\"1\",'Базовые цены с учетом расхода'!B50:B58),0)","v":0}]
[18,".   СТОИМОСТЬ ВОЗВРАЩАЕМЫХ МАТЕРИАЛОВ -","Б",0,null,{"$f":"ROUND(SUMIF(Определители!I50:I58,\"=1\",'Базовые цены с учетом расхода'!H50:H58),0)","v":0}]
[19,".   НАКЛАДНЫЕ РАСХОДЫ -","Б",0,null,{"$f":"ROUND(SUMIF(Определители!I50:I58,\"=1\",'Базовые цены с учетом расхода'!N50:N58),0)","v":0}]
[20,".   СМЕТНАЯ ПРИБЫЛЬ -","Б",0,null,{"$f":"ROUND(SUMIF(Определители!I50:I58,\"=1\",'Базовые цены с учетом расхода'!O50:O58),0)","v":0}]
[21,". ШЕФМОНТАЖ -","Б",0,null,{"$f":"ROUND(СУММПРОИЗВЕСЛИ(1,Определители!I50:I58,\" \",'Базовые цены с учетом расхода'!M50:M58,Начисления!I50:I58,0),0)","v":0}]
[22,"ВСЕГО, СТОИМОСТЬ МОНТАЖНЫХ РАБОТ -","!",0,null,{"$f":"ROUND((F654+F660+F661),0)","v":0}]
[23,"Монтажные работы БЦ ЭМ","s",0,null,{"$f":"ROUND((H654),0)","v":0}]
[24,"Монтажные работы БЦ ЗПМ","s",0,null,{"$f":"ROUND((I654),0)","v":0}]
[25,"Монтажные работы ТЦ ЗП","k",21.324000000000002,null,{"$f":"ROUND((G654)*D666,0)","v":0}]
[26,"Монтажные работы ТЦ ЗПМ","k",21.324000000000002,null,{"$f":"ROUND((F665)*D667,0)","v":0}]
[27,"Монтажные работы ТЦ ЭМ","k",6.1520000000000001,null,{"$f":"ROUND((F664)*D668,0)","v":0}]
[28,"Монтажные работы ТЦ материалы","k",6.32,null,{"$f":"ROUND((L654)*D669,0)","v":0}]
[29,"Монтажные работы ТЦ НР","k",21.324000000000002,null,{"$f":"ROUND((F660)*D670,0)","v":0}]
[30,"Монтажные работы ТЦ СП","k",21.324000000000002,null,{"$f":"ROUND((F661)*D671,0)","v":0}]
[31,"Монтажные работы ТЦ всего","s",0,null,{"$f":"ROUND((F666+F668+F669+F670+F671),0)","v":0}]
[32,"СТОИМОСТЬ ОБЩЕСТРОИТЕЛЬНЫХ РАБОТ -","Б",0,null,{"$f":"ROUND(SUMIF(Определители!I50:I58,\"=2\",'Базовые цены с учетом расхода'!B50:B58),0)","v":30451},{"$f":"ROUND(SUMIF(Определители!I50:I58,\"=2\",'Базовые цены с учетом расхода'!C50:C58),0)","v":1862},{"$f":"ROUND(SUMIF(Определители!I50:I58,\"=2\",'Базовые цены с учетом расхода'!D50:D58),0)","v":1789},{"$f":"ROUND(SUMIF(Определители!I50:I58,\"=2\",'Базовые цены с учетом расхода'!E50:E58),0)","v":181},{"$f":"ROUND(SUMIF(Определители!I50:I58,\"=2\",'Базовые цены с учетом расхода'!I50:I58),8)","v":175.66},{"$f":"ROUND(SUMIF(Определители!I50:I58,\"=2\",'Базовые цены с учетом расхода'!K50:K58),8)","v":13.5959},{"$f":"ROUND(SUMIF(Определители!I50:I58,\"=2\",'Базовые цены с учетом расхода'!F50:F58),0)","v":26800}]
[33,".     В ТОМ ЧИСЛЕ:","Б",0]
[34,".       МАТЕРИАЛОВ -","Б",0,null,{"$f":"ROUND(СУММЕСЛИ2(Определители!I50:I58,\"2\",Определители!G50:G58,\"1\",'Базовые цены с учетом расхода'!B50:B58),0)","v":22480}]
[35,".   СТОИМОСТЬ ВОЗВРАЩАЕМЫХ МАТЕРИАЛОВ -","Б",0,null,{"$f":"ROUND(SUMIF(Определители!I50:I58,\"=2\",'Базовые цены с учетом расхода'!H50:H58),0)","v":0}]
[36,".   НАКЛАДНЫЕ РАСХОДЫ -","Б",0,null,{"$f":"ROUND(SUMIF(Определители!I50:I58,\"=2\",'Базовые цены с учетом расхода'!N50:N58),0)","v":2901}]
[37,".   СМЕТНАЯ ПРИБЫЛЬ -","Б",0,null,{"$f":"ROUND(SUMIF(Определители!I50:I58,\"=2\",'Базовые цены с учетом расхода'!O50:O58),0)","v":1655}]
[38,"ВСЕГО, СТОИМОСТЬ ОБЩЕСТРОИТЕЛЬНЫХ РАБОТ -","!",0,null,{"$f":"ROUND((F673+F677+F678),0)","v":35007}]
[39,"СТОИМОСТЬ МЕТАЛЛОМОНТАЖНЫХ РАБОТ -","Б",0,null,{"$f":"ROUND(SUMIF(Определители!I50:I58,\"=3\",'Базовые цены с учетом расхода'!B50:B58),0)","v":0},{"$f":"ROUND(SUMIF(Определители!I50:I58,\"=3\",'Базовые цены с учетом расхода'!C50:C58),0)","v":0},{"$f":"ROUND(SUMIF(Определители!I50:I58,\"=3\",'Базовые цены с учетом расхода'!D50:D58),0)","v":0},{"$f":"ROUND(SUMIF(Определители!I50:I58,\"=3\",'Базовые цены с учетом расхода'!E50:E58),0)","v":0},{"$f":"ROUND(SUMIF(Определители!I50:I58,\"=3\",'Базовые цены с учетом расхода'!I50:I58),8)","v":0},{"$f":"ROUND(SUMIF(Определители!I50:I58,\"=3\",'Базовые цены с учетом расхода'!K50:K58),8)","v":0},{"$f":"ROUND(SUMIF(Определители!I50:I58,\"=3\",'Базовые цены с учетом расхода'!F50:F58),0)","v":0}]
[40,".   СТОИМОСТЬ ВОЗВРАЩАЕМЫХ МАТЕРИАЛОВ -","Б",0,null,{"$f":"ROUND(SUMIF(Определители!I50:I58,\"=3\",'Базовые цены с учетом расхода'!H50:H58),0)","v":0}]
[41,".   НАКЛАДНЫЕ РАСХОДЫ -","Б",0,null,{"$f":"ROUND(SUMIF(Определители!I50:I58,\"=3\",'Базовые цены с учетом расхода'!N50:N58),0)","v":0}]
[42,".   СМЕТНАЯ ПРИБЫЛЬ -","Б",0,null,{"$f":"ROUND(SUMIF(Определители!I50:I58,\"=3\",'Базовые цены с учетом расхода'!O50:O58),0)","v":0}]
[43,"ВСЕГО, СТОИМОСТЬ МЕТАЛЛОМОНТАЖНЫХ РАБОТ -","!",0,null,{"$f":"ROUND((F680+F682+F683),0)","v":0}]
[44,"СТОИМОСТЬ САНТЕХНИЧЕСКИХ РАБОТ -","Б",0,null,{"$f":"ROUND(SUMIF(Определители!I50:I58,\"=4\",'Базовые цены с учетом расхода'!B50:B58),0)","v":0},{"$f":"ROUND(SUMIF(Определители!I50:I58,\"=4\",'Базовые цены с учетом расхода'!C50:C58),0)","v":0},{"$f":"ROUND(SUMIF(Определители!I50:I58,\"=4\",'Базовые цены с учетом расхода'!D50:D58),0)","v":0},{"$f":"ROUND(SUMIF(Определители!I50:I58,\"=4\",'Базовые цены с учетом расхода'!E50:E58),0)","v":0},{"$f":"ROUND(SUMIF(Определители!I50:I58,\"=4\",'Базовые цены с учетом расхода'!I50:I58),8)","v":0},{"$f":"ROUND(SUMIF(Определители!I50:I58,\"=4\",'Базовые цены с учетом расхода'!K50:K58),8)","v":0},{"$f":"ROUND(SUMIF(Определители!I50:I58,\"=4\",'Базовые цены с учетом расхода'!F50:F58),0)","v":0}]
[45,".     В ТОМ ЧИСЛЕ:","Б",0]
[46,". СДАЧА И ИСПЫТАНИЕ -","Б",0,null,{"$f":"ROUND(SUMIF(Определители!I50:I58,\"=4\",'Базовые цены с учетом расхода'!AJ50:AJ58),0)","v":0},{"$f":"ROUND(SUMIF(Определители!I50:I58,\"=4\",'Базовые цены с учетом расхода'!AI50:AI58),0)","v":0},{"$f":"ROUND(SUMIF(Определители!I50:I58,\"=4\",'Базовые цены с учетом расхода'!AH50:AH58),0)","v":0},{"$f":"ROUND(SUMIF(Определители!I50:I58,\"=4\",'Базовые цены с учетом расхода'!V50:V58),0)","v":0}]
[47,".   СТОИМОСТЬ ВОЗВРАЩАЕМЫХ МАТЕРИАЛОВ -","Б",0,null,{"$f":"ROUND(SUMIF(Определители!I50:I58,\"=4\",'Базовые цены с учетом расхода'!H50:H58),0)","v":0}]
[48,".   НАКЛАДНЫЕ РАСХОДЫ -","Б",0,null,{"$f":"ROUND(SUMIF(Определители!I50:I58,\"=4\",'Базовые цены с учетом расхода'!N50:N58),0)","v":0}]
[49,".   СМЕТНАЯ ПРИБЫЛЬ -","Б",0,null,{"$f":"ROUND(SUMIF(Определители!I50:I58,\"=4\",'Базовые цены с учетом расхода'!O50:O58),0)","v":0}]
[50,". ШЕФМОНТАЖ -","Б",0,null,{"$f":"ROUND(СУММПРОИЗВЕСЛИ(1,Определители!I50:I58,\" \",'Базовые цены с учетом расхода'!M50:M58,Начисления!I50:I58,0),0)","v":0}]
[51,"ВСЕГО, СТОИМОСТЬ САНТЕХНИЧЕСКИХ РАБОТ -","!",0,null,{"$f":"ROUND((F685+F689+F690),0)","v":0}]
[52,"СТОИМОСТЬ БУРО-ВЗРЫВНЫХ РАБОТ -","Б",0,null,{"$f":"ROUND(SUMIF(Определители!I50:I58,\"=5\",'Базовые цены с учетом расхода'!B50:B58),0)","v":0},{"$f":"ROUND(SUMIF(Определители!I50:I58,\"=5\",'Базовые цены с учетом расхода'!C50:C58),0)","v":0},{"$f":"ROUND(SUMIF(Определители!I50:I58,\"=5\",'Базовые цены с учетом расхода'!D50:D58),0)","v":0},{"$f":"ROUND(SUMIF(Определители!I50:I58,\"=5\",'Базовые цены с учетом расхода'!E50:E58),0)","v":0},{"$f":"ROUND(SUMIF(Определители!I50:I58,\"=5\",'Базовые цены с учетом расхода'!I50:I58),8)","v":0},{"$f":"ROUND(SUMIF(Определители!I50:I58,\"=5\",'Базовые цены с учетом расхода'!K50:K58),8)","v":0},{"$f":"ROUND(SUMIF(Определители!I50:I58,\"=5\",'Базовые цены с учетом расхода'!F50:F58),0)","v":0}]
[53,".   СТОИМОСТЬ ВОЗВРАЩАЕМЫХ МАТЕРИАЛОВ -","Б",0,null,{"$f":"ROUND(SUMIF(Определители!I50:I58,\"=5\",'Базовые цены с учетом расхода'!H50:H58),0)","v":0}]
[54,".   НАКЛАДНЫЕ РАСХОДЫ -","Б",0,null,{"$f":"ROUND(SUMIF(Определители!I50:I58,\"=5\",'Базовые цены с учетом расхода'!N50:N58),0)","v":0}]
[55,".   СМЕТНАЯ ПРИБЫЛЬ -","Б",0,null,{"$f":"ROUND(SUMIF(Определители!I50:I58,\"=5\",'Базовые цены с учетом расхода'!O50:O58),0)","v":0}]
[56,"ВСЕГО, СТОИМОСТЬ БУРО-ВЗРЫВНЫХ РАБОТ -","!",0,null,{"$f":"ROUND((F693+F695+F696),0)","v":0}]
[57,"СТОИМОСТЬ ГОРНОПРОХОДЧЕСКИХ РАБОТ -","Б",0,null,{"$f":"ROUND(SUMIF(Определители!I50:I58,\"=6\",'Базовые цены с учетом расхода'!B50:B58),0)","v":0},{"$f":"ROUND(SUMIF(Определители!I50:I58,\"=6\",'Базовые цены с учетом расхода'!C50:C58),0)","v":0},{"$f":"ROUND(SUMIF(Определители!I50:I58,\"=6\",'Базовые цены с учетом расхода'!D50:D58),0)","v":0},{"$f":"ROUND(SUMIF(Определители!I50:I58,\"=6\",'Базовые цены с учетом расхода'!E50:E58),0)","v":0},{"$f":"ROUND(SUMIF(Определители!I50:I58,\"=6\",'Базовые цены с учетом расхода'!I50:I58),8)","v":0},{"$f":"ROUND(SUMIF(Определители!I50:I58,\"=6\",'Базовые цены с учетом расхода'!K50:K58),8)","v":0},{"$f":"ROUND(SUMIF(Определители!I50:I58,\"=6\",'Базовые цены с учетом расхода'!F50:F58),0)","v":0}]
[58,".   СТОИМОСТЬ ВОЗВРАЩАЕМЫХ МАТЕРИАЛОВ -","Б",0,null,{"$f":"ROUND(SUMIF(Определители!I50:I58,\"=6\",'Базовые цены с учетом расхода'!H50:H58),0)","v":0}]
[59,".   НАКЛАДНЫЕ РАСХОДЫ -","Б",0,null,{"$f":"ROUND(SUMIF(Определители!I50:I58,\"=6\",'Базовые цены с учетом расхода'!N50:N58),0)","v":0}]
[60,".   СМЕТНАЯ ПРИБЫЛЬ -","Б",0,null,{"$f":"ROUND(SUMIF(Определители!I50:I58,\"=6\",'Базовые цены с учетом расхода'!O50:O58),0)","v":0}]
[61,"ВСЕГО, СТОИМОСТЬ ГОРНОПРОХОДЧЕСКИХ РАБОТ -","!",0,null,{"$f":"ROUND((F698+F700+F701),0)","v":0}]
[62,"СТОИМОСТЬ РЕСТАВРАЦИОННЫХ РАБОТ -","Б",0,null,{"$f":"ROUND(SUMIF(Определители!I50:I58,\"=7\",'Базовые цены с учетом расхода'!B50:B58),0)","v":0},{"$f":"ROUND(SUMIF(Определители!I50:I58,\"=7\",'Базовые цены с учетом расхода'!C50:C58),0)","v":0},{"$f":"ROUND(SUMIF(Определители!I50:I58,\"=7\",'Базовые цены с учетом расхода'!D50:D58),0)","v":0},{"$f":"ROUND(SUMIF(Определители!I50:I58,\"=7\",'Базовые цены с учетом расхода'!E50:E58),0)","v":0},{"$f":"ROUND(SUMIF(Определители!I50:I58,\"=7\",'Базовые цены с учетом расхода'!I50:I58),8)","v":0},{"$f":"ROUND(SUMIF(Определители!I50:I58,\"=7\",'Базовые цены с учетом расхода'!K50:K58),8)","v":0},{"$f":"ROUND(SUMIF(Определители!I50:I58,\"=7\",'Базовые цены с учетом расхода'!F50:F58),0)","v":0}]
[63,".     В ТОМ ЧИСЛЕ:","Б",0]
[64,". МАТЕРИАЛЫ -","Б",0,null,{"$f":"ROUND(СУММЕСЛИ2(Определители!I50:I58,\"2\",Определители!G50:G58,\"1\",'Базовые цены с учетом расхода'!B50:B58),0)","v":22480}]
[65,".   СТОИМОСТЬ ВОЗВРАЩАЕМЫХ МАТЕРИАЛОВ -","Б",0,null,{"$f":"ROUND(SUMIF(Определители!I50:I58,\"=7\",'Базовые цены с учетом расхода'!H50:H58),0)","v":0}]
[66,".   НАКЛАДНЫЕ РАСХОДЫ -","Б",0,null,{"$f":"ROUND(SUMIF(Определители!I50:I58,\"=7\",'Базовые цены с учетом расхода'!N50:N58),0)","v":0}]
[67,".   СМЕТНАЯ ПРИБЫЛЬ -","Б",0,null,{"$f":"ROUND(SUMIF(Определители!I50:I58,\"=7\",'Базовые цены с учетом расхода'!O50:O58),0)","v":0}]
[68,"ВСЕГО, СТОИМОСТЬ РЕСТАВРАЦИОННЫХ РАБОТ -","!",0,null,{"$f":"ROUND((F703+F707+F708),0)","v":0}]
[69,"Строительные работы БЦ ЭМ","s",0,null,{"$f":"ROUND((H673+H680+H685+H693+H698+H703),0)","v":1789}]
[70,"Строительные работы БЦ ЗПМ","s",0,null,{"$f":"ROUND((I673+I680+I685+I693+I698+I703),0)","v":181}]
[71,"Строительные работы ТЦ ЗП","k",21.324000000000002,null,{"$f":"ROUND((G673+G680+G685+G693+G698+G703)*D712,0)","v":39705}]
[72,"Строительные работы ТЦ ЗПМ","k",21.324000000000002,null,{"$f":"ROUND((F711)*D713,0)","v":3860}]
[73,"Строительные работы ТЦ ЭМ","k",6.1520000000000001,null,{"$f":"ROUND((F710)*D714,0)","v":11006}]
[74,"Строительные работы ТЦ материалы","k",6.32,null,{"$f":"ROUND((L673+L680+L685+L693+L698+L703)*D715,0)","v":169376}]
[75,"Строительные работы ТЦ НР","k",21.324000000000002,null,{"$f":"ROUND((F677+F682+F689+F695+F700+F707)*D716,0)","v":61861}]
[76,"Строительные работы ТЦ СП","k",21.324000000000002,null,{"$f":"ROUND((F678+F683+F690+F696+F701+F708)*D717,0)","v":35291}]
[77,"Строительные работы ТЦ всего","s",0,null,{"$f":"ROUND((F712+F714+F715+F716+F717),0)","v":317239}]
[78,"СТОИМОСТЬ ПЕРЕВОЗКИ ГРУЗОВ -","Б",0,null,{"$f":"ROUND(SUMIF(Определители!I50:I58,\"=;\",'Базовые цены с учетом расхода'!B50:B58),0)","v":0},{"$f":"ROUND(SUMIF(Определители!I50:I58,\"=;\",'Базовые цены с учетом расхода'!C50:C58),0)","v":0},{"$f":"ROUND(SUMIF(Определители!I50:I58,\"=;\",'Базовые цены с учетом расхода'!D50:D58),0)","v":0},{"$f":"ROUND(SUMIF(Определители!I50:I58,\"=;\",'Базовые цены с учетом расхода'!E50:E58),0)","v":0},{"$f":"ROUND(SUMIF(Определители!I50:I58,\"=;\",'Базовые цены с учетом расхода'!I50:I58),8)","v":0},{"$f":"ROUND(SUMIF(Определители!I50:I58,\"=;\",'Базовые цены с учетом расхода'!K50:K58),8)","v":0},{"$f":"ROUND(SUMIF(Определители!I50:I58,\"=;\",'Базовые цены с учетом расхода'!F50:F58),0)","v":0}]
[79,"СТОИМОСТЬ ПОГРУЗКИ-РАЗГРУЗКИ","m",0,null,{"$f":"ROUND((F719-F738-F739-F740),0)","v":0},{"$f":"ROUND((G719-G738-G739-G740),0)","v":0},{"$f":"ROUND((H719-H738-H739-H740),0)","v":0},{"$f":"ROUND((I719-I738-I739-I740),0)","v":0},{"$f":"ROUND((J719-J738-J739-J740),8)","v":0},{"$f":"ROUND((K719-K738-K739-K740),8)","v":0},{"$f":"ROUND((L719-L738-L739-L740),0)","v":0}]
[80,".   В Т.Ч. НАКЛАДНЫЕ РАСХОДЫ -","Б",0,null,{"$f":"ROUND(SUMIF(Определители!I50:I58,\"=;\",'Базовые цены с учетом расхода'!AF50:AF58),0)","v":0}]
[81,".   В Т.Ч. СМЕТНАЯ ПРИБЫЛЬ -","Б",0,null,{"$f":"ROUND(SUMIF(Определители!I50:I58,\"=;\",'Базовые цены с учетом расхода'!AG50:AG58),0)","v":0}]
[82,".   НАКЛАДНЫЕ РАСХОДЫ -","Б",0,null,{"$f":"ROUND(SUMIF(Определители!I50:I58,\"=;\",'Базовые цены с учетом расхода'!N50:N58),0)","v":0}]
[83,".   СМЕТНАЯ ПРИБЫЛЬ -","Б",0,null,{"$f":"ROUND(SUMIF(Определители!I50:I58,\"=;\",'Базовые цены с учетом расхода'!O50:O58),0)","v":0}]
[84,"ВСЕГО, СТОИМОСТЬ ПЕРЕВОЗКИ ГРУЗОВ -","!",0,null,{"$f":"ROUND((F719+F723+F724),0)","v":0}]
[85,"ВСЕГО, СТОИМОСТЬ ПОГРУЗКИ-РАЗГРУЗКИ -","s",0,null,{"$f":"ROUND((F720+F723+F724),0)","v":0}]
[86,"Погрузка-разгрузка БЦ ЭМ","s",0,null,{"$f":"ROUND((H720),0)","v":0}]
[87,"Погрузка-разгрузка БЦ ЗПМ","s",0,null,{"$f":"ROUND((I720),0)","v":0}]
[88,"Погрузка-разгрузка ТЦ ЗП","k",21.324000000000002,null,{"$f":"ROUND((G720)*D729,0)","v":0}]
[89,"Погрузка-разгрузка ТЦ ЗПМ","k",21.324000000000002,null,{"$f":"ROUND((I720)*D730,0)","v":0}]
[90,"Погрузка-разгрузка ТЦ ЭМ","k",6.1520000000000001,null,{"$f":"ROUND((F727)*D731,0)","v":0}]
[91,"Погрузка-разгрузка ТЦ материалы","k",6.32,null,{"$f":"ROUND((L719)*D732,0)","v":0}]
[92,"Погрузка-разгрузка ТЦ в т.ч. НР","k",21.324000000000002,null,{"$f":"ROUND((F721)*D733,0)","v":0}]
[93,"Погрузка-разгрузка ТЦ в т.ч. СП","k",21.324000000000002,null,{"$f":"ROUND((F722)*D734,0)","v":0}]
[94,"Погрузка-разгрузка ТЦ НР","k",21.324000000000002,null,{"$f":"ROUND((F723)*D735,0)","v":0}]
[95,"Погрузка-разгрузка ТЦ СП","k",21.324000000000002,null,{"$f":"ROUND((F724)*D736,0)","v":0}]
[96,"Погрузка-разгрузка ТЦ всего","s",0,null,{"$f":"ROUND((F729+F731+F732+F735+F736+F733+F734),0)","v":0}]
[97,"ПЕРЕВОЗКА (таб.6)","f",0]
[98,"ПЕРЕВОЗКА (таб.7)","f",0]
[99,"ПЕРЕВОЗКА (таб.8)","f",0]
[100,"Перевозка (таб.6) ТЦ","k",1,null,{"$f":"ROUND((F738)*D741,0)","v":0}]
[101,"Перевозка (таб.7) ТЦ","k",1,null,{"$f":"ROUND((F739)*D742,0)","v":0}]
[102,"Перевозка (таб.8) ТЦ","k",10.144,null,{"$f":"ROUND((F740)*D743,0)","v":0}]
[103,"Перевозка ТЦ  всего","s",0,null,{"$f":"ROUND((F741+F742+F743),0)","v":0}]
[104,"СТОИМОСТЬ ПУСКОНАЛАДОЧНЫХ РАБОТ -","Б",0,null,{"$f":"ROUND(SUMIF(Определители!I50:I58,\"=9\",'Базовые цены с учетом расхода'!B50:B58),0)","v":0},{"$f":"ROUND(SUMIF(Определители!I50:I58,\"=9\",'Базовые цены с учетом расхода'!C50:C58),0)","v":0},{"$f":"ROUND(SUMIF(Определители!I50:I58,\"=9\",'Базовые цены с учетом расхода'!D50:D58),0)","v":0},{"$f":"ROUND(SUMIF(Определители!I50:I58,\"=9\",'Базовые цены с учетом расхода'!E50:E58),0)","v":0},{"$f":"ROUND(SUMIF(Определители!I50:I58,\"=9\",'Базовые цены с учетом расхода'!I50:I58),8)","v":0},{"$f":"ROUND(SUMIF(Определители!I50:I58,\"=9\",'Базовые цены с учетом расхода'!K50:K58),8)","v":0},{"$f":"ROUND(SUMIF(Определители!I50:I58,\"=9\",'Базовые цены с учетом расхода'!F50:F58),0)","v":0}]
[105,".   НАКЛАДНЫЕ РАСХОДЫ -","Б",0,null,{"$f":"ROUND(SUMIF(Определители!I50:I58,\"=9\",'Базовые цены с учетом расхода'!N50:N58),0)","v":0}]
[106,".   СМЕТНАЯ ПРИБЫЛЬ -","Б",0,null,{"$f":"ROUND(SUMIF(Определители!I50:I58,\"=9\",'Базовые цены с учетом расхода'!O50:O58),0)","v":0}]
[107,"ВСЕГО, СТОИМОСТЬ ПУСКОНАЛАДОЧНЫХ РАБОТ -","!",0,null,{"$f":"ROUND((F745+F746+F747),0)","v":0}]
[108,"Пусконаладочные работы ТЦ ЗП","k",1,null,{"$f":"ROUND((G745)*D749,0)","v":0}]
[109,"Пусконаладочные работы ТЦ НР","k",1,null,{"$f":"ROUND((F746)*D750,0)","v":0}]
[110,"Пусконаладочные работы ТЦ СП","k",1,null,{"$f":"ROUND((F747)*D751,0)","v":0}]
[111,"Пусконаладочные работы ТЦ всего","s",0,null,{"$f":"ROUND((F749+F750+F751),0)","v":0}]
[112,"СТОИМОСТЬ ПРОЧИХ РАБОТ (с НР и СП) -","Б",0,null,{"$f":"ROUND(SUMIF(Определители!I50:I58,\"=:\",'Базовые цены с учетом расхода'!B50:B58),0)","v":0},{"$f":"ROUND(SUMIF(Определители!I50:I58,\"=:\",'Базовые цены с учетом расхода'!C50:C58),0)","v":0},{"$f":"ROUND(SUMIF(Определители!I50:I58,\"=:\",'Базовые цены с учетом расхода'!D50:D58),0)","v":0},{"$f":"ROUND(SUMIF(Определители!I50:I58,\"=:\",'Базовые цены с учетом расхода'!E50:E58),0)","v":0},{"$f":"ROUND(SUMIF(Определители!I50:I58,\"=:\",'Базовые цены с учетом расхода'!I50:I58),8)","v":0},{"$f":"ROUND(SUMIF(Определители!I50:I58,\"=:\",'Базовые цены с учетом расхода'!K50:K58),8)","v":0},{"$f":"ROUND(SUMIF(Определители!I50:I58,\"=:\",'Базовые цены с учетом расхода'!F50:F58),0)","v":0}]
[113,".   СТОИМОСТЬ ВОЗВРАЩАЕМЫХ МАТЕРИАЛОВ -","Б",0,null,{"$f":"ROUND(SUMIF(Определители!I50:I58,\"=:\",'Базовые цены с учетом расхода'!H50:H58),0)","v":0}]
[114,".   НАКЛАДНЫЕ РАСХОДЫ -","Б",0,null,{"$f":"ROUND(SUMIF(Определители!I50:I58,\"=:\",'Базовые цены с учетом расхода'!N50:N58),0)","v":0}]
[115,".   СМЕТНАЯ ПРИБЫЛЬ -","Б",0,null,{"$f":"ROUND(SUMIF(Определители!I50:I58,\"=:\",'Базовые цены с учетом расхода'!O50:O58),0)","v":0}]
[116,"ВСЕГО, СТОИМОСТЬ ПРОЧИХ РАБОТ (с НР и СП) -","!",0,null,{"$f":"ROUND((F753+F755+F756),0)","v":0}]
[117,"ВСЕГО, СТОИМОСТЬ ПРОЧИХ РАБОТ (без НР и СП) -","Б",0,null,{"$f":"ROUND(SUMIF(Определители!I50:I58,\"=8\",'Базовые цены с учетом расхода'!B50:B58),0)","v":0},{"$f":"ROUND(SUMIF(Определители!I50:I58,\"=8\",'Базовые цены с учетом расхода'!C50:C58),0)","v":0},{"$f":"ROUND(SUMIF(Определители!I50:I58,\"=8\",'Базовые цены с учетом расхода'!D50:D58),0)","v":0},{"$f":"ROUND(SUMIF(Определители!I50:I58,\"=8\",'Базовые цены с учетом расхода'!E50:E58),0)","v":0},{"$f":"ROUND(SUMIF(Определители!I50:I58,\"=8\",'Базовые цены с учетом расхода'!I50:I58),8)","v":0},{"$f":"ROUND(SUMIF(Определители!I50:I58,\"=8\",'Базовые цены с учетом расхода'!K50:K58),8)","v":0},{"$f":"ROUND(SUMIF(Определители!I50:I58,\"=8\",'Базовые цены с учетом расхода'!F50:F58),0)","v":0}]
[118,".   СТОИМОСТЬ ВОЗВРАЩАЕМЫХ МАТЕРИАЛОВ -","Б",0,null,{"$f":"ROUND(SUMIF(Определители!I50:I58,\"=8\",'Базовые цены с учетом расхода'!H50:H58),0)","v":0}]
[119,"Прочие работы БЦ ЭМ","s",0,null,{"$f":"ROUND((H753+H758),0)","v":0}]
[120,"Прочие работы БЦ ЗПМ","s",0,null,{"$f":"ROUND((I753+I758),0)","v":0}]
[121,"Прочие работы ТЦ ЗП","k",1,null,{"$f":"ROUND((G753+G758)*D762,0)","v":0}]
[122,"Прочие работы ТЦ ЗПМ","k",1,null,{"$f":"ROUND((F761)*D763,0)","v":0}]
[123,"Прочие работы ТЦ ЭМ","k",1,null,{"$f":"ROUND((F760)*D764,0)","v":0}]
[124,"Прочие работы ТЦ материалы","k",1,null,{"$f":"ROUND((L753+L758)*D765,0)","v":0}]
[125,"Прочие работы ТЦ НР","k",1,null,{"$f":"ROUND((F755)*D766,0)","v":0}]
[126,"Прочие работы ТЦ СП","k",1,null,{"$f":"ROUND((F756)*D767,0)","v":0}]
[127,"Прочие работы ТЦ всего","s",0,null,{"$f":"ROUND((F762+F764+F765+F766+F767),0)","v":0}]
[128,". ВСЕГО  ПО  СМЕТЕ","!",0,null,{"$f":"ROUND((F652+F663+F679+F684+F692+F697+F702+F709+F725+F748+F757+F758),0)","v":35007},{"$f":"ROUND((G652+G663+G679+G684+G692+G697+G702+G709+G725+G748+G757+G758),0)","v":0},{"$f":"ROUND((H652+H663+H679+H684+H692+H697+H702+H709+H725+H748+H757+H758),0)","v":0},{"$f":"ROUND((I652+I663+I679+I684+I692+I697+I702+I709+I725+I748+I757+I758),0)","v":0},{"$f":"ROUND((J652+J663+J679+J684+J692+J697+J702+J709+J725+J748+J757+J758),8)","v":0},{"$f":"ROUND((K652+K663+K679+K684+K692+K697+K702+K709+K725+K748+K757+K758),8)","v":0},{"$f":"ROUND((L652+L663+L679+L684+L692+L697+L702+L709+L725+L748+L757+L758),0)","v":0}]
[129,"ВСЕГО СТОИМОСТЬ ВОЗВРАЩАЕМЫХ МАТЕРИАЛОВ -","!",0,null,{"$f":"ROUND((F659+F676+F681+F688+F694+F699+F706+F754+F759),0)","v":0}]
[130,"ВСЕГО НАКЛАДНЫЕ РАСХОДЫ","!",0,null,{"$f":"ROUND((F660+F677+F682+F689+F695+F700+F707+F723+F746+F755),0)","v":2901}]
[131,"ВСЕГО НАКЛАДНЫЕ РАСХОДЫ","s",0,null,{"$f":"ROUND((F771+F721),0)","v":2901}]
[132,"ВСЕГО СМЕТНАЯ ПРИБЫЛЬ","!",0,null,{"$f":"ROUND((F661+F678+F683+F690+F696+F701+F708+F724+F747+F756),0)","v":1655}]
[133,"ВСЕГО СМЕТНАЯ ПРИБЫЛЬ","s",0,null,{"$f":"ROUND((F773+F722),0)","v":1655}]
[134,"в т.ч. Вспомогательные материалы на монтаж","h",0,null,{"$f":"ROUND(SUM('Базовые цены с учетом расхода'!X50:X58),0)","v":0},null,null,null,null,null,{"$f":"ROUND(SUM('Базовые цены с учетом расхода'!X50:X58),0)","v":0}]
[135,"в т.ч. Вспомогательные материалы от ОЗП","h",0,null,{"$f":"ROUND(SUM('Базовые цены с учетом расхода'!AE50:AE58),0)","v":0}]
[136,"Оплата основных рабочих","h",0,null,{"$f":"ROUND(SUM('Базовые цены с учетом расхода'!C50:C58),0)","v":1862}]
[137,"Оплата механизаторов","h",0,null,{"$f":"ROUND(SUM('Базовые цены с учетом расхода'!E50:E58),0)","v":181}]
[138,"Стоимость механизмов","h",0,null,{"$f":"ROUND(SUM('Базовые цены с учетом расхода'!D50:D58),0)","v":1789}]
[139,"Сметная стоимость материалов","h",0,null,{"$f":"ROUND(SUM('Базовые цены с учетом расхода'!F50:F58),0)","v":26800},null,null,null,null,null,{"$f":"ROUND(SUM('Базовые цены с учетом расхода'!F50:F58),0)","v":26800}]
[140,"Трудозатраты осн. рабочих","h",0,null,null,null,null,null,{"$f":"ROUND(SUM('Базовые цены с учетом расхода'!I50:I58),8)","v":175.66}]
[141,"Трудозатраты механизаторов","h",0,null,null,null,null,null,{"$f":"ROUND(SUM('Базовые цены с учетом расхода'!K50:K58),8)","v":13.5959}]
[142,"Нормативная трудоемкость","s",0,null,null,null,null,null,{"$f":"ROUND((J781+J782),8)","v":189.2559}]
[143,"Оплата основных рабочих ТЦ","s",0,null,{"$f":"ROUND((F666+F712+F729+F762+F749),0)","v":39705}]
[144,"Оплата механизаторов ТЦ","s",0,null,{"$f":"ROUND((F667+F713+F730+F763),0)","v":3860}]
[145,"Стоимость механизмов ТЦ","s",0,null,{"$f":"ROUND((F668+F714+F731+F764),0)","v":11006}]
[146,"Стоимость материалов ТЦ","s",0,null,{"$f":"ROUND((F669+F715+F732+F765),0)","v":169376}]
[147,"Оборудование ТЦ","s",0,null,{"$f":"ROUND((F653),0)","v":0}]
[148,"Перевозка ТЦ","s",0,null,{"$f":"ROUND((F744),0)","v":0}]
[149,"ИТОГО ТЦ","s",0,null,{"$f":"ROUND((F784+F786+F787+F788+F789),0)","v":220087}]
[150,"В Т.Ч. НАКЛАДНЫЕ РАСХОДЫ ТЦ","s",0,null,{"$f":"ROUND((F733),0)","v":0}]
[151,"В Т.Ч. СМЕТНАЯ ПРИБЫЛЬ ТЦ","s",0,null,{"$f":"ROUND((F734),0)","v":0}]
[152,"НАКЛАДНЫЕ РАСХОДЫ ТЦ","s",0,null,{"$f":"ROUND((F670+F716+F735+F750+F766+F733),0)","v":61861}]
[153,"СМЕТНАЯ ПРИБЫЛЬ ТЦ","s",0,null,{"$f":"ROUND((F671+F717+F736+F767+F751+F734),0)","v":35291}]
[154,"ВСЕГО ТЦ","s",0,null,{"$f":"ROUND((F790+F793+F794),0)","v":317239}]
[]
[null,"Раздел 6.  Восстановление газонов"]
[]
[null,"Наименование","Вид","Значение","ЕИ","Z1","Z2","Z3","Z4","Z5","Z6","Z7","Z8"]
[1,".    ИТОГО  ПО  СМЕТЕ","А",0,null,{"$f":"ROUND(SUM('Базовые цены с учетом расхода'!B62:B62),0)","v":6185},{"$f":"ROUND(SUM('Базовые цены с учетом расхода'!C62:C62),0)","v":1146},{"$f":"ROUND(SUM('Базовые цены с учетом расхода'!D62:D62),0)","v":0},{"$f":"ROUND(SUM('Базовые цены с учетом расхода'!E62:E62),0)","v":0},{"$f":"ROUND(SUM('Базовые цены с учетом расхода'!I62:I62),8)","v":120},{"$f":"ROUND(SUM('Базовые цены с учетом расхода'!K62:K62),8)","v":0},{"$f":"ROUND(SUM('Базовые цены с учетом расхода'!F62:F62),0)","v":5039}]
[2,"СТОИМОСТЬ ОБОРУДОВАНИЯ -","Б",0,null,{"$f":"ROUND(SUMIF(Определители!I62:I62,\"= \",'Базовые цены с учетом расхода'!B62:B62),0)","v":0},{"$f":"ROUND(SUMIF(Определители!I62:I62,\"= \",'Базовые цены с учетом расхода'!C62:C62),0)","v":0},{"$f":"ROUND(SUMIF(Определители!I62:I62,\"= \",'Базовые цены с учетом расхода'!D62:D62),0)","v":0},{"$f":"ROUND(SUMIF(Определители!I62:I62,\"= \",'Базовые цены с учетом расхода'!E62:E62),0)","v":0},{"$f":"ROUND(SUMIF(Определители!I62:I62,\"= \",'Базовые цены с учетом расхода'!I62:I62),8)","v":0},{"$f":"ROUND(SUMIF(Определители!I62:I62,\"= \",'Базовые цены с учетом расхода'!K62:K62),8)","v":0},{"$f":"ROUND(SUMIF(Определители!I62:I62,\"= \",'Базовые цены с учетом расхода'!F62:F62),0)","v":0}]
[3,".   ЗАПАСНЫЕ ЧАСТИ -","Б",0,null,{"$f":"ROUND(СУММПРОИЗВЕСЛИ(0.01,Определители!I62:I62,\" \",'Базовые цены с учетом расхода'!B62:B62,Начисления!X62:X62,0),0)","v":0}]
[4,".   ТАРА И УПАКОВКА -","Б",0,null,{"$f":"ROUND(СУММПРОИЗВЕСЛИ(0.01,Определители!I62:I62,\" \",'Базовые цены с учетом расхода'!B62:B62,Начисления!Y62:Y62,0),0)","v":0}]
[5,".   ТРАНСПОРТНЫЕ РАСХОДЫ -","Б",0,null,{"$f":"ROUND(ТРАНСПРАСХОД(Определители!B62:B62,Определители!H62:H62,Определители!I62:I62,'Базовые цены с учетом расхода'!B62:B62,Начисления!Z62:Z62,Начисления!AA62:AA62),0)","v":0}]
[6,".   КОМПЛЕКТАЦИЯ -","Б",0,null,{"$f":"ROUND(СУММПРОИЗВЕСЛИ(0.01,Определители!I62:I62,\" \",'Базовые цены с учетом расхода'!B62:B62,Начисления!AC62:AC62,0),0)","v":0}]
[7,".   НАЦЕНКА СНАБА -","Б",0,null,{"$f":"ROUND(СУММПРОИЗВЕСЛИ(0.01,Определители!I62:I62,\" \",'Базовые цены с учетом расхода'!B62:B62,Начисления!AF62:AF62,0),0)","v":0}]
[8,".   ЗАГОТОВИТЕЛЬНО-СКЛАДСКИЕ РАСХОДЫ -","Б",0,null,{"$f":"ROUND(ЗАГОТСКЛАДРАСХОД(Определители!B62:B62,Определители!H62:H62,Определители!I62:I62,'Базовые цены с учетом расхода'!B62:B62,Начисления!X62:X62,Начисления!Y62:Y62,Начисления!Z62:Z62,Начисления!AA62:AA62,Начисления!AB62:AB62,Начисления!AC62:AC62,Начисления!AF62:AF62),0)","v":0}]
[9,". ШЕФМОНТАЖ ПО ОБОРУДОВАНИЮ -","Б",0,null,{"$f":"ROUND(СУММПРОИЗВЕСЛИ(1,Определители!I62:I62,\" \",'Базовые цены с учетом расхода'!M62:M62,Начисления!I62:I62,0),0)","v":0}]
[10,". ШЕФМОНТАЖ -","!",0,null,{"$f":"ROUND((F808+F820+F849),0)","v":0}]
[11,"ВСЕГО, СТОИМОСТЬ ОБОРУДОВАНИЯ -","!",0,null,{"$f":"ROUND((F801+F802+F803+F804+F805+F806+F807+F809),0)","v":0}]
[12,"Оборудование ТЦ","k",1,null,{"$f":"ROUND((F810)*D811,0)","v":0}]
[13,"СТОИМОСТЬ МОНТАЖНЫХ РАБОТ -","Б",0,null,{"$f":"ROUND(SUMIF(Определители!I62:I62,\"=1\",'Базовые цены с учетом расхода'!B62:B62),0)","v":0},{"$f":"ROUND(SUMIF(Определители!I62:I62,\"=1\",'Базовые цены с учетом расхода'!C62:C62),0)","v":0},{"$f":"ROUND(SUMIF(Определители!I62:I62,\"=1\",'Базовые цены с учетом расхода'!D62:D62),0)","v":0},{"$f":"ROUND(SUMIF(Определители!I62:I62,\"=1\",'Базовые цены с учетом расхода'!E62:E62),0)","v":0},{"$f":"ROUND(SUMIF(Определители!I62:I62,\"=1\",'Базовые цены с учетом расхода'!I62:I62),8)","v":0},{"$f":"ROUND(SUMIF(Определители!I62:I62,\"=1\",'Базовые цены с учетом расхода'!K62:K62),8)","v":0},{"$f":"ROUND(SUMIF(Определители!I62:I62,\"=1\",'Базовые цены с учетом расхода'!F62:F62),0)","v":0}]
[14,".     В ТОМ ЧИСЛЕ:","Б",0]
[15,". ОТКЛОНЕНИЕ ПО ЗАРАБОТНОЙ ПЛАТЕ -","Б",0,null,null,{"$f":"ROUND(SUMIF(Определители!I62:I62,\"=1\",'Базовые цены с учетом расхода'!T62:T62),0)","v":0}]
[16,". КОСВЕННЫЕ РАСХОДЫ -","Б",0,null,{"$f":"ROUND(SUMIF(Определители!I62:I62,\"=1\",'Базовые цены с учетом расхода'!U62:U62),0)","v":0}]
[17,". МАТЕРИАЛЬНЫЕ РЕСУРСЫ НЕ УЧТЕННЫЕ В РАСЦЕНКАХ -","Б",0,null,{"$f":"ROUND(СУММЕСЛИ2(Определители!I62:I62,\"1\",Определители!G62:G62,\"1\",'Базовые цены с учетом расхода'!B62:B62),0)","v":0}]
[18,".   СТОИМОСТЬ ВОЗВРАЩАЕМЫХ МАТЕРИАЛОВ -","Б",0,null,{"$f":"ROUND(SUMIF(Определители!I62:I62,\"=1\",'Базовые цены с учетом расхода'!H62:H62),0)","v":0}]
[19,".   НАКЛАДНЫЕ РАСХОДЫ -","Б",0,null,{"$f":"ROUND(SUMIF(Определители!I62:I62,\"=1\",'Базовые цены с учетом расхода'!N62:N62),0)","v":0}]
[20,".   СМЕТНАЯ ПРИБЫЛЬ -","Б",0,null,{"$f":"ROUND(SUMIF(Определители!I62:I62,\"=1\",'Базовые цены с учетом расхода'!O62:O62),0)","v":0}]
[21,". ШЕФМОНТАЖ -","Б",0,null,{"$f":"ROUND(СУММПРОИЗВЕСЛИ(1,Определители!I62:I62,\" \",'Базовые цены с учетом расхода'!M62:M62,Начисления!I62:I62,0),0)","v":0}]
[22,"ВСЕГО, СТОИМОСТЬ МОНТАЖНЫХ РАБОТ -","!",0,null,{"$f":"ROUND((F812+F818+F819),0)","v":0}]
[23,"Монтажные работы БЦ ЭМ","s",0,null,{"$f":"ROUND((H812),0)","v":0}]
[24,"Монтажные работы БЦ ЗПМ","s",0,null,{"$f":"ROUND((I812),0)","v":0}]
[25,"Монтажные работы ТЦ ЗП","k",21.324000000000002,null,{"$f":"ROUND((G812)*D824,0)","v":0}]
[26,"Монтажные работы ТЦ ЗПМ","k",21.324000000000002,null,{"$f":"ROUND((F823)*D825,0)","v":0}]
[27,"Монтажные работы ТЦ ЭМ","k",6.1520000000000001,null,{"$f":"ROUND((F822)*D826,0)","v":0}]
[28,"Монтажные работы ТЦ материалы","k",6.32,null,{"$f":"ROUND((L812)*D827,0)","v":0}]
[29,"Монтажные работы ТЦ НР","k",21.324000000000002,null,{"$f":"ROUND((F818)*D828,0)","v":0}]
[30,"Монтажные работы ТЦ СП","k",21.324000000000002,null,{"$f":"ROUND((F819)*D829,0)","v":0}]
[31,"Монтажные работы ТЦ всего","s",0,null,{"$f":"ROUND((F824+F826+F827+F828+F829),0)","v":0}]
[32,"СТОИМОСТЬ ОБЩЕСТРОИТЕЛЬНЫХ РАБОТ -","Б",0,null,{"$f":"ROUND(SUMIF(Определители!I62:I62,\"=2\",'Базовые цены с учетом расхода'!B62:B62),0)","v":6185},{"$f":"ROUND(SUMIF(Определители!I62:I62,\"=2\",'Базовые цены с учетом расхода'!C62:C62),0)","v":1146},{"$f":"ROUND(SUMIF(Определители!I62:I62,\"=2\",'Базовые цены с учетом расхода'!D62:D62),0)","v":0},{"$f":"ROUND(SUMIF(Определители!I62:I62,\"=2\",'Базовые цены с учетом расхода'!E62:E62),0)","v":0},{"$f":"ROUND(SUMIF(Определители!I62:I62,\"=2\",'Базовые цены с учетом расхода'!I62:I62),8)","v":120},{"$f":"ROUND(SUMIF(Определители!I62:I62,\"=2\",'Базовые цены с учетом расхода'!K62:K62),8)","v":0},{"$f":"ROUND(SUMIF(Определители!I62:I62,\"=2\",'Базовые цены с учетом расхода'!F62:F62),0)","v":5039}]
[33,".     В ТОМ ЧИСЛЕ:","Б",0]
[34,".       МАТЕРИАЛОВ -","Б",0,null,{"$f":"ROUND(СУММЕСЛИ2(Определители!I62:I62,\"2\",Определители!G62:G62,\"1\",'Базовые цены с учетом расхода'!B62:B62),0)","v":0}]
[35,".   СТОИМОСТЬ ВОЗВРАЩАЕМЫХ МАТЕРИАЛОВ -","Б",0,null,{"$f":"ROUND(SUMIF(Определители!I62:I62,\"=2\",'Базовые цены с учетом расхода'!H62:H62),0)","v":0}]
[36,".   НАКЛАДНЫЕ РАСХОДЫ -","Б",0,null,{"$f":"ROUND(SUMIF(Определители!I62:I62,\"=2\",'Базовые цены с учетом расхода'!N62:N62),0)","v":1318}]
[37,".   СМЕТНАЯ ПРИБЫЛЬ -","Б",0,null,{"$f":"ROUND(SUMIF(Определители!I62:I62,\"=2\",'Базовые цены с учетом расхода'!O62:O62),0)","v":882}]
[38,"ВСЕГО, СТОИМОСТЬ ОБЩЕСТРОИТЕЛЬНЫХ РАБОТ -","!",0,null,{"$f":"ROUND((F831+F835+F836),0)","v":8385}]
[39,"СТОИМОСТЬ МЕТАЛЛОМОНТАЖНЫХ РАБОТ -","Б",0,null,{"$f":"ROUND(SUMIF(Определители!I62:I62,\"=3\",'Базовые цены с учетом расхода'!B62:B62),0)","v":0},{"$f":"ROUND(SUMIF(Определители!I62:I62,\"=3\",'Базовые цены с учетом расхода'!C62:C62),0)","v":0},{"$f":"ROUND(SUMIF(Определители!I62:I62,\"=3\",'Базовые цены с учетом расхода'!D62:D62),0)","v":0},{"$f":"ROUND(SUMIF(Определители!I62:I62,\"=3\",'Базовые цены с учетом расхода'!E62:E62),0)","v":0},{"$f":"ROUND(SUMIF(Определители!I62:I62,\"=3\",'Базовые цены с учетом расхода'!I62:I62),8)","v":0},{"$f":"ROUND(SUMIF(Определители!I62:I62,\"=3\",'Базовые цены с учетом расхода'!K62:K62),8)","v":0},{"$f":"ROUND(SUMIF(Определители!I62:I62,\"=3\",'Базовые цены с учетом расхода'!F62:F62),0)","v":0}]
[40,".   СТОИМОСТЬ ВОЗВРАЩАЕМЫХ МАТЕРИАЛОВ -","Б",0,null,{"$f":"ROUND(SUMIF(Определители!I62:I62,\"=3\",'Базовые цены с учетом расхода'!H62:H62),0)","v":0}]
[41,".   НАКЛАДНЫЕ РАСХОДЫ -","Б",0,null,{"$f":"ROUND(SUMIF(Определители!I62:I62,\"=3\",'Базовые цены с учетом расхода'!N62:N62),0)","v":0}]
[42,".   СМЕТНАЯ ПРИБЫЛЬ -","Б",0,null,{"$f":"ROUND(SUMIF(Определители!I62:I62,\"=3\",'Базовые цены с учетом расхода'!O62:O62),0)","v":0}]
[43,"ВСЕГО, СТОИМОСТЬ МЕТАЛЛОМОНТАЖНЫХ РАБОТ -","!",0,null,{"$f":"ROUND((F838+F840+F841),0)","v":0}]
[44,"СТОИМОСТЬ САНТЕХНИЧЕСКИХ РАБОТ -","Б",0,null,{"$f":"ROUND(SUMIF(Определители!I62:I62,\"=4\",'Базовые цены с учетом расхода'!B62:B62),0)","v":0},{"$f":"ROUND(SUMIF(Определители!I62:I62,\"=4\",'Базовые цены с учетом расхода'!C62:C62),0)","v":0},{"$f":"ROUND(SUMIF(Определители!I62:I62,\"=4\",'Базовые цены с учетом расхода'!D62:D62),0)","v":0},{"$f":"ROUND(SUMIF(Определители!I62:I62,\"=4\",'Базовые цены с учетом расхода'!E62:E62),0)","v":0},{"$f":"ROUND(SUMIF(Определители!I62:I62,\"=4\",'Базовые цены с учетом расхода'!I62:I62),8)","v":0},{"$f":"ROUND(SUMIF(Определители!I62:I62,\"=4\",'Базовые цены с учетом расхода'!K62:K62),8)","v":0},{"$f":"ROUND(SUMIF(Определители!I62:I62,\"=4\",'Базовые цены с учетом расхода'!F62:F62),0)","v":0}]
[45,".     В ТОМ ЧИСЛЕ:","Б",0]
[46,". СДАЧА И ИСПЫТАНИЕ -","Б",0,null,{"$f":"ROUND(SUMIF(Определители!I62:I62,\"=4\",'Базовые цены с учетом расхода'!AJ62:AJ62),0)","v":0},{"$f":"ROUND(SUMIF(Определители!I62:I62,\"=4\",'Базовые цены с учетом расхода'!AI62:AI62),0)","v":0},{"$f":"ROUND(SUMIF(Определители!I62:I62,\"=4\",'Базовые цены с учетом расхода'!AH62:AH62),0)","v":0},{"$f":"ROUND(SUMIF(Определители!I62:I62,\"=4\",'Базовые цены с учетом расхода'!V62:V62),0)","v":0}]
[47,".   СТОИМОСТЬ ВОЗВРАЩАЕМЫХ МАТЕРИАЛОВ -","Б",0,null,{"$f":"ROUND(SUMIF(Определители!I62:I62,\"=4\",'Базовые цены с учетом расхода'!H62:H62),0)","v":0}]
[48,".   НАКЛАДНЫЕ РАСХОДЫ -","Б",0,null,{"$f":"ROUND(SUMIF(Определители!I62:I62,\"=4\",'Базовые цены с учетом расхода'!N62:N62),0)","v":0}]
[49,".   СМЕТНАЯ ПРИБЫЛЬ -","Б",0,null,{"$f":"ROUND(SUMIF(Определители!I62:I62,\"=4\",'Базовые цены с учетом расхода'!O62:O62),0)","v":0}]
[50,". ШЕФМОНТАЖ -","Б",0,null,{"$f":"ROUND(СУММПРОИЗВЕСЛИ(1,Определители!I62:I62,\" \",'Базовые цены с учетом расхода'!M62:M62,Начисления!I62:I62,0),0)","v":0}]
[51,"ВСЕГО, СТОИМОСТЬ САНТЕХНИЧЕСКИХ РАБОТ -","!",0,null,{"$f":"ROUND((F843+F847+F848),0)","v":0}]
[52,"СТОИМОСТЬ БУРО-ВЗРЫВНЫХ РАБОТ -","Б",0,null,{"$f":"ROUND(SUMIF(Определители!I62:I62,\"=5\",'Базовые цены с учетом расхода'!B62:B62),0)","v":0},{"$f":"ROUND(SUMIF(Определители!I62:I62,\"=5\",'Базовые цены с учетом расхода'!C62:C62),0)","v":0},{"$f":"ROUND(SUMIF(Определители!I62:I62,\"=5\",'Базовые цены с учетом расхода'!D62:D62),0)","v":0},{"$f":"ROUND(SUMIF(Определители!I62:I62,\"=5\",'Базовые цены с учетом расхода'!E62:E62),0)","v":0},{"$f":"ROUND(SUMIF(Определители!I62:I62,\"=5\",'Базовые цены с учетом расхода'!I62:I62),8)","v":0},{"$f":"ROUND(SUMIF(Определители!I62:I62,\"=5\",'Базовые цены с учетом расхода'!K62:K62),8)","v":0},{"$f":"ROUND(SUMIF(Определители!I62:I62,\"=5\",'Базовые цены с учетом расхода'!F62:F62),0)","v":0}]
[53,".   СТОИМОСТЬ ВОЗВРАЩАЕМЫХ МАТЕРИАЛОВ -","Б",0,null,{"$f":"ROUND(SUMIF(Определители!I62:I62,\"=5\",'Базовые цены с учетом расхода'!H62:H62),0)","v":0}]
[54,".   НАКЛАДНЫЕ РАСХОДЫ -","Б",0,null,{"$f":"ROUND(SUMIF(Определители!I62:I62,\"=5\",'Базовые цены с учетом расхода'!N62:N62),0)","v":0}]
[55,".   СМЕТНАЯ ПРИБЫЛЬ -","Б",0,null,{"$f":"ROUND(SUMIF(Определители!I62:I62,\"=5\",'Базовые цены с учетом расхода'!O62:O62),0)","v":0}]
[56,"ВСЕГО, СТОИМОСТЬ БУРО-ВЗРЫВНЫХ РАБОТ -","!",0,null,{"$f":"ROUND((F851+F853+F854),0)","v":0}]
[57,"СТОИМОСТЬ ГОРНОПРОХОДЧЕСКИХ РАБОТ -","Б",0,null,{"$f":"ROUND(SUMIF(Определители!I62:I62,\"=6\",'Базовые цены с учетом расхода'!B62:B62),0)","v":0},{"$f":"ROUND(SUMIF(Определители!I62:I62,\"=6\",'Базовые цены с учетом расхода'!C62:C62),0)","v":0},{"$f":"ROUND(SUMIF(Определители!I62:I62,\"=6\",'Базовые цены с учетом расхода'!D62:D62),0)","v":0},{"$f":"ROUND(SUMIF(Определители!I62:I62,\"=6\",'Базовые цены с учетом расхода'!E62:E62),0)","v":0},{"$f":"ROUND(SUMIF(Определители!I62:I62,\"=6\",'Базовые цены с учетом расхода'!I62:I62),8)","v":0},{"$f":"ROUND(SUMIF(Определители!I62:I62,\"=6\",'Базовые цены с учетом расхода'!K62:K62),8)","v":0},{"$f":"ROUND(SUMIF(Определители!I62:I62,\"=6\",'Базовые цены с учетом расхода'!F62:F62),0)","v":0}]
[58,".   СТОИМОСТЬ ВОЗВРАЩАЕМЫХ МАТЕРИАЛОВ -","Б",0,null,{"$f":"ROUND(SUMIF(Определители!I62:I62,\"=6\",'Базовые цены с учетом расхода'!H62:H62),0)","v":0}]
[59,".   НАКЛАДНЫЕ РАСХОДЫ -","Б",0,null,{"$f":"ROUND(SUMIF(Определители!I62:I62,\"=6\",'Базовые цены с учетом расхода'!N62:N62),0)","v":0}]
[60,".   СМЕТНАЯ ПРИБЫЛЬ -","Б",0,null,{"$f":"ROUND(SUMIF(Определители!I62:I62,\"=6\",'Базовые цены с учетом расхода'!O62:O62),0)","v":0}]
[61,"ВСЕГО, СТОИМОСТЬ ГОРНОПРОХОДЧЕСКИХ РАБОТ -","!",0,null,{"$f":"ROUND((F856+F858+F859),0)","v":0}]
[62,"СТОИМОСТЬ РЕСТАВРАЦИОННЫХ РАБОТ -","Б",0,null,{"$f":"ROUND(SUMIF(Определители!I62:I62,\"=7\",'Базовые цены с учетом расхода'!B62:B62),0)","v":0},{"$f":"ROUND(SUMIF(Определители!I62:I62,\"=7\",'Базовые цены с учетом расхода'!C62:C62),0)","v":0},{"$f":"ROUND(SUMIF(Определители!I62:I62,\"=7\",'Базовые цены с учетом расхода'!D62:D62),0)","v":0},{"$f":"ROUND(SUMIF(Определители!I62:I62,\"=7\",'Базовые цены с учетом расхода'!E62:E62),0)","v":0},{"$f":"ROUND(SUMIF(Определители!I62:I62,\"=7\",'Базовые цены с учетом расхода'!I62:I62),8)","v":0},{"$f":"ROUND(SUMIF(Определители!I62:I62,\"=7\",'Базовые цены с учетом расхода'!K62:K62),8)","v":0},{"$f":"ROUND(SUMIF(Определители!I62:I62,\"=7\",'Базовые цены с учетом расхода'!F62:F62),0)","v":0}]
[63,".     В ТОМ ЧИСЛЕ:","Б",0]
[64,". МАТЕРИАЛЫ -","Б",0,null,{"$f":"ROUND(СУММЕСЛИ2(Определители!I62:I62,\"2\",Определители!G62:G62,\"1\",'Базовые цены с учетом расхода'!B62:B62),0)","v":0}]
[65,".   СТОИМОСТЬ ВОЗВРАЩАЕМЫХ МАТЕРИАЛОВ -","Б",0,null,{"$f":"ROUND(SUMIF(Определители!I62:I62,\"=7\",'Базовые цены с учетом расхода'!H62:H62),0)","v":0}]
[66,".   НАКЛАДНЫЕ РАСХОДЫ -","Б",0,null,{"$f":"ROUND(SUMIF(Определители!I62:I62,\"=7\",'Базовые цены с учетом расхода'!N62:N62),0)","v":0}]
[67,".   СМЕТНАЯ ПРИБЫЛЬ -","Б",0,null,{"$f":"ROUND(SUMIF(Определители!I62:I62,\"=7\",'Базовые цены с учетом расхода'!O62:O62),0)","v":0}]
[68,"ВСЕГО, СТОИМОСТЬ РЕСТАВРАЦИОННЫХ РАБОТ -","!",0,null,{"$f":"ROUND((F861+F865+F866),0)","v":0}]
[69,"Строительные работы БЦ ЭМ","s",0,null,{"$f":"ROUND((H831+H838+H843+H851+H856+H861),0)","v":0}]
[70,"Строительные работы БЦ ЗПМ","s",0,null,{"$f":"ROUND((I831+I838+I843+I851+I856+I861),0)","v":0}]
[71,"Строительные работы ТЦ ЗП","k",21.324000000000002,null,{"$f":"ROUND((G831+G838+G843+G851+G856+G861)*D870,0)","v":24437}]
[72,"Строительные работы ТЦ ЗПМ","k",21.324000000000002,null,{"$f":"ROUND((F869)*D871,0)","v":0}]
[73,"Строительные работы ТЦ ЭМ","k",6.1520000000000001,null,{"$f":"ROUND((F868)*D872,0)","v":0}]
[74,"Строительные работы ТЦ материалы","k",6.32,null,{"$f":"ROUND((L831+L838+L843+L851+L856+L861)*D873,0)","v":31846}]
[75,"Строительные работы ТЦ НР","k",21.324000000000002,null,{"$f":"ROUND((F835+F840+F847+F853+F858+F865)*D874,0)","v":28105}]
[76,"Строительные работы ТЦ СП","k",21.324000000000002,null,{"$f":"ROUND((F836+F841+F848+F854+F859+F866)*D875,0)","v":18808}]
[77,"Строительные работы ТЦ всего","s",0,null,{"$f":"ROUND((F870+F872+F873+F874+F875),0)","v":103196}]
[78,"СТОИМОСТЬ ПЕРЕВОЗКИ ГРУЗОВ -","Б",0,null,{"$f":"ROUND(SUMIF(Определители!I62:I62,\"=;\",'Базовые цены с учетом расхода'!B62:B62),0)","v":0},{"$f":"ROUND(SUMIF(Определители!I62:I62,\"=;\",'Базовые цены с учетом расхода'!C62:C62),0)","v":0},{"$f":"ROUND(SUMIF(Определители!I62:I62,\"=;\",'Базовые цены с учетом расхода'!D62:D62),0)","v":0},{"$f":"ROUND(SUMIF(Определители!I62:I62,\"=;\",'Базовые цены с учетом расхода'!E62:E62),0)","v":0},{"$f":"ROUND(SUMIF(Определители!I62:I62,\"=;\",'Базовые цены с учетом расхода'!I62:I62),8)","v":0},{"$f":"ROUND(SUMIF(Определители!I62:I62,\"=;\",'Базовые цены с учетом расхода'!K62:K62),8)","v":0},{"$f":"ROUND(SUMIF(Определители!I62:I62,\"=;\",'Базовые цены с учетом расхода'!F62:F62),0)","v":0}]
[79,"СТОИМОСТЬ ПОГРУЗКИ-РАЗГРУЗКИ","m",0,null,{"$f":"ROUND((F877-F896-F897-F898),0)","v":0},{"$f":"ROUND((G877-G896-G897-G898),0)","v":0},{"$f":"ROUND((H877-H896-H897-H898),0)","v":0},{"$f":"ROUND((I877-I896-I897-I898),0)","v":0},{"$f":"ROUND((J877-J896-J897-J898),8)","v":0},{"$f":"ROUND((K877-K896-K897-K898),8)","v":0},{"$f":"ROUND((L877-L896-L897-L898),0)","v":0}]
[80,".   В Т.Ч. НАКЛАДНЫЕ РАСХОДЫ -","Б",0,null,{"$f":"ROUND(SUMIF(Определители!I62:I62,\"=;\",'Базовые цены с учетом расхода'!AF62:AF62),0)","v":0}]
[81,".   В Т.Ч. СМЕТНАЯ ПРИБЫЛЬ -","Б",0,null,{"$f":"ROUND(SUMIF(Определители!I62:I62,\"=;\",'Базовые цены с учетом расхода'!AG62:AG62),0)","v":0}]
[82,".   НАКЛАДНЫЕ РАСХОДЫ -","Б",0,null,{"$f":"ROUND(SUMIF(Определители!I62:I62,\"=;\",'Базовые цены с учетом расхода'!N62:N62),0)","v":0}]
[83,".   СМЕТНАЯ ПРИБЫЛЬ -","Б",0,null,{"$f":"ROUND(SUMIF(Определители!I62:I62,\"=;\",'Базовые цены с учетом расхода'!O62:O62),0)","v":0}]
[84,"ВСЕГО, СТОИМОСТЬ ПЕРЕВОЗКИ ГРУЗОВ -","!",0,null,{"$f":"ROUND((F877+F881+F882),0)","v":0}]
[85,"ВСЕГО, СТОИМОСТЬ ПОГРУЗКИ-РАЗГРУЗКИ -","s",0,null,{"$f":"ROUND((F878+F881+F882),0)","v":0}]
[86,"Погрузка-разгрузка БЦ ЭМ","s",0,null,{"$f":"ROUND((H878),0)","v":0}]
[87,"Погрузка-разгрузка БЦ ЗПМ","s",0,null,{"$f":"ROUND((I878),0)","v":0}]
[88,"Погрузка-разгрузка ТЦ ЗП","k",21.324000000000002,null,{"$f":"ROUND((G878)*D887,0)","v":0}]
[89,"Погрузка-разгрузка ТЦ ЗПМ","k",21.324000000000002,null,{"$f":"ROUND((I878)*D888,0)","v":0}]
[90,"Погрузка-разгрузка ТЦ ЭМ","k",6.1520000000000001,null,{"$f":"ROUND((F885)*D889,0)","v":0}]
[91,"Погрузка-разгрузка ТЦ материалы","k",6.32,null,{"$f":"ROUND((L877)*D890,0)","v":0}]
[92,"Погрузка-разгрузка ТЦ в т.ч. НР","k",21.324000000000002,null,{"$f":"ROUND((F879)*D891,0)","v":0}]
[93,"Погрузка-разгрузка ТЦ в т.ч. СП","k",21.324000000000002,null,{"$f":"ROUND((F880)*D892,0)","v":0}]
[94,"Погрузка-разгрузка ТЦ НР","k",21.324000000000002,null,{"$f":"ROUND((F881)*D893,0)","v":0}]
[95,"Погрузка-разгрузка ТЦ СП","k",21.324000000000002,null,{"$f":"ROUND((F882)*D894,0)","v":0}]
[96,"Погрузка-разгрузка ТЦ всего","s",0,null,{"$f":"ROUND((F887+F889+F890+F893+F894+F891+F892),0)","v":0}]
[97,"ПЕРЕВОЗКА (таб.6)","f",0]
[98,"ПЕРЕВОЗКА (таб.7)","f",0]
[99,"ПЕРЕВОЗКА (таб.8)","f",0]
[100,"Перевозка (таб.6) ТЦ","k",1,null,{"$f":"ROUND((F896)*D899,0)","v":0}]
[101,"Перевозка (таб.7) ТЦ","k",1,null,{"$f":"ROUND((F897)*D900,0)","v":0}]
[102,"Перевозка (таб.8) ТЦ","k",10.144,null,{"$f":"ROUND((F898)*D901,0)","v":0}]
[103,"Перевозка ТЦ  всего","s",0,null,{"$f":"ROUND((F899+F900+F901),0)","v":0}]
[104,"СТОИМОСТЬ ПУСКОНАЛАДОЧНЫХ РАБОТ -","Б",0,null,{"$f":"ROUND(SUMIF(Определители!I62:I62,\"=9\",'Базовые цены с учетом расхода'!B62:B62),0)","v":0},{"$f":"ROUND(SUMIF(Определители!I62:I62,\"=9\",'Базовые цены с учетом расхода'!C62:C62),0)","v":0},{"$f":"ROUND(SUMIF(Определители!I62:I62,\"=9\",'Базовые цены с учетом расхода'!D62:D62),0)","v":0},{"$f":"ROUND(SUMIF(Определители!I62:I62,\"=9\",'Базовые цены с учетом расхода'!E62:E62),0)","v":0},{"$f":"ROUND(SUMIF(Определители!I62:I62,\"=9\",'Базовые цены с учетом расхода'!I62:I62),8)","v":0},{"$f":"ROUND(SUMIF(Определители!I62:I62,\"=9\",'Базовые цены с учетом расхода'!K62:K62),8)","v":0},{"$f":"ROUND(SUMIF(Определители!I62:I62,\"=9\",'Базовые цены с учетом расхода'!F62:F62),0)","v":0}]
[105,".   НАКЛАДНЫЕ РАСХОДЫ -","Б",0,null,{"$f":"ROUND(SUMIF(Определители!I62:I62,\"=9\",'Базовые цены с учетом расхода'!N62:N62),0)","v":0}]
[106,".   СМЕТНАЯ ПРИБЫЛЬ -","Б",0,null,{"$f":"ROUND(SUMIF(Определители!I62:I62,\"=9\",'Базовые цены с учетом расхода'!O62:O62),0)","v":0}]
[107,"ВСЕГО, СТОИМОСТЬ ПУСКОНАЛАДОЧНЫХ РАБОТ -","!",0,null,{"$f":"ROUND((F903+F904+F905),0)","v":0}]
[108,"Пусконаладочные работы ТЦ ЗП","k",1,null,{"$f":"ROUND((G903)*D907,0)","v":0}]
[109,"Пусконаладочные работы ТЦ НР","k",1,null,{"$f":"ROUND((F904)*D908,0)","v":0}]
[110,"Пусконаладочные работы ТЦ СП","k",1,null,{"$f":"ROUND((F905)*D909,0)","v":0}]
[111,"Пусконаладочные работы ТЦ всего","s",0,null,{"$f":"ROUND((F907+F908+F909),0)","v":0}]
[112,"СТОИМОСТЬ ПРОЧИХ РАБОТ (с НР и СП) -","Б",0,null,{"$f":"ROUND(SUMIF(Определители!I62:I62,\"=:\",'Базовые цены с учетом расхода'!B62:B62),0)","v":0},{"$f":"ROUND(SUMIF(Определители!I62:I62,\"=:\",'Базовые цены с учетом расхода'!C62:C62),0)","v":0},{"$f":"ROUND(SUMIF(Определители!I62:I62,\"=:\",'Базовые цены с учетом расхода'!D62:D62),0)","v":0},{"$f":"ROUND(SUMIF(Определители!I62:I62,\"=:\",'Базовые цены с учетом расхода'!E62:E62),0)","v":0},{"$f":"ROUND(SUMIF(Определители!I62:I62,\"=:\",'Базовые цены с учетом расхода'!I62:I62),8)","v":0},{"$f":"ROUND(SUMIF(Определители!I62:I62,\"=:\",'Базовые цены с учетом расхода'!K62:K62),8)","v":0},{"$f":"ROUND(SUMIF(Определители!I62:I62,\"=:\",'Базовые цены с учетом расхода'!F62:F62),0)","v":0}]
[113,".   СТОИМОСТЬ ВОЗВРАЩАЕМЫХ МАТЕРИАЛОВ -","Б",0,null,{"$f":"ROUND(SUMIF(Определители!I62:I62,\"=:\",'Базовые цены с учетом расхода'!H62:H62),0)","v":0}]
[114,".   НАКЛАДНЫЕ РАСХОДЫ -","Б",0,null,{"$f":"ROUND(SUMIF(Определители!I62:I62,\"=:\",'Базовые цены с учетом расхода'!N62:N62),0)","v":0}]
[115,".   СМЕТНАЯ ПРИБЫЛЬ -","Б",0,null,{"$f":"ROUND(SUMIF(Определители!I62:I62,\"=:\",'Базовые цены с учетом расхода'!O62:O62),0)","v":0}]
[116,"ВСЕГО, СТОИМОСТЬ ПРОЧИХ РАБОТ (с НР и СП) -","!",0,null,{"$f":"ROUND((F911+F913+F914),0)","v":0}]
[117,"ВСЕГО, СТОИМОСТЬ ПРОЧИХ РАБОТ (без НР и СП) -","Б",0,null,{"$f":"ROUND(SUMIF(Определители!I62:I62,\"=8\",'Базовые цены с учетом расхода'!B62:B62),0)","v":0},{"$f":"ROUND(SUMIF(Определители!I62:I62,\"=8\",'Базовые цены с учетом расхода'!C62:C62),0)","v":0},{"$f":"ROUND(SUMIF(Определители!I62:I62,\"=8\",'Базовые цены с учетом расхода'!D62:D62),0)","v":0},{"$f":"ROUND(SUMIF(Определители!I62:I62,\"=8\",'Базовые цены с учетом расхода'!E62:E62),0)","v":0},{"$f":"ROUND(SUMIF(Определители!I62:I62,\"=8\",'Базовые цены с учетом расхода'!I62:I62),8)","v":0},{"$f":"ROUND(SUMIF(Определители!I62:I62,\"=8\",'Базовые цены с учетом расхода'!K62:K62),8)","v":0},{"$f":"ROUND(SUMIF(Определители!I62:I62,\"=8\",'Базовые цены с учетом расхода'!F62:F62),0)","v":0}]
[118,".   СТОИМОСТЬ ВОЗВРАЩАЕМЫХ МАТЕРИАЛОВ -","Б",0,null,{"$f":"ROUND(SUMIF(Определители!I62:I62,\"=8\",'Базовые цены с учетом расхода'!H62:H62),0)","v":0}]
[119,"Прочие работы БЦ ЭМ","s",0,null,{"$f":"ROUND((H911+H916),0)","v":0}]
[120,"Прочие работы БЦ ЗПМ","s",0,null,{"$f":"ROUND((I911+I916),0)","v":0}]
[121,"Прочие работы ТЦ ЗП","k",1,null,{"$f":"ROUND((G911+G916)*D920,0)","v":0}]
[122,"Прочие работы ТЦ ЗПМ","k",1,null,{"$f":"ROUND((F919)*D921,0)","v":0}]
[123,"Прочие работы ТЦ ЭМ","k",1,null,{"$f":"ROUND((F918)*D922,0)","v":0}]
[124,"Прочие работы ТЦ материалы","k",1,null,{"$f":"ROUND((L911+L916)*D923,0)","v":0}]
[125,"Прочие работы ТЦ НР","k",1,null,{"$f":"ROUND((F913)*D924,0)","v":0}]
[126,"Прочие работы ТЦ СП","k",1,null,{"$f":"ROUND((F914)*D925,0)","v":0}]
[127,"Прочие работы ТЦ всего","s",0,null,{"$f":"ROUND((F920+F922+F923+F924+F925),0)","v":0}]
[128,". ВСЕГО  ПО  СМЕТЕ","!",0,null,{"$f":"ROUND((F810+F821+F837+F842+F850+F855+F860+F867+F883+F906+F915+F916),0)","v":8385},{"$f":"ROUND((G810+G821+G837+G842+G850+G855+G860+G867+G883+G906+G915+G916),0)","v":0},{"$f":"ROUND((H810+H821+H837+H842+H850+H855+H860+H867+H883+H906+H915+H916),0)","v":0},{"$f":"ROUND((I810+I821+I837+I842+I850+I855+I860+I867+I883+I906+I915+I916),0)","v":0},{"$f":"ROUND((J810+J821+J837+J842+J850+J855+J860+J867+J883+J906+J915+J916),8)","v":0},{"$f":"ROUND((K810+K821+K837+K842+K850+K855+K860+K867+K883+K906+K915+K916),8)","v":0},{"$f":"ROUND((L810+L821+L837+L842+L850+L855+L860+L867+L883+L906+L915+L916),0)","v":0}]
[129,"ВСЕГО СТОИМОСТЬ ВОЗВРАЩАЕМЫХ МАТЕРИАЛОВ -","!",0,null,{"$f":"ROUND((F817+F834+F839+F846+F852+F857+F864+F912+F917),0)","v":0}]
[130,"ВСЕГО НАКЛАДНЫЕ РАСХОДЫ","!",0,null,{"$f":"ROUND((F818+F835+F840+F847+F853+F858+F865+F881+F904+F913),0)","v":1318}]
[131,"ВСЕГО НАКЛАДНЫЕ РАСХОДЫ","s",0,null,{"$f":"ROUND((F929+F879),0)","v":1318}]
[132,"ВСЕГО СМЕТНАЯ ПРИБЫЛЬ","!",0,null,{"$f":"ROUND((F819+F836+F841+F848+F854+F859+F866+F882+F905+F914),0)","v":882}]
[133,"ВСЕГО СМЕТНАЯ ПРИБЫЛЬ","s",0,null,{"$f":"ROUND((F931+F880),0)","v":882}]
[134,"в т.ч. Вспомогательные материалы на монтаж","h",0,null,{"$f":"ROUND(SUM('Базовые цены с учетом расхода'!X62:X62),0)","v":0},null,null,null,null,null,{"$f":"ROUND(SUM('Базовые цены с учетом расхода'!X62:X62),0)","v":0}]
[135,"в т.ч. Вспомогательные материалы от ОЗП","h",0,null,{"$f":"ROUND(SUM('Базовые цены с учетом расхода'!AE62:AE62),0)","v":0}]
[136,"Оплата основных рабочих","h",0,null,{"$f":"ROUND(SUM('Базовые цены с учетом расхода'!C62:C62),0)","v":1146}]
[137,"Оплата механизаторов","h",0,null,{"$f":"ROUND(SUM('Базовые цены с учетом расхода'!E62:E62),0)","v":0}]
[138,"Стоимость механизмов","h",0,null,{"$f":"ROUND(SUM('Базовые цены с учетом расхода'!D62:D62),0)","v":0}]
[139,"Сметная стоимость материалов","h",0,null,{"$f":"ROUND(SUM('Базовые цены с учетом расхода'!F62:F62),0)","v":5039},null,null,null,null,null,{"$f":"ROUND(SUM('Базовые цены с учетом расхода'!F62:F62),0)","v":5039}]
[140,"Трудозатраты осн. рабочих","h",0,null,null,null,null,null,{"$f":"ROUND(SUM('Базовые цены с учетом расхода'!I62:I62),8)","v":120}]
[141,"Трудозатраты механизаторов","h",0,null,null,null,null,null,{"$f":"ROUND(SUM('Базовые цены с учетом расхода'!K62:K62),8)","v":0}]
[142,"Нормативная трудоемкость","s",0,null,null,null,null,null,{"$f":"ROUND((J939+J940),8)","v":120}]
[143,"Оплата основных рабочих ТЦ","s",0,null,{"$f":"ROUND((F824+F870+F887+F920+F907),0)","v":24437}]
[144,"Оплата механизаторов ТЦ","s",0,null,{"$f":"ROUND((F825+F871+F888+F921),0)","v":0}]
[145,"Стоимость механизмов ТЦ","s",0,null,{"$f":"ROUND((F826+F872+F889+F922),0)","v":0}]
[146,"Стоимость материалов ТЦ","s",0,null,{"$f":"ROUND((F827+F873+F890+F923),0)","v":31846}]
[147,"Оборудование ТЦ","s",0,null,{"$f":"ROUND((F811),0)","v":0}]
[148,"Перевозка ТЦ","s",0,null,{"$f":"ROUND((F902),0)","v":0}]
[149,"ИТОГО ТЦ","s",0,null,{"$f":"ROUND((F942+F944+F945+F946+F947),0)","v":56283}]
[150,"В Т.Ч. НАКЛАДНЫЕ РАСХОДЫ ТЦ","s",0,null,{"$f":"ROUND((F891),0)","v":0}]
[151,"В Т.Ч. СМЕТНАЯ ПРИБЫЛЬ ТЦ","s",0,null,{"$f":"ROUND((F892),0)","v":0}]
[152,"НАКЛАДНЫЕ РАСХОДЫ ТЦ","s",0,null,{"$f":"ROUND((F828+F874+F893+F908+F924+F891),0)","v":28105}]
[153,"СМЕТНАЯ ПРИБЫЛЬ ТЦ","s",0,null,{"$f":"ROUND((F829+F875+F894+F925+F909+F892),0)","v":18808}]
[154,"ВСЕГО ТЦ","s",0,null,{"$f":"ROUND((F948+F951+F952),0)","v":103196}]
[]
[null,"Раздел 7.  Наращивание колодцев"]
[]
[null,"Наименование","Вид","Значение","ЕИ","Z1","Z2","Z3","Z4","Z5","Z6","Z7","Z8"]
[1,".    ИТОГО  ПО  СМЕТЕ","А",0,null,{"$f":"ROUND(SUM('Базовые цены с учетом расхода'!B66:B69),0)","v":9321},{"$f":"ROUND(SUM('Базовые цены с учетом расхода'!C66:C69),0)","v":183},{"$f":"ROUND(SUM('Базовые цены с учетом расхода'!D66:D69),0)","v":157},{"$f":"ROUND(SUM('Базовые цены с учетом расхода'!E66:E69),0)","v":4},{"$f":"ROUND(SUM('Базовые цены с учетом расхода'!I66:I69),8)","v":17.644096000000001},{"$f":"ROUND(SUM('Базовые цены с учетом расхода'!K66:K69),8)","v":0.26841599999999999},{"$f":"ROUND(SUM('Базовые цены с учетом расхода'!F66:F69),0)","v":8981}]
[2,"СТОИМОСТЬ ОБОРУДОВАНИЯ -","Б",0,null,{"$f":"ROUND(SUMIF(Определители!I66:I69,\"= \",'Базовые цены с учетом расхода'!B66:B69),0)","v":0},{"$f":"ROUND(SUMIF(Определители!I66:I69,\"= \",'Базовые цены с учетом расхода'!C66:C69),0)","v":0},{"$f":"ROUND(SUMIF(Определители!I66:I69,\"= \",'Базовые цены с учетом расхода'!D66:D69),0)","v":0},{"$f":"ROUND(SUMIF(Определители!I66:I69,\"= \",'Базовые цены с учетом расхода'!E66:E69),0)","v":0},{"$f":"ROUND(SUMIF(Определители!I66:I69,\"= \",'Базовые цены с учетом расхода'!I66:I69),8)","v":0},{"$f":"ROUND(SUMIF(Определители!I66:I69,\"= \",'Базовые цены с учетом расхода'!K66:K69),8)","v":0},{"$f":"ROUND(SUMIF(Определители!I66:I69,\"= \",'Базовые цены с учетом расхода'!F66:F69),0)","v":0}]
[3,".   ЗАПАСНЫЕ ЧАСТИ -","Б",0,null,{"$f":"ROUND(СУММПРОИЗВЕСЛИ(0.01,Определители!I66:I69,\" \",'Базовые цены с учетом расхода'!B66:B69,Начисления!X66:X69,0),0)","v":0}]
[4,".   ТАРА И УПАКОВКА -","Б",0,null,{"$f":"ROUND(СУММПРОИЗВЕСЛИ(0.01,Определители!I66:I69,\" \",'Базовые цены с учетом расхода'!B66:B69,Начисления!Y66:Y69,0),0)","v":0}]
[5,".   ТРАНСПОРТНЫЕ РАСХОДЫ -","Б",0,null,{"$f":"ROUND(ТРАНСПРАСХОД(Определители!B66:B69,Определители!H66:H69,Определители!I66:I69,'Базовые цены с учетом расхода'!B66:B69,Начисления!Z66:Z69,Начисления!AA66:AA69),0)","v":0}]
[6,".   КОМПЛЕКТАЦИЯ -","Б",0,null,{"$f":"ROUND(СУММПРОИЗВЕСЛИ(0.01,Определители!I66:I69,\" \",'Базовые цены с учетом расхода'!B66:B69,Начисления!AC66:AC69,0),0)","v":0}]
[7,".   НАЦЕНКА СНАБА -","Б",0,null,{"$f":"ROUND(СУММПРОИЗВЕСЛИ(0.01,Определители!I66:I69,\" \",'Базовые цены с учетом расхода'!B66:B69,Начисления!AF66:AF69,0),0)","v":0}]
[8,".   ЗАГОТОВИТЕЛЬНО-СКЛАДСКИЕ РАСХОДЫ -","Б",0,null,{"$f":"ROUND(ЗАГОТСКЛАДРАСХОД(Определители!B66:B69,Определители!H66:H69,Определители!I66:I69,'Базовые цены с учетом расхода'!B66:B69,Начисления!X66:X69,Начисления!Y66:Y69,Начисления!Z66:Z69,Начисления!AA66:AA69,Начисления!AB66:AB69,Начисления!AC66:AC69,Начисления!AF66:AF69),0)","v":0}]
[9,". ШЕФМОНТАЖ ПО ОБОРУДОВАНИЮ -","Б",0,null,{"$f":"ROUND(СУММПРОИЗВЕСЛИ(1,Определители!I66:I69,\" \",'Базовые цены с учетом расхода'!M66:M69,Начисления!I66:I69,0),0)","v":0}]
[10,". ШЕФМОНТАЖ -","!",0,null,{"$f":"ROUND((F966+F978+F1007),0)","v":0}]
[11,"ВСЕГО, СТОИМОСТЬ ОБОРУДОВАНИЯ -","!",0,null,{"$f":"ROUND((F959+F960+F961+F962+F963+F964+F965+F967),0)","v":0}]
[12,"Оборудование ТЦ","k",1,null,{"$f":"ROUND((F968)*D969,0)","v":0}]
[13,"СТОИМОСТЬ МОНТАЖНЫХ РАБОТ -","Б",0,null,{"$f":"ROUND(SUMIF(Определители!I66:I69,\"=1\",'Базовые цены с учетом расхода'!B66:B69),0)","v":0},{"$f":"ROUND(SUMIF(Определители!I66:I69,\"=1\",'Базовые цены с учетом расхода'!C66:C69),0)","v":0},{"$f":"ROUND(SUMIF(Определители!I66:I69,\"=1\",'Базовые цены с учетом расхода'!D66:D69),0)","v":0},{"$f":"ROUND(SUMIF(Определители!I66:I69,\"=1\",'Базовые цены с учетом расхода'!E66:E69),0)","v":0},{"$f":"ROUND(SUMIF(Определители!I66:I69,\"=1\",'Базовые цены с учетом расхода'!I66:I69),8)","v":0},{"$f":"ROUND(SUMIF(Определители!I66:I69,\"=1\",'Базовые цены с учетом расхода'!K66:K69),8)","v":0},{"$f":"ROUND(SUMIF(Определители!I66:I69,\"=1\",'Базовые цены с учетом расхода'!F66:F69),0)","v":0}]
[14,".     В ТОМ ЧИСЛЕ:","Б",0]
[15,". ОТКЛОНЕНИЕ ПО ЗАРАБОТНОЙ ПЛАТЕ -","Б",0,null,null,{"$f":"ROUND(SUMIF(Определители!I66:I69,\"=1\",'Базовые цены с учетом расхода'!T66:T69),0)","v":0}]
[16,". КОСВЕННЫЕ РАСХОДЫ -","Б",0,null,{"$f":"ROUND(SUMIF(Определители!I66:I69,\"=1\",'Базовые цены с учетом расхода'!U66:U69),0)","v":0}]
[17,". МАТЕРИАЛЬНЫЕ РЕСУРСЫ НЕ УЧТЕННЫЕ В РАСЦЕНКАХ -","Б",0,null,{"$f":"ROUND(СУММЕСЛИ2(Определители!I66:I69,\"1\",Определители!G66:G69,\"1\",'Базовые цены с учетом расхода'!B66:B69),0)","v":0}]
[18,".   СТОИМОСТЬ ВОЗВРАЩАЕМЫХ МАТЕРИАЛОВ -","Б",0,null,{"$f":"ROUND(SUMIF(Определители!I66:I69,\"=1\",'Базовые цены с учетом расхода'!H66:H69),0)","v":0}]
[19,".   НАКЛАДНЫЕ РАСХОДЫ -","Б",0,null,{"$f":"ROUND(SUMIF(Определители!I66:I69,\"=1\",'Базовые цены с учетом расхода'!N66:N69),0)","v":0}]
[20,".   СМЕТНАЯ ПРИБЫЛЬ -","Б",0,null,{"$f":"ROUND(SUMIF(Определители!I66:I69,\"=1\",'Базовые цены с учетом расхода'!O66:O69),0)","v":0}]
[21,". ШЕФМОНТАЖ -","Б",0,null,{"$f":"ROUND(СУММПРОИЗВЕСЛИ(1,Определители!I66:I69,\" \",'Базовые цены с учетом расхода'!M66:M69,Начисления!I66:I69,0),0)","v":0}]
[22,"ВСЕГО, СТОИМОСТЬ МОНТАЖНЫХ РАБОТ -","!",0,null,{"$f":"ROUND((F970+F976+F977),0)","v":0}]
[23,"Монтажные работы БЦ ЭМ","s",0,null,{"$f":"ROUND((H970),0)","v":0}]
[24,"Монтажные работы БЦ ЗПМ","s",0,null,{"$f":"ROUND((I970),0)","v":0}]
[25,"Монтажные работы ТЦ ЗП","k",21.324000000000002,null,{"$f":"ROUND((G970)*D982,0)","v":0}]
[26,"Монтажные работы ТЦ ЗПМ","k",21.324000000000002,null,{"$f":"ROUND((F981)*D983,0)","v":0}]
[27,"Монтажные работы ТЦ ЭМ","k",6.1520000000000001,null,{"$f":"ROUND((F980)*D984,0)","v":0}]
[28,"Монтажные работы ТЦ материалы","k",6.32,null,{"$f":"ROUND((L970)*D985,0)","v":0}]
[29,"Монтажные работы ТЦ НР","k",21.324000000000002,null,{"$f":"ROUND((F976)*D986,0)","v":0}]
[30,"Монтажные работы ТЦ СП","k",21.324000000000002,null,{"$f":"ROUND((F977)*D987,0)","v":0}]
[31,"Монтажные работы ТЦ всего","s",0,null,{"$f":"ROUND((F982+F984+F985+F986+F987),0)","v":0}]
[32,"СТОИМОСТЬ ОБЩЕСТРОИТЕЛЬНЫХ РАБОТ -","Б",0,null,{"$f":"ROUND(SUMIF(Определители!I66:I69,\"=2\",'Базовые цены с учетом расхода'!B66:B69),0)","v":9321},{"$f":"ROUND(SUMIF(Определители!I66:I69,\"=2\",'Базовые цены с учетом расхода'!C66:C69),0)","v":183},{"$f":"ROUND(SUMIF(Определители!I66:I69,\"=2\",'Базовые цены с учетом расхода'!D66:D69),0)","v":157},{"$f":"ROUND(SUMIF(Определители!I66:I69,\"=2\",'Базовые цены с учетом расхода'!E66:E69),0)","v":4},{"$f":"ROUND(SUMIF(Определители!I66:I69,\"=2\",'Базовые цены с учетом расхода'!I66:I69),8)","v":17.644096000000001},{"$f":"ROUND(SUMIF(Определители!I66:I69,\"=2\",'Базовые цены с учетом расхода'!K66:K69),8)","v":0.26841599999999999},{"$f":"ROUND(SUMIF(Определители!I66:I69,\"=2\",'Базовые цены с учетом расхода'!F66:F69),0)","v":8981}]
[33,".     В ТОМ ЧИСЛЕ:","Б",0]
[34,".       МАТЕРИАЛОВ -","Б",0,null,{"$f":"ROUND(СУММЕСЛИ2(Определители!I66:I69,\"2\",Определители!G66:G69,\"1\",'Базовые цены с учетом расхода'!B66:B69),0)","v":0}]
[35,".   СТОИМОСТЬ ВОЗВРАЩАЕМЫХ МАТЕРИАЛОВ -","Б",0,null,{"$f":"ROUND(SUMIF(Определители!I66:I69,\"=2\",'Базовые цены с учетом расхода'!H66:H69),0)","v":0}]
[36,".   НАКЛАДНЫЕ РАСХОДЫ -","Б",0,null,{"$f":"ROUND(SUMIF(Определители!I66:I69,\"=2\",'Базовые цены с учетом расхода'!N66:N69),0)","v":244}]
[37,".   СМЕТНАЯ ПРИБЫЛЬ -","Б",0,null,{"$f":"ROUND(SUMIF(Определители!I66:I69,\"=2\",'Базовые цены с учетом расхода'!O66:O69),0)","v":141}]
[38,"ВСЕГО, СТОИМОСТЬ ОБЩЕСТРОИТЕЛЬНЫХ РАБОТ -","!",0,null,{"$f":"ROUND((F989+F993+F994),0)","v":9706}]
[39,"СТОИМОСТЬ МЕТАЛЛОМОНТАЖНЫХ РАБОТ -","Б",0,null,{"$f":"ROUND(SUMIF(Определители!I66:I69,\"=3\",'Базовые цены с учетом расхода'!B66:B69),0)","v":0},{"$f":"ROUND(SUMIF(Определители!I66:I69,\"=3\",'Базовые цены с учетом расхода'!C66:C69),0)","v":0},{"$f":"ROUND(SUMIF(Определители!I66:I69,\"=3\",'Базовые цены с учетом расхода'!D66:D69),0)","v":0},{"$f":"ROUND(SUMIF(Определители!I66:I69,\"=3\",'Базовые цены с учетом расхода'!E66:E69),0)","v":0},{"$f":"ROUND(SUMIF(Определители!I66:I69,\"=3\",'Базовые цены с учетом расхода'!I66:I69),8)","v":0},{"$f":"ROUND(SUMIF(Определители!I66:I69,\"=3\",'Базовые цены с учетом расхода'!K66:K69),8)","v":0},{"$f":"ROUND(SUMIF(Определители!I66:I69,\"=3\",'Базовые цены с учетом расхода'!F66:F69),0)","v":0}]
[40,".   СТОИМОСТЬ ВОЗВРАЩАЕМЫХ МАТЕРИАЛОВ -","Б",0,null,{"$f":"ROUND(SUMIF(Определители!I66:I69,\"=3\",'Базовые цены с учетом расхода'!H66:H69),0)","v":0}]
[41,".   НАКЛАДНЫЕ РАСХОДЫ -","Б",0,null,{"$f":"ROUND(SUMIF(Определители!I66:I69,\"=3\",'Базовые цены с учетом расхода'!N66:N69),0)","v":0}]
[42,".   СМЕТНАЯ ПРИБЫЛЬ -","Б",0,null,{"$f":"ROUND(SUMIF(Определители!I66:I69,\"=3\",'Базовые цены с учетом расхода'!O66:O69),0)","v":0}]
[43,"ВСЕГО, СТОИМОСТЬ МЕТАЛЛОМОНТАЖНЫХ РАБОТ -","!",0,null,{"$f":"ROUND((F996+F998+F999),0)","v":0}]
[44,"СТОИМОСТЬ САНТЕХНИЧЕСКИХ РАБОТ -","Б",0,null,{"$f":"ROUND(SUMIF(Определители!I66:I69,\"=4\",'Базовые цены с учетом расхода'!B66:B69),0)","v":0},{"$f":"ROUND(SUMIF(Определители!I66:I69,\"=4\",'Базовые цены с учетом расхода'!C66:C69),0)","v":0},{"$f":"ROUND(SUMIF(Определители!I66:I69,\"=4\",'Базовые цены с учетом расхода'!D66:D69),0)","v":0},{"$f":"ROUND(SUMIF(Определители!I66:I69,\"=4\",'Базовые цены с учетом расхода'!E66:E69),0)","v":0},{"$f":"ROUND(SUMIF(Определители!I66:I69,\"=4\",'Базовые цены с учетом расхода'!I66:I69),8)","v":0},{"$f":"ROUND(SUMIF(Определители!I66:I69,\"=4\",'Базовые цены с учетом расхода'!K66:K69),8)","v":0},{"$f":"ROUND(SUMIF(Определители!I66:I69,\"=4\",'Базовые цены с учетом расхода'!F66:F69),0)","v":0}]
[45,".     В ТОМ ЧИСЛЕ:","Б",0]
[46,". СДАЧА И ИСПЫТАНИЕ -","Б",0,null,{"$f":"ROUND(SUMIF(Определители!I66:I69,\"=4\",'Базовые цены с учетом расхода'!AJ66:AJ69),0)","v":0},{"$f":"ROUND(SUMIF(Определители!I66:I69,\"=4\",'Базовые цены с учетом расхода'!AI66:AI69),0)","v":0},{"$f":"ROUND(SUMIF(Определители!I66:I69,\"=4\",'Базовые цены с учетом расхода'!AH66:AH69),0)","v":0},{"$f":"ROUND(SUMIF(Определители!I66:I69,\"=4\",'Базовые цены с учетом расхода'!V66:V69),0)","v":0}]
[47,".   СТОИМОСТЬ ВОЗВРАЩАЕМЫХ МАТЕРИАЛОВ -","Б",0,null,{"$f":"ROUND(SUMIF(Определители!I66:I69,\"=4\",'Базовые цены с учетом расхода'!H66:H69),0)","v":0}]
[48,".   НАКЛАДНЫЕ РАСХОДЫ -","Б",0,null,{"$f":"ROUND(SUMIF(Определители!I66:I69,\"=4\",'Базовые цены с учетом расхода'!N66:N69),0)","v":0}]
[49,".   СМЕТНАЯ ПРИБЫЛЬ -","Б",0,null,{"$f":"ROUND(SUMIF(Определители!I66:I69,\"=4\",'Базовые цены с учетом расхода'!O66:O69),0)","v":0}]
[50,". ШЕФМОНТАЖ -","Б",0,null,{"$f":"ROUND(СУММПРОИЗВЕСЛИ(1,Определители!I66:I69,\" \",'Базовые цены с учетом расхода'!M66:M69,Начисления!I66:I69,0),0)","v":0}]
[51,"ВСЕГО, СТОИМОСТЬ САНТЕХНИЧЕСКИХ РАБОТ -","!",0,null,{"$f":"ROUND((F1001+F1005+F1006),0)","v":0}]
[52,"СТОИМОСТЬ БУРО-ВЗРЫВНЫХ РАБОТ -","Б",0,null,{"$f":"ROUND(SUMIF(Определители!I66:I69,\"=5\",'Базовые цены с учетом расхода'!B66:B69),0)","v":0},{"$f":"ROUND(SUMIF(Определители!I66:I69,\"=5\",'Базовые цены с учетом расхода'!C66:C69),0)","v":0},{"$f":"ROUND(SUMIF(Определители!I66:I69,\"=5\",'Базовые цены с учетом расхода'!D66:D69),0)","v":0},{"$f":"ROUND(SUMIF(Определители!I66:I69,\"=5\",'Базовые цены с учетом расхода'!E66:E69),0)","v":0},{"$f":"ROUND(SUMIF(Определители!I66:I69,\"=5\",'Базовые цены с учетом расхода'!I66:I69),8)","v":0},{"$f":"ROUND(SUMIF(Определители!I66:I69,\"=5\",'Базовые цены с учетом расхода'!K66:K69),8)","v":0},{"$f":"ROUND(SUMIF(Определители!I66:I69,\"=5\",'Базовые цены с учетом расхода'!F66:F69),0)","v":0}]
[53,".   СТОИМОСТЬ ВОЗВРАЩАЕМЫХ МАТЕРИАЛОВ -","Б",0,null,{"$f":"ROUND(SUMIF(Определители!I66:I69,\"=5\",'Базовые цены с учетом расхода'!H66:H69),0)","v":0}]
[54,".   НАКЛАДНЫЕ РАСХОДЫ -","Б",0,null,{"$f":"ROUND(SUMIF(Определители!I66:I69,\"=5\",'Базовые цены с учетом расхода'!N66:N69),0)","v":0}]
[55,".   СМЕТНАЯ ПРИБЫЛЬ -","Б",0,null,{"$f":"ROUND(SUMIF(Определители!I66:I69,\"=5\",'Базовые цены с учетом расхода'!O66:O69),0)","v":0}]
[56,"ВСЕГО, СТОИМОСТЬ БУРО-ВЗРЫВНЫХ РАБОТ -","!",0,null,{"$f":"ROUND((F1009+F1011+F1012),0)","v":0}]
[57,"СТОИМОСТЬ ГОРНОПРОХОДЧЕСКИХ РАБОТ -","Б",0,null,{"$f":"ROUND(SUMIF(Определители!I66:I69,\"=6\",'Базовые цены с учетом расхода'!B66:B69),0)","v":0},{"$f":"ROUND(SUMIF(Определители!I66:I69,\"=6\",'Базовые цены с учетом расхода'!C66:C69),0)","v":0},{"$f":"ROUND(SUMIF(Определители!I66:I69,\"=6\",'Базовые цены с учетом расхода'!D66:D69),0)","v":0},{"$f":"ROUND(SUMIF(Определители!I66:I69,\"=6\",'Базовые цены с учетом расхода'!E66:E69),0)","v":0},{"$f":"ROUND(SUMIF(Определители!I66:I69,\"=6\",'Базовые цены с учетом расхода'!I66:I69),8)","v":0},{"$f":"ROUND(SUMIF(Определители!I66:I69,\"=6\",'Базовые цены с учетом расхода'!K66:K69),8)","v":0},{"$f":"ROUND(SUMIF(Определители!I66:I69,\"=6\",'Базовые цены с учетом расхода'!F66:F69),0)","v":0}]
[58,".   СТОИМОСТЬ ВОЗВРАЩАЕМЫХ МАТЕРИАЛОВ -","Б",0,null,{"$f":"ROUND(SUMIF(Определители!I66:I69,\"=6\",'Базовые цены с учетом расхода'!H66:H69),0)","v":0}]
[59,".   НАКЛАДНЫЕ РАСХОДЫ -","Б",0,null,{"$f":"ROUND(SUMIF(Определители!I66:I69,\"=6\",'Базовые цены с учетом расхода'!N66:N69),0)","v":0}]
[60,".   СМЕТНАЯ ПРИБЫЛЬ -","Б",0,null,{"$f":"ROUND(SUMIF(Определители!I66:I69,\"=6\",'Базовые цены с учетом расхода'!O66:O69),0)","v":0}]
[61,"ВСЕГО, СТОИМОСТЬ ГОРНОПРОХОДЧЕСКИХ РАБОТ -","!",0,null,{"$f":"ROUND((F1014+F1016+F1017),0)","v":0}]
[62,"СТОИМОСТЬ РЕСТАВРАЦИОННЫХ РАБОТ -","Б",0,null,{"$f":"ROUND(SUMIF(Определители!I66:I69,\"=7\",'Базовые цены с учетом расхода'!B66:B69),0)","v":0},{"$f":"ROUND(SUMIF(Определители!I66:I69,\"=7\",'Базовые цены с учетом расхода'!C66:C69),0)","v":0},{"$f":"ROUND(SUMIF(Определители!I66:I69,\"=7\",'Базовые цены с учетом расхода'!D66:D69),0)","v":0},{"$f":"ROUND(SUMIF(Определители!I66:I69,\"=7\",'Базовые цены с учетом расхода'!E66:E69),0)","v":0},{"$f":"ROUND(SUMIF(Определители!I66:I69,\"=7\",'Базовые цены с учетом расхода'!I66:I69),8)","v":0},{"$f":"ROUND(SUMIF(Определители!I66:I69,\"=7\",'Базовые цены с учетом расхода'!K66:K69),8)","v":0},{"$f":"ROUND(SUMIF(Определители!I66:I69,\"=7\",'Базовые цены с учетом расхода'!F66:F69),0)","v":0}]
[63,".     В ТОМ ЧИСЛЕ:","Б",0]
[64,". МАТЕРИАЛЫ -","Б",0,null,{"$f":"ROUND(СУММЕСЛИ2(Определители!I66:I69,\"2\",Определители!G66:G69,\"1\",'Базовые цены с учетом расхода'!B66:B69),0)","v":0}]
[65,".   СТОИМОСТЬ ВОЗВРАЩАЕМЫХ МАТЕРИАЛОВ -","Б",0,null,{"$f":"ROUND(SUMIF(Определители!I66:I69,\"=7\",'Базовые цены с учетом расхода'!H66:H69),0)","v":0}]
[66,".   НАКЛАДНЫЕ РАСХОДЫ -","Б",0,null,{"$f":"ROUND(SUMIF(Определители!I66:I69,\"=7\",'Базовые цены с учетом расхода'!N66:N69),0)","v":0}]
[67,".   СМЕТНАЯ ПРИБЫЛЬ -","Б",0,null,{"$f":"ROUND(SUMIF(Определители!I66:I69,\"=7\",'Базовые цены с учетом расхода'!O66:O69),0)","v":0}]
[68,"ВСЕГО, СТОИМОСТЬ РЕСТАВРАЦИОННЫХ РАБОТ -","!",0,null,{"$f":"ROUND((F1019+F1023+F1024),0)","v":0}]
[69,"Строительные работы БЦ ЭМ","s",0,null,{"$f":"ROUND((H989+H996+H1001+H1009+H1014+H1019),0)","v":157}]
[70,"Строительные работы БЦ ЗПМ","s",0,null,{"$f":"ROUND((I989+I996+I1001+I1009+I1014+I1019),0)","v":4}]
[71,"Строительные работы ТЦ ЗП","k",21.324000000000002,null,{"$f":"ROUND((G989+G996+G1001+G1009+G1014+G1019)*D1028,0)","v":3902}]
[72,"Строительные работы ТЦ ЗПМ","k",21.324000000000002,null,{"$f":"ROUND((F1027)*D1029,0)","v":85}]
[73,"Строительные работы ТЦ ЭМ","k",6.1520000000000001,null,{"$f":"ROUND((F1026)*D1030,0)","v":966}]
[74,"Строительные работы ТЦ материалы","k",6.32,null,{"$f":"ROUND((L989+L996+L1001+L1009+L1014+L1019)*D1031,0)","v":56760}]
[75,"Строительные работы ТЦ НР","k",21.324000000000002,null,{"$f":"ROUND((F993+F998+F1005+F1011+F1016+F1023)*D1032,0)","v":5203}]
[76,"Строительные работы ТЦ СП","k",21.324000000000002,null,{"$f":"ROUND((F994+F999+F1006+F1012+F1017+F1024)*D1033,0)","v":3007}]
[77,"Строительные работы ТЦ всего","s",0,null,{"$f":"ROUND((F1028+F1030+F1031+F1032+F1033),0)","v":69838}]
[78,"СТОИМОСТЬ ПЕРЕВОЗКИ ГРУЗОВ -","Б",0,null,{"$f":"ROUND(SUMIF(Определители!I66:I69,\"=;\",'Базовые цены с учетом расхода'!B66:B69),0)","v":0},{"$f":"ROUND(SUMIF(Определители!I66:I69,\"=;\",'Базовые цены с учетом расхода'!C66:C69),0)","v":0},{"$f":"ROUND(SUMIF(Определители!I66:I69,\"=;\",'Базовые цены с учетом расхода'!D66:D69),0)","v":0},{"$f":"ROUND(SUMIF(Определители!I66:I69,\"=;\",'Базовые цены с учетом расхода'!E66:E69),0)","v":0},{"$f":"ROUND(SUMIF(Определители!I66:I69,\"=;\",'Базовые цены с учетом расхода'!I66:I69),8)","v":0},{"$f":"ROUND(SUMIF(Определители!I66:I69,\"=;\",'Базовые цены с учетом расхода'!K66:K69),8)","v":0},{"$f":"ROUND(SUMIF(Определители!I66:I69,\"=;\",'Базовые цены с учетом расхода'!F66:F69),0)","v":0}]
[79,"СТОИМОСТЬ ПОГРУЗКИ-РАЗГРУЗКИ","m",0,null,{"$f":"ROUND((F1035-F1054-F1055-F1056),0)","v":0},{"$f":"ROUND((G1035-G1054-G1055-G1056),0)","v":0},{"$f":"ROUND((H1035-H1054-H1055-H1056),0)","v":0},{"$f":"ROUND((I1035-I1054-I1055-I1056),0)","v":0},{"$f":"ROUND((J1035-J1054-J1055-J1056),8)","v":0},{"$f":"ROUND((K1035-K1054-K1055-K1056),8)","v":0},{"$f":"ROUND((L1035-L1054-L1055-L1056),0)","v":0}]
[80,".   В Т.Ч. НАКЛАДНЫЕ РАСХОДЫ -","Б",0,null,{"$f":"ROUND(SUMIF(Определители!I66:I69,\"=;\",'Базовые цены с учетом расхода'!AF66:AF69),0)","v":0}]
[81,".   В Т.Ч. СМЕТНАЯ ПРИБЫЛЬ -","Б",0,null,{"$f":"ROUND(SUMIF(Определители!I66:I69,\"=;\",'Базовые цены с учетом расхода'!AG66:AG69),0)","v":0}]
[82,".   НАКЛАДНЫЕ РАСХОДЫ -","Б",0,null,{"$f":"ROUND(SUMIF(Определители!I66:I69,\"=;\",'Базовые цены с учетом расхода'!N66:N69),0)","v":0}]
[83,".   СМЕТНАЯ ПРИБЫЛЬ -","Б",0,null,{"$f":"ROUND(SUMIF(Определители!I66:I69,\"=;\",'Базовые цены с учетом расхода'!O66:O69),0)","v":0}]
[84,"ВСЕГО, СТОИМОСТЬ ПЕРЕВОЗКИ ГРУЗОВ -","!",0,null,{"$f":"ROUND((F1035+F1039+F1040),0)","v":0}]
[85,"ВСЕГО, СТОИМОСТЬ ПОГРУЗКИ-РАЗГРУЗКИ -","s",0,null,{"$f":"ROUND((F1036+F1039+F1040),0)","v":0}]
[86,"Погрузка-разгрузка БЦ ЭМ","s",0,null,{"$f":"ROUND((H1036),0)","v":0}]
[87,"Погрузка-разгрузка БЦ ЗПМ","s",0,null,{"$f":"ROUND((I1036),0)","v":0}]
[88,"Погрузка-разгрузка ТЦ ЗП","k",21.324000000000002,null,{"$f":"ROUND((G1036)*D1045,0)","v":0}]
[89,"Погрузка-разгрузка ТЦ ЗПМ","k",21.324000000000002,null,{"$f":"ROUND((I1036)*D1046,0)","v":0}]
[90,"Погрузка-разгрузка ТЦ ЭМ","k",6.1520000000000001,null,{"$f":"ROUND((F1043)*D1047,0)","v":0}]
[91,"Погрузка-разгрузка ТЦ материалы","k",6.32,null,{"$f":"ROUND((L1035)*D1048,0)","v":0}]
[92,"Погрузка-разгрузка ТЦ в т.ч. НР","k",21.324000000000002,null,{"$f":"ROUND((F1037)*D1049,0)","v":0}]
[93,"Погрузка-разгрузка ТЦ в т.ч. СП","k",21.324000000000002,null,{"$f":"ROUND((F1038)*D1050,0)","v":0}]
[94,"Погрузка-разгрузка ТЦ НР","k",21.324000000000002,null,{"$f":"ROUND((F1039)*D1051,0)","v":0}]
[95,"Погрузка-разгрузка ТЦ СП","k",21.324000000000002,null,{"$f":"ROUND((F1040)*D1052,0)","v":0}]
[96,"Погрузка-разгрузка ТЦ всего","s",0,null,{"$f":"ROUND((F1045+F1047+F1048+F1051+F1052+F1049+F1050),0)","v":0}]
[97,"ПЕРЕВОЗКА (таб.6)","f",0]
[98,"ПЕРЕВОЗКА (таб.7)","f",0]
[99,"ПЕРЕВОЗКА (таб.8)","f",0]
[100,"Перевозка (таб.6) ТЦ","k",1,null,{"$f":"ROUND((F1054)*D1057,0)","v":0}]
[101,"Перевозка (таб.7) ТЦ","k",1,null,{"$f":"ROUND((F1055)*D1058,0)","v":0}]
[102,"Перевозка (таб.8) ТЦ","k",10.144,null,{"$f":"ROUND((F1056)*D1059,0)","v":0}]
[103,"Перевозка ТЦ  всего","s",0,null,{"$f":"ROUND((F1057+F1058+F1059),0)","v":0}]
[104,"СТОИМОСТЬ ПУСКОНАЛАДОЧНЫХ РАБОТ -","Б",0,null,{"$f":"ROUND(SUMIF(Определители!I66:I69,\"=9\",'Базовые цены с учетом расхода'!B66:B69),0)","v":0},{"$f":"ROUND(SUMIF(Определители!I66:I69,\"=9\",'Базовые цены с учетом расхода'!C66:C69),0)","v":0},{"$f":"ROUND(SUMIF(Определители!I66:I69,\"=9\",'Базовые цены с учетом расхода'!D66:D69),0)","v":0},{"$f":"ROUND(SUMIF(Определители!I66:I69,\"=9\",'Базовые цены с учетом расхода'!E66:E69),0)","v":0},{"$f":"ROUND(SUMIF(Определители!I66:I69,\"=9\",'Базовые цены с учетом расхода'!I66:I69),8)","v":0},{"$f":"ROUND(SUMIF(Определители!I66:I69,\"=9\",'Базовые цены с учетом расхода'!K66:K69),8)","v":0},{"$f":"ROUND(SUMIF(Определители!I66:I69,\"=9\",'Базовые цены с учетом расхода'!F66:F69),0)","v":0}]
[105,".   НАКЛАДНЫЕ РАСХОДЫ -","Б",0,null,{"$f":"ROUND(SUMIF(Определители!I66:I69,\"=9\",'Базовые цены с учетом расхода'!N66:N69),0)","v":0}]
[106,".   СМЕТНАЯ ПРИБЫЛЬ -","Б",0,null,{"$f":"ROUND(SUMIF(Определители!I66:I69,\"=9\",'Базовые цены с учетом расхода'!O66:O69),0)","v":0}]
[107,"ВСЕГО, СТОИМОСТЬ ПУСКОНАЛАДОЧНЫХ РАБОТ -","!",0,null,{"$f":"ROUND((F1061+F1062+F1063),0)","v":0}]
[108,"Пусконаладочные работы ТЦ ЗП","k",1,null,{"$f":"ROUND((G1061)*D1065,0)","v":0}]
[109,"Пусконаладочные работы ТЦ НР","k",1,null,{"$f":"ROUND((F1062)*D1066,0)","v":0}]
[110,"Пусконаладочные работы ТЦ СП","k",1,null,{"$f":"ROUND((F1063)*D1067,0)","v":0}]
[111,"Пусконаладочные работы ТЦ всего","s",0,null,{"$f":"ROUND((F1065+F1066+F1067),0)","v":0}]
[112,"СТОИМОСТЬ ПРОЧИХ РАБОТ (с НР и СП) -","Б",0,null,{"$f":"ROUND(SUMIF(Определители!I66:I69,\"=:\",'Базовые цены с учетом расхода'!B66:B69),0)","v":0},{"$f":"ROUND(SUMIF(Определители!I66:I69,\"=:\",'Базовые цены с учетом расхода'!C66:C69),0)","v":0},{"$f":"ROUND(SUMIF(Определители!I66:I69,\"=:\",'Базовые цены с учетом расхода'!D66:D69),0)","v":0},{"$f":"ROUND(SUMIF(Определители!I66:I69,\"=:\",'Базовые цены с учетом расхода'!E66:E69),0)","v":0},{"$f":"ROUND(SUMIF(Определители!I66:I69,\"=:\",'Базовые цены с учетом расхода'!I66:I69),8)","v":0},{"$f":"ROUND(SUMIF(Определители!I66:I69,\"=:\",'Базовые цены с учетом расхода'!K66:K69),8)","v":0},{"$f":"ROUND(SUMIF(Определители!I66:I69,\"=:\",'Базовые цены с учетом расхода'!F66:F69),0)","v":0}]
[113,".   СТОИМОСТЬ ВОЗВРАЩАЕМЫХ МАТЕРИАЛОВ -","Б",0,null,{"$f":"ROUND(SUMIF(Определители!I66:I69,\"=:\",'Базовые цены с учетом расхода'!H66:H69),0)","v":0}]
[114,".   НАКЛАДНЫЕ РАСХОДЫ -","Б",0,null,{"$f":"ROUND(SUMIF(Определители!I66:I69,\"=:\",'Базовые цены с учетом расхода'!N66:N69),0)","v":0}]
[115,".   СМЕТНАЯ ПРИБЫЛЬ -","Б",0,null,{"$f":"ROUND(SUMIF(Определители!I66:I69,\"=:\",'Базовые цены с учетом расхода'!O66:O69),0)","v":0}]
[116,"ВСЕГО, СТОИМОСТЬ ПРОЧИХ РАБОТ (с НР и СП) -","!",0,null,{"$f":"ROUND((F1069+F1071+F1072),0)","v":0}]
[117,"ВСЕГО, СТОИМОСТЬ ПРОЧИХ РАБОТ (без НР и СП) -","Б",0,null,{"$f":"ROUND(SUMIF(Определители!I66:I69,\"=8\",'Базовые цены с учетом расхода'!B66:B69),0)","v":0},{"$f":"ROUND(SUMIF(Определители!I66:I69,\"=8\",'Базовые цены с учетом расхода'!C66:C69),0)","v":0},{"$f":"ROUND(SUMIF(Определители!I66:I69,\"=8\",'Базовые цены с учетом расхода'!D66:D69),0)","v":0},{"$f":"ROUND(SUMIF(Определители!I66:I69,\"=8\",'Базовые цены с учетом расхода'!E66:E69),0)","v":0},{"$f":"ROUND(SUMIF(Определители!I66:I69,\"=8\",'Базовые цены с учетом расхода'!I66:I69),8)","v":0},{"$f":"ROUND(SUMIF(Определители!I66:I69,\"=8\",'Базовые цены с учетом расхода'!K66:K69),8)","v":0},{"$f":"ROUND(SUMIF(Определители!I66:I69,\"=8\",'Базовые цены с учетом расхода'!F66:F69),0)","v":0}]
[118,".   СТОИМОСТЬ ВОЗВРАЩАЕМЫХ МАТЕРИАЛОВ -","Б",0,null,{"$f":"ROUND(SUMIF(Определители!I66:I69,\"=8\",'Базовые цены с учетом расхода'!H66:H69),0)","v":0}]
[119,"Прочие работы БЦ ЭМ","s",0,null,{"$f":"ROUND((H1069+H1074),0)","v":0}]
[120,"Прочие работы БЦ ЗПМ","s",0,null,{"$f":"ROUND((I1069+I1074),0)","v":0}]
[121,"Прочие работы ТЦ ЗП","k",1,null,{"$f":"ROUND((G1069+G1074)*D1078,0)","v":0}]
[122,"Прочие работы ТЦ ЗПМ","k",1,null,{"$f":"ROUND((F1077)*D1079,0)","v":0}]
[123,"Прочие работы ТЦ ЭМ","k",1,null,{"$f":"ROUND((F1076)*D1080,0)","v":0}]
[124,"Прочие работы ТЦ материалы","k",1,null,{"$f":"ROUND((L1069+L1074)*D1081,0)","v":0}]
[125,"Прочие работы ТЦ НР","k",1,null,{"$f":"ROUND((F1071)*D1082,0)","v":0}]
[126,"Прочие работы ТЦ СП","k",1,null,{"$f":"ROUND((F1072)*D1083,0)","v":0}]
[127,"Прочие работы ТЦ всего","s",0,null,{"$f":"ROUND((F1078+F1080+F1081+F1082+F1083),0)","v":0}]
[128,". ВСЕГО  ПО  СМЕТЕ","!",0,null,{"$f":"ROUND((F968+F979+F995+F1000+F1008+F1013+F1018+F1025+F1041+F1064+F1073+F1074),0)","v":9706},{"$f":"ROUND((G968+G979+G995+G1000+G1008+G1013+G1018+G1025+G1041+G1064+G1073+G1074),0)","v":0},{"$f":"ROUND((H968+H979+H995+H1000+H1008+H1013+H1018+H1025+H1041+H1064+H1073+H1074),0)","v":0},{"$f":"ROUND((I968+I979+I995+I1000+I1008+I1013+I1018+I1025+I1041+I1064+I1073+I1074),0)","v":0},{"$f":"ROUND((J968+J979+J995+J1000+J1008+J1013+J1018+J1025+J1041+J1064+J1073+J1074),8)","v":0},{"$f":"ROUND((K968+K979+K995+K1000+K1008+K1013+K1018+K1025+K1041+K1064+K1073+K1074),8)","v":0},{"$f":"ROUND((L968+L979+L995+L1000+L1008+L1013+L1018+L1025+L1041+L1064+L1073+L1074),0)","v":0}]
[129,"ВСЕГО СТОИМОСТЬ ВОЗВРАЩАЕМЫХ МАТЕРИАЛОВ -","!",0,null,{"$f":"ROUND((F975+F992+F997+F1004+F1010+F1015+F1022+F1070+F1075),0)","v":0}]
[130,"ВСЕГО НАКЛАДНЫЕ РАСХОДЫ","!",0,null,{"$f":"ROUND((F976+F993+F998+F1005+F1011+F1016+F1023+F1039+F1062+F1071),0)","v":244}]
[131,"ВСЕГО НАКЛАДНЫЕ РАСХОДЫ","s",0,null,{"$f":"ROUND((F1087+F1037),0)","v":244}]
[132,"ВСЕГО СМЕТНАЯ ПРИБЫЛЬ","!",0,null,{"$f":"ROUND((F977+F994+F999+F1006+F1012+F1017+F1024+F1040+F1063+F1072),0)","v":141}]
[133,"ВСЕГО СМЕТНАЯ ПРИБЫЛЬ","s",0,null,{"$f":"ROUND((F1089+F1038),0)","v":141}]
[134,"в т.ч. Вспомогательные материалы на монтаж","h",0,null,{"$f":"ROUND(SUM('Базовые цены с учетом расхода'!X66:X69),0)","v":0},null,null,null,null,null,{"$f":"ROUND(SUM('Базовые цены с учетом расхода'!X66:X69),0)","v":0}]
[135,"в т.ч. Вспомогательные материалы от ОЗП","h",0,null,{"$f":"ROUND(SUM('Базовые цены с учетом расхода'!AE66:AE69),0)","v":0}]
[136,"Оплата основных рабочих","h",0,null,{"$f":"ROUND(SUM('Базовые цены с учетом расхода'!C66:C69),0)","v":183}]
[137,"Оплата механизаторов","h",0,null,{"$f":"ROUND(SUM('Базовые цены с учетом расхода'!E66:E69),0)","v":4}]
[138,"Стоимость механизмов","h",0,null,{"$f":"ROUND(SUM('Базовые цены с учетом расхода'!D66:D69),0)","v":157}]
[139,"Сметная стоимость материалов","h",0,null,{"$f":"ROUND(SUM('Базовые цены с учетом расхода'!F66:F69),0)","v":8981},null,null,null,null,null,{"$f":"ROUND(SUM('Базовые цены с учетом расхода'!F66:F69),0)","v":8981}]
[140,"Трудозатраты осн. рабочих","h",0,null,null,null,null,null,{"$f":"ROUND(SUM('Базовые цены с учетом расхода'!I66:I69),8)","v":17.644096000000001}]
[141,"Трудозатраты механизаторов","h",0,null,null,null,null,null,{"$f":"ROUND(SUM('Базовые цены с учетом расхода'!K66:K69),8)","v":0.26841599999999999}]
[142,"Нормативная трудоемкость","s",0,null,null,null,null,null,{"$f":"ROUND((J1097+J1098),8)","v":17.912512}]
[143,"Оплата основных рабочих ТЦ","s",0,null,{"$f":"ROUND((F982+F1028+F1045+F1078+F1065),0)","v":3902}]
[144,"Оплата механизаторов ТЦ","s",0,null,{"$f":"ROUND((F983+F1029+F1046+F1079),0)","v":85}]
[145,"Стоимость механизмов ТЦ","s",0,null,{"$f":"ROUND((F984+F1030+F1047+F1080),0)","v":966}]
[146,"Стоимость материалов ТЦ","s",0,null,{"$f":"ROUND((F985+F1031+F1048+F1081),0)","v":56760}]
[147,"Оборудование ТЦ","s",0,null,{"$f":"ROUND((F969),0)","v":0}]
[148,"Перевозка ТЦ","s",0,null,{"$f":"ROUND((F1060),0)","v":0}]
[149,"ИТОГО ТЦ","s",0,null,{"$f":"ROUND((F1100+F1102+F1103+F1104+F1105),0)","v":61628}]
[150,"В Т.Ч. НАКЛАДНЫЕ РАСХОДЫ ТЦ","s",0,null,{"$f":"ROUND((F1049),0)","v":0}]
[151,"В Т.Ч. СМЕТНАЯ ПРИБЫЛЬ ТЦ","s",0,null,{"$f":"ROUND((F1050),0)","v":0}]
[152,"НАКЛАДНЫЕ РАСХОДЫ ТЦ","s",0,null,{"$f":"ROUND((F986+F1032+F1051+F1066+F1082+F1049),0)","v":5203}]
[153,"СМЕТНАЯ ПРИБЫЛЬ ТЦ","s",0,null,{"$f":"ROUND((F987+F1033+F1052+F1083+F1067+F1050),0)","v":3007}]
[154,"ВСЕГО ТЦ","s",0,null,{"$f":"ROUND((F1106+F1109+F1110),0)","v":69838}]
[null,"Наименование","Вид","Значение","ЕИ","Z1","Z2","Z3","Z4","Z5","Z6","Z7","Z8"]
[1,".    ИТОГО  ПО  СМЕТЕ","А",0,null,{"$f":"ROUND(SUM('Базовые цены с учетом расхода'!B6:B69),0)","v":201531},{"$f":"ROUND(SUM('Базовые цены с учетом расхода'!C6:C69),0)","v":9345},{"$f":"ROUND(SUM('Базовые цены с учетом расхода'!D6:D69),0)","v":30893},{"$f":"ROUND(SUM('Базовые цены с учетом расхода'!E6:E69),0)","v":2693},{"$f":"ROUND(SUM('Базовые цены с учетом расхода'!I6:I69),8)","v":922.54929000000004},{"$f":"ROUND(SUM('Базовые цены с учетом расхода'!K6:K69),8)","v":186.46529200000001},{"$f":"ROUND(SUM('Базовые цены с учетом расхода'!F6:F69),0)","v":158006},null,"1"]
[2,"СТОИМОСТЬ ОБОРУДОВАНИЯ -","Б",0,null,{"$f":"ROUND(SUMIF(Определители!I6:I69,\"= \",'Базовые цены с учетом расхода'!B6:B69),0)","v":0},{"$f":"ROUND(SUMIF(Определители!I6:I69,\"= \",'Базовые цены с учетом расхода'!C6:C69),0)","v":0},{"$f":"ROUND(SUMIF(Определители!I6:I69,\"= \",'Базовые цены с учетом расхода'!D6:D69),0)","v":0},{"$f":"ROUND(SUMIF(Определители!I6:I69,\"= \",'Базовые цены с учетом расхода'!E6:E69),0)","v":0},{"$f":"ROUND(SUMIF(Определители!I6:I69,\"= \",'Базовые цены с учетом расхода'!I6:I69),8)","v":0},{"$f":"ROUND(SUMIF(Определители!I6:I69,\"= \",'Базовые цены с учетом расхода'!K6:K69),8)","v":0},{"$f":"ROUND(SUMIF(Определители!I6:I69,\"= \",'Базовые цены с учетом расхода'!F6:F69),0)","v":0},null,"2"]
[3,".   ЗАПАСНЫЕ ЧАСТИ -","Б",0,null,{"$f":"ROUND(СУММПРОИЗВЕСЛИ(0.01,Определители!I6:I69,\" \",'Базовые цены с учетом расхода'!B6:B69,Начисления!X6:X69,0),0)","v":0},null,null,null,null,null,null,null,"3"]
[4,".   ТАРА И УПАКОВКА -","Б",0,null,{"$f":"ROUND(СУММПРОИЗВЕСЛИ(0.01,Определители!I6:I69,\" \",'Базовые цены с учетом расхода'!B6:B69,Начисления!Y6:Y69,0),0)","v":0},null,null,null,null,null,null,null,"4"]
[5,".   ТРАНСПОРТНЫЕ РАСХОДЫ -","Б",0,null,{"$f":"ROUND(ТРАНСПРАСХОД(Определители!B6:B69,Определители!H6:H69,Определители!I6:I69,'Базовые цены с учетом расхода'!B6:B69,Начисления!Z6:Z69,Начисления!AA6:AA69),0)","v":0},null,null,null,null,null,null,null,"5"]
[6,".   КОМПЛЕКТАЦИЯ -","Б",0,null,{"$f":"ROUND(СУММПРОИЗВЕСЛИ(0.01,Определители!I6:I69,\" \",'Базовые цены с учетом расхода'!B6:B69,Начисления!AC6:AC69,0),0)","v":0},null,null,null,null,null,null,null,"6"]
[7,".   НАЦЕНКА СНАБА -","Б",0,null,{"$f":"ROUND(СУММПРОИЗВЕСЛИ(0.01,Определители!I6:I69,\" \",'Базовые цены с учетом расхода'!B6:B69,Начисления!AF6:AF69,0),0)","v":0},null,null,null,null,null,null,null,"7"]
[8,".   ЗАГОТОВИТЕЛЬНО-СКЛАДСКИЕ РАСХОДЫ -","Б",0,null,{"$f":"ROUND(ЗАГОТСКЛАДРАСХОД(Определители!B6:B69,Определители!H6:H69,Определители!I6:I69,'Базовые цены с учетом расхода'!B6:B69,Начисления!X6:X69,Начисления!Y6:Y69,Начисления!Z6:Z69,Начисления!AA6:AA69,Начисления!AB6:AB69,Начисления!AC6:AC69,Начисления!AF6:AF69),0)","v":0},null,null,null,null,null,null,null,"8"]
[9,". ШЕФМОНТАЖ ПО ОБОРУДОВАНИЮ -","Б",0,null,{"$f":"ROUND(СУММПРОИЗВЕСЛИ(1,Определители!I6:I69,\" \",'Базовые цены с учетом расхода'!M6:M69,Начисления!I6:I69,0),0)","v":0},null,null,null,null,null,null,null,"9"]
[10,". ШЕФМОНТАЖ -","!",0,null,{"$f":"ROUND((F1121+F1133+F1162),0)","v":0},null,null,null,null,null,null,null,"10"]
[11,"ВСЕГО, СТОИМОСТЬ ОБОРУДОВАНИЯ -","!",0,null,{"$f":"ROUND((F1114+F1115+F1116+F1117+F1118+F1119+F1120+F1122),0)","v":0},null,null,null,null,null,null,null,"11"]
[12,"Оборудование ТЦ","k",1,null,{"$f":"ROUND((F1123)*D1124,0)","v":0},null,null,null,null,null,null,null,"12"]
[13,"СТОИМОСТЬ МОНТАЖНЫХ РАБОТ -","Б",0,null,{"$f":"ROUND(SUMIF(Определители!I6:I69,\"=1\",'Базовые цены с учетом расхода'!B6:B69),0)","v":0},{"$f":"ROUND(SUMIF(Определители!I6:I69,\"=1\",'Базовые цены с учетом расхода'!C6:C69),0)","v":0},{"$f":"ROUND(SUMIF(Определители!I6:I69,\"=1\",'Базовые цены с учетом расхода'!D6:D69),0)","v":0},{"$f":"ROUND(SUMIF(Определители!I6:I69,\"=1\",'Базовые цены с учетом расхода'!E6:E69),0)","v":0},{"$f":"ROUND(SUMIF(Определители!I6:I69,\"=1\",'Базовые цены с учетом расхода'!I6:I69),8)","v":0},{"$f":"ROUND(SUMIF(Определители!I6:I69,\"=1\",'Базовые цены с учетом расхода'!K6:K69),8)","v":0},{"$f":"ROUND(SUMIF(Определители!I6:I69,\"=1\",'Базовые цены с учетом расхода'!F6:F69),0)","v":0},null,"13"]
[14,".     В ТОМ ЧИСЛЕ:","Б",0,null,null,null,null,null,null,null,null,null,"14"]
[15,". ОТКЛОНЕНИЕ ПО ЗАРАБОТНОЙ ПЛАТЕ -","Б",0,null,null,{"$f":"ROUND(SUMIF(Определители!I6:I69,\"=1\",'Базовые цены с учетом расхода'!T6:T69),0)","v":0},null,null,null,null,null,null,"15"]
[16,". КОСВЕННЫЕ РАСХОДЫ -","Б",0,null,{"$f":"ROUND(SUMIF(Определители!I6:I69,\"=1\",'Базовые цены с учетом расхода'!U6:U69),0)","v":0},null,null,null,null,null,null,null,"16"]
[17,". МАТЕРИАЛЬНЫЕ РЕСУРСЫ НЕ УЧТЕННЫЕ В РАСЦЕНКАХ -","Б",0,null,{"$f":"ROUND(СУММЕСЛИ2(Определители!I6:I69,\"1\",Определители!G6:G69,\"1\",'Базовые цены с учетом расхода'!B6:B69),0)","v":0},null,null,null,null,null,null,null,"17"]
[18,".   СТОИМОСТЬ ВОЗВРАЩАЕМЫХ МАТЕРИАЛОВ -","Б",0,null,{"$f":"ROUND(SUMIF(Определители!I6:I69,\"=1\",'Базовые цены с учетом расхода'!H6:H69),0)","v":0},null,null,null,null,null,null,null,"18"]
[19,".   НАКЛАДНЫЕ РАСХОДЫ -","Б",0,null,{"$f":"ROUND(SUMIF(Определители!I6:I69,\"=1\",'Базовые цены с учетом расхода'!N6:N69),0)","v":0},null,null,null,null,null,null,null,"19"]
[20,".   СМЕТНАЯ ПРИБЫЛЬ -","Б",0,null,{"$f":"ROUND(SUMIF(Определители!I6:I69,\"=1\",'Базовые цены с учетом расхода'!O6:O69),0)","v":0},null,null,null,null,null,null,null,"20"]
[21,". ШЕФМОНТАЖ -","Б",0,null,{"$f":"ROUND(СУММПРОИЗВЕСЛИ(1,Определители!I6:I69,\" \",'Базовые цены с учетом расхода'!M6:M69,Начисления!I6:I69,0),0)","v":0},null,null,null,null,null,null,null,"21"]
[22,"ВСЕГО, СТОИМОСТЬ МОНТАЖНЫХ РАБОТ -","!",0,null,{"$f":"ROUND((F1125+F1131+F1132),0)","v":0},null,null,null,null,null,null,null,"22"]
[23,"Монтажные работы БЦ ЭМ","s",0,null,{"$f":"ROUND((H1125),0)","v":0},null,null,null,null,null,null,null,"23"]
[24,"Монтажные работы БЦ ЗПМ","s",0,null,{"$f":"ROUND((I1125),0)","v":0},null,null,null,null,null,null,null,"24"]
[25,"Монтажные работы ТЦ ЗП","k",21.324000000000002,null,{"$f":"ROUND((G1125)*D1137,0)","v":0},null,null,null,null,null,null,null,"25"]
[26,"Монтажные работы ТЦ ЗПМ","k",21.324000000000002,null,{"$f":"ROUND((F1136)*D1138,0)","v":0},null,null,null,null,null,null,null,"26"]
[27,"Монтажные работы ТЦ ЭМ","k",6.1520000000000001,null,{"$f":"ROUND((F1135)*D1139,0)","v":0},null,null,null,null,null,null,null,"27"]
[28,"Монтажные работы ТЦ материалы","k",6.32,null,{"$f":"ROUND((L1125)*D1140,0)","v":0},null,null,null,null,null,null,null,"28"]
[29,"Монтажные работы ТЦ НР","k",21.324000000000002,null,{"$f":"ROUND((F1131)*D1141,0)","v":0},null,null,null,null,null,null,null,"29"]
[30,"Монтажные работы ТЦ СП","k",21.324000000000002,null,{"$f":"ROUND((F1132)*D1142,0)","v":0},null,null,null,null,null,null,null,"30"]
[31,"Монтажные работы ТЦ всего","s",0,null,{"$f":"ROUND((F1137+F1139+F1140+F1141+F1142),0)","v":0},null,null,null,null,null,null,null,"31"]
[32,"СТОИМОСТЬ ОБЩЕСТРОИТЕЛЬНЫХ РАБОТ -","Б",0,null,{"$f":"ROUND(SUMIF(Определители!I6:I69,\"=2\",'Базовые цены с учетом расхода'!B6:B69),0)","v":184272},{"$f":"ROUND(SUMIF(Определители!I6:I69,\"=2\",'Базовые цены с учетом расхода'!C6:C69),0)","v":7983},{"$f":"ROUND(SUMIF(Определители!I6:I69,\"=2\",'Базовые цены с учетом расхода'!D6:D69),0)","v":18283},{"$f":"ROUND(SUMIF(Определители!I6:I69,\"=2\",'Базовые цены с учетом расхода'!E6:E69),0)","v":2000},{"$f":"ROUND(SUMIF(Определители!I6:I69,\"=2\",'Базовые цены с учетом расхода'!I6:I69),8)","v":777.29499999999996},{"$f":"ROUND(SUMIF(Определители!I6:I69,\"=2\",'Базовые цены с учетом расхода'!K6:K69),8)","v":129.16775200000001},{"$f":"ROUND(SUMIF(Определители!I6:I69,\"=2\",'Базовые цены с учетом расхода'!F6:F69),0)","v":158006},null,"32"]
[33,".     В ТОМ ЧИСЛЕ:","Б",0,null,null,null,null,null,null,null,null,null,"33"]
[34,".       МАТЕРИАЛОВ -","Б",0,null,{"$f":"ROUND(СУММЕСЛИ2(Определители!I6:I69,\"2\",Определители!G6:G69,\"1\",'Базовые цены с учетом расхода'!B6:B69),0)","v":104985},null,null,null,null,null,null,null,"34"]
[35,".   СТОИМОСТЬ ВОЗВРАЩАЕМЫХ МАТЕРИАЛОВ -","Б",0,null,{"$f":"ROUND(SUMIF(Определители!I6:I69,\"=2\",'Базовые цены с учетом расхода'!H6:H69),0)","v":0},null,null,null,null,null,null,null,"35"]
[36,".   НАКЛАДНЫЕ РАСХОДЫ -","Б",0,null,{"$f":"ROUND(SUMIF(Определители!I6:I69,\"=2\",'Базовые цены с учетом расхода'!N6:N69),0)","v":13224},null,null,null,null,null,null,null,"36"]
[37,".   СМЕТНАЯ ПРИБЫЛЬ -","Б",0,null,{"$f":"ROUND(SUMIF(Определители!I6:I69,\"=2\",'Базовые цены с учетом расхода'!O6:O69),0)","v":7699},null,null,null,null,null,null,null,"37"]
[38,"ВСЕГО, СТОИМОСТЬ ОБЩЕСТРОИТЕЛЬНЫХ РАБОТ -","!",0,null,{"$f":"ROUND((F1144+F1148+F1149),0)","v":205195},null,null,null,null,null,null,null,"38"]
[39,"СТОИМОСТЬ МЕТАЛЛОМОНТАЖНЫХ РАБОТ -","Б",0,null,{"$f":"ROUND(SUMIF(Определители!I6:I69,\"=3\",'Базовые цены с учетом расхода'!B6:B69),0)","v":0},{"$f":"ROUND(SUMIF(Определители!I6:I69,\"=3\",'Базовые цены с учетом расхода'!C6:C69),0)","v":0},{"$f":"ROUND(SUMIF(Определители!I6:I69,\"=3\",'Базовые цены с учетом расхода'!D6:D69),0)","v":0},{"$f":"ROUND(SUMIF(Определители!I6:I69,\"=3\",'Базовые цены с учетом расхода'!E6:E69),0)","v":0},{"$f":"ROUND(SUMIF(Определители!I6:I69,\"=3\",'Базовые цены с учетом расхода'!I6:I69),8)","v":0},{"$f":"ROUND(SUMIF(Определители!I6:I69,\"=3\",'Базовые цены с учетом расхода'!K6:K69),8)","v":0},{"$f":"ROUND(SUMIF(Определители!I6:I69,\"=3\",'Базовые цены с учетом расхода'!F6:F69),0)","v":0},null,"39"]
[40,".   СТОИМОСТЬ ВОЗВРАЩАЕМЫХ МАТЕРИАЛОВ -","Б",0,null,{"$f":"ROUND(SUMIF(Определители!I6:I69,\"=3\",'Базовые цены с учетом расхода'!H6:H69),0)","v":0},null,null,null,null,null,null,null,"40"]
[41,".   НАКЛАДНЫЕ РАСХОДЫ -","Б",0,null,{"$f":"ROUND(SUMIF(Определители!I6:I69,\"=3\",'Базовые цены с учетом расхода'!N6:N69),0)","v":0},null,null,null,null,null,null,null,"41"]
[42,".   СМЕТНАЯ ПРИБЫЛЬ -","Б",0,null,{"$f":"ROUND(SUMIF(Определители!I6:I69,\"=3\",'Базовые цены с учетом расхода'!O6:O69),0)","v":0},null,null,null,null,null,null,null,"42"]
[43,"ВСЕГО, СТОИМОСТЬ МЕТАЛЛОМОНТАЖНЫХ РАБОТ -","!",0,null,{"$f":"ROUND((F1151+F1153+F1154),0)","v":0},null,null,null,null,null,null,null,"43"]
[44,"СТОИМОСТЬ САНТЕХНИЧЕСКИХ РАБОТ -","Б",0,null,{"$f":"ROUND(SUMIF(Определители!I6:I69,\"=4\",'Базовые цены с учетом расхода'!B6:B69),0)","v":0},{"$f":"ROUND(SUMIF(Определители!I6:I69,\"=4\",'Базовые цены с учетом расхода'!C6:C69),0)","v":0},{"$f":"ROUND(SUMIF(Определители!I6:I69,\"=4\",'Базовые цены с учетом расхода'!D6:D69),0)","v":0},{"$f":"ROUND(SUMIF(Определители!I6:I69,\"=4\",'Базовые цены с учетом расхода'!E6:E69),0)","v":0},{"$f":"ROUND(SUMIF(Определители!I6:I69,\"=4\",'Базовые цены с учетом расхода'!I6:I69),8)","v":0},{"$f":"ROUND(SUMIF(Определители!I6:I69,\"=4\",'Базовые цены с учетом расхода'!K6:K69),8)","v":0},{"$f":"ROUND(SUMIF(Определители!I6:I69,\"=4\",'Базовые цены с учетом расхода'!F6:F69),0)","v":0},null,"44"]
[45,".     В ТОМ ЧИСЛЕ:","Б",0,null,null,null,null,null,null,null,null,null,"45"]
[46,". СДАЧА И ИСПЫТАНИЕ -","Б",0,null,{"$f":"ROUND(SUMIF(Определители!I6:I69,\"=4\",'Базовые цены с учетом расхода'!AJ6:AJ69),0)","v":0},{"$f":"ROUND(SUMIF(Определители!I6:I69,\"=4\",'Базовые цены с учетом расхода'!AI6:AI69),0)","v":0},{"$f":"ROUND(SUMIF(Определители!I6:I69,\"=4\",'Базовые цены с учетом расхода'!AH6:AH69),0)","v":0},{"$f":"ROUND(SUMIF(Определители!I6:I69,\"=4\",'Базовые цены с учетом расхода'!V6:V69),0)","v":0},null,null,null,null,"46"]
[47,".   СТОИМОСТЬ ВОЗВРАЩАЕМЫХ МАТЕРИАЛОВ -","Б",0,null,{"$f":"ROUND(SUMIF(Определители!I6:I69,\"=4\",'Базовые цены с учетом расхода'!H6:H69),0)","v":0},null,null,null,null,null,null,null,"47"]
[48,".   НАКЛАДНЫЕ РАСХОДЫ -","Б",0,null,{"$f":"ROUND(SUMIF(Определители!I6:I69,\"=4\",'Базовые цены с учетом расхода'!N6:N69),0)","v":0},null,null,null,null,null,null,null,"48"]
[49,".   СМЕТНАЯ ПРИБЫЛЬ -","Б",0,null,{"$f":"ROUND(SUMIF(Определители!I6:I69,\"=4\",'Базовые цены с учетом расхода'!O6:O69),0)","v":0},null,null,null,null,null,null,null,"49"]
[50,". ШЕФМОНТАЖ -","Б",0,null,{"$f":"ROUND(СУММПРОИЗВЕСЛИ(1,Определители!I6:I69,\" \",'Базовые цены с учетом расхода'!M6:M69,Начисления!I6:I69,0),0)","v":0},null,null,null,null,null,null,null,"50"]
[51,"ВСЕГО, СТОИМОСТЬ САНТЕХНИЧЕСКИХ РАБОТ -","!",0,null,{"$f":"ROUND((F1156+F1160+F1161),0)","v":0},null,null,null,null,null,null,null,"51"]
[52,"СТОИМОСТЬ БУРО-ВЗРЫВНЫХ РАБОТ -","Б",0,null,{"$f":"ROUND(SUMIF(Определители!I6:I69,\"=5\",'Базовые цены с учетом расхода'!B6:B69),0)","v":0},{"$f":"ROUND(SUMIF(Определители!I6:I69,\"=5\",'Базовые цены с учетом расхода'!C6:C69),0)","v":0},{"$f":"ROUND(SUMIF(Определители!I6:I69,\"=5\",'Базовые цены с учетом расхода'!D6:D69),0)","v":0},{"$f":"ROUND(SUMIF(Определители!I6:I69,\"=5\",'Базовые цены с учетом расхода'!E6:E69),0)","v":0},{"$f":"ROUND(SUMIF(Определители!I6:I69,\"=5\",'Базовые цены с учетом расхода'!I6:I69),8)","v":0},{"$f":"ROUND(SUMIF(Определители!I6:I69,\"=5\",'Базовые цены с учетом расхода'!K6:K69),8)","v":0},{"$f":"ROUND(SUMIF(Определители!I6:I69,\"=5\",'Базовые цены с учетом расхода'!F6:F69),0)","v":0},null,"52"]
[53,".   СТОИМОСТЬ ВОЗВРАЩАЕМЫХ МАТЕРИАЛОВ -","Б",0,null,{"$f":"ROUND(SUMIF(Определители!I6:I69,\"=5\",'Базовые цены с учетом расхода'!H6:H69),0)","v":0},null,null,null,null,null,null,null,"53"]
[54,".   НАКЛАДНЫЕ РАСХОДЫ -","Б",0,null,{"$f":"ROUND(SUMIF(Определители!I6:I69,\"=5\",'Базовые цены с учетом расхода'!N6:N69),0)","v":0},null,null,null,null,null,null,null,"54"]
[55,".   СМЕТНАЯ ПРИБЫЛЬ -","Б",0,null,{"$f":"ROUND(SUMIF(Определители!I6:I69,\"=5\",'Базовые цены с учетом расхода'!O6:O69),0)","v":0},null,null,null,null,null,null,null,"55"]
[56,"ВСЕГО, СТОИМОСТЬ БУРО-ВЗРЫВНЫХ РАБОТ -","!",0,null,{"$f":"ROUND((F1164+F1166+F1167),0)","v":0},null,null,null,null,null,null,null,"56"]
[57,"СТОИМОСТЬ ГОРНОПРОХОДЧЕСКИХ РАБОТ -","Б",0,null,{"$f":"ROUND(SUMIF(Определители!I6:I69,\"=6\",'Базовые цены с учетом расхода'!B6:B69),0)","v":0},{"$f":"ROUND(SUMIF(Определители!I6:I69,\"=6\",'Базовые цены с учетом расхода'!C6:C69),0)","v":0},{"$f":"ROUND(SUMIF(Определители!I6:I69,\"=6\",'Базовые цены с учетом расхода'!D6:D69),0)","v":0},{"$f":"ROUND(SUMIF(Определители!I6:I69,\"=6\",'Базовые цены с учетом расхода'!E6:E69),0)","v":0},{"$f":"ROUND(SUMIF(Определители!I6:I69,\"=6\",'Базовые цены с учетом расхода'!I6:I69),8)","v":0},{"$f":"ROUND(SUMIF(Определители!I6:I69,\"=6\",'Базовые цены с учетом расхода'!K6:K69),8)","v":0},{"$f":"ROUND(SUMIF(Определители!I6:I69,\"=6\",'Базовые цены с учетом расхода'!F6:F69),0)","v":0},null,"57"]
[58,".   СТОИМОСТЬ ВОЗВРАЩАЕМЫХ МАТЕРИАЛОВ -","Б",0,null,{"$f":"ROUND(SUMIF(Определители!I6:I69,\"=6\",'Базовые цены с учетом расхода'!H6:H69),0)","v":0},null,null,null,null,null,null,null,"58"]
[59,".   НАКЛАДНЫЕ РАСХОДЫ -","Б",0,null,{"$f":"ROUND(SUMIF(Определители!I6:I69,\"=6\",'Базовые цены с учетом расхода'!N6:N69),0)","v":0},null,null,null,null,null,null,null,"59"]
[60,".   СМЕТНАЯ ПРИБЫЛЬ -","Б",0,null,{"$f":"ROUND(SUMIF(Определители!I6:I69,\"=6\",'Базовые цены с учетом расхода'!O6:O69),0)","v":0},null,null,null,null,null,null,null,"60"]
[61,"ВСЕГО, СТОИМОСТЬ ГОРНОПРОХОДЧЕСКИХ РАБОТ -","!",0,null,{"$f":"ROUND((F1169+F1171+F1172),0)","v":0},null,null,null,null,null,null,null,"61"]
[62,"СТОИМОСТЬ РЕСТАВРАЦИОННЫХ РАБОТ -","Б",0,null,{"$f":"ROUND(SUMIF(Определители!I6:I69,\"=7\",'Базовые цены с учетом расхода'!B6:B69),0)","v":0},{"$f":"ROUND(SUMIF(Определители!I6:I69,\"=7\",'Базовые цены с учетом расхода'!C6:C69),0)","v":0},{"$f":"ROUND(SUMIF(Определители!I6:I69,\"=7\",'Базовые цены с учетом расхода'!D6:D69),0)","v":0},{"$f":"ROUND(SUMIF(Определители!I6:I69,\"=7\",'Базовые цены с учетом расхода'!E6:E69),0)","v":0},{"$f":"ROUND(SUMIF(Определители!I6:I69,\"=7\",'Базовые цены с учетом расхода'!I6:I69),8)","v":0},{"$f":"ROUND(SUMIF(Определители!I6:I69,\"=7\",'Базовые цены с учетом расхода'!K6:K69),8)","v":0},{"$f":"ROUND(SUMIF(Определители!I6:I69,\"=7\",'Базовые цены с учетом расхода'!F6:F69),0)","v":0},null,"62"]
[63,".     В ТОМ ЧИСЛЕ:","Б",0,null,null,null,null,null,null,null,null,null,"63"]
[64,". МАТЕРИАЛЫ -","Б",0,null,{"$f":"ROUND(СУММЕСЛИ2(Определители!I6:I69,\"2\",Определители!G6:G69,\"1\",'Базовые цены с учетом расхода'!B6:B69),0)","v":104985},null,null,null,null,null,null,null,"64"]
[65,".   СТОИМОСТЬ ВОЗВРАЩАЕМЫХ МАТЕРИАЛОВ -","Б",0,null,{"$f":"ROUND(SUMIF(Определители!I6:I69,\"=7\",'Базовые цены с учетом расхода'!H6:H69),0)","v":0},null,null,null,null,null,null,null,"65"]
[66,".   НАКЛАДНЫЕ РАСХОДЫ -","Б",0,null,{"$f":"ROUND(SUMIF(Определители!I6:I69,\"=7\",'Базовые цены с учетом расхода'!N6:N69),0)","v":0},null,null,null,null,null,null,null,"66"]
[67,".   СМЕТНАЯ ПРИБЫЛЬ -","Б",0,null,{"$f":"ROUND(SUMIF(Определители!I6:I69,\"=7\",'Базовые цены с учетом расхода'!O6:O69),0)","v":0},null,null,null,null,null,null,null,"67"]
[68,"ВСЕГО, СТОИМОСТЬ РЕСТАВРАЦИОННЫХ РАБОТ -","!",0,null,{"$f":"ROUND((F1174+F1178+F1179),0)","v":0},null,null,null,null,null,null,null,"68"]
[69,"Строительные работы БЦ ЭМ","s",0,null,{"$f":"ROUND((H1144+H1151+H1156+H1164+H1169+H1174),0)","v":18283},null,null,null,null,null,null,null,"69"]
[70,"Строительные работы БЦ ЗПМ","s",0,null,{"$f":"ROUND((I1144+I1151+I1156+I1164+I1169+I1174),0)","v":2000},null,null,null,null,null,null,null,"70"]
[71,"Строительные работы ТЦ ЗП","k",21.324000000000002,null,{"$f":"ROUND((G1144+G1151+G1156+G1164+G1169+G1174)*D1183,0)","v":170229},null,null,null,null,null,null,null,"71"]
[72,"Строительные работы ТЦ ЗПМ","k",21.324000000000002,null,{"$f":"ROUND((F1182)*D1184,0)","v":42648},null,null,null,null,null,null,null,"72"]
[73,"Строительные работы ТЦ ЭМ","k",6.1520000000000001,null,{"$f":"ROUND((F1181)*D1185,0)","v":112477},null,null,null,null,null,null,null,"73"]
[74,"Строительные работы ТЦ материалы","k",6.32,null,1139631,null,null,null,null,null,null,null,"74"]
[75,"Строительные работы ТЦ НР","k",21.324000000000002,null,204358,null,null,null,null,null,null,null,"75"]
[76,"Строительные работы ТЦ СП","k",21.324000000000002,null,112325,null,null,null,null,null,null,null,"76"]
[77,"Строительные работы ТЦ всего","s",0,null,{"$f":"ROUND((F1183+F1185+F1186+F1187+F1188),0)","v":1739020},null,null,null,null,null,null,null,"77"]
[78,"СТОИМОСТЬ ПЕРЕВОЗКИ ГРУЗОВ -","Б",0,null,{"$f":"ROUND(SUMIF(Определители!I6:I69,\"=;\",'Базовые цены с учетом расхода'!B6:B69),0)","v":17259},{"$f":"ROUND(SUMIF(Определители!I6:I69,\"=;\",'Базовые цены с учетом расхода'!C6:C69),0)","v":1362},{"$f":"ROUND(SUMIF(Определители!I6:I69,\"=;\",'Базовые цены с учетом расхода'!D6:D69),0)","v":12610},{"$f":"ROUND(SUMIF(Определители!I6:I69,\"=;\",'Базовые цены с учетом расхода'!E6:E69),0)","v":693},{"$f":"ROUND(SUMIF(Определители!I6:I69,\"=;\",'Базовые цены с учетом расхода'!I6:I69),8)","v":145.25429},{"$f":"ROUND(SUMIF(Определители!I6:I69,\"=;\",'Базовые цены с учетом расхода'!K6:K69),8)","v":57.297539999999998},{"$f":"ROUND(SUMIF(Определители!I6:I69,\"=;\",'Базовые цены с учетом расхода'!F6:F69),0)","v":0},null,"78"]
[79,"СТОИМОСТЬ ПОГРУЗКИ-РАЗГРУЗКИ","m",0,null,{"$f":"ROUND((F1190-F1209-F1210-F1211),0)","v":9539},{"$f":"ROUND((G1190-G1209-G1210-G1211),0)","v":1362},{"$f":"ROUND((H1190-H1209-H1210-H1211),0)","v":4890},{"$f":"ROUND((I1190-I1209-I1210-I1211),0)","v":693},{"$f":"ROUND((J1190-J1209-J1210-J1211),8)","v":145.25429},{"$f":"ROUND((K1190-K1209-K1210-K1211),8)","v":57.297539999999998},{"$f":"ROUND((L1190-L1209-L1210-L1211),0)","v":0},null,"79"]
[80,".   В Т.Ч. НАКЛАДНЫЕ РАСХОДЫ -","Б",0,null,{"$f":"ROUND(SUMIF(Определители!I6:I69,\"=;\",'Базовые цены с учетом расхода'!AF6:AF69),0)","v":2056},null,null,null,null,null,null,null,"80"]
[81,".   В Т.Ч. СМЕТНАЯ ПРИБЫЛЬ -","Б",0,null,{"$f":"ROUND(SUMIF(Определители!I6:I69,\"=;\",'Базовые цены с учетом расхода'!AG6:AG69),0)","v":1231},null,null,null,null,null,null,null,"81"]
[82,".   НАКЛАДНЫЕ РАСХОДЫ -","Б",0,null,{"$f":"ROUND(SUMIF(Определители!I6:I69,\"=;\",'Базовые цены с учетом расхода'!N6:N69),0)","v":0},null,null,null,null,null,null,null,"82"]
[83,".   СМЕТНАЯ ПРИБЫЛЬ -","Б",0,null,{"$f":"ROUND(SUMIF(Определители!I6:I69,\"=;\",'Базовые цены с учетом расхода'!O6:O69),0)","v":0},null,null,null,null,null,null,null,"83"]
[84,"ВСЕГО, СТОИМОСТЬ ПЕРЕВОЗКИ ГРУЗОВ -","!",0,null,{"$f":"ROUND((F1190+F1194+F1195),0)","v":17259},null,null,null,null,null,null,null,"84"]
[85,"ВСЕГО, СТОИМОСТЬ ПОГРУЗКИ-РАЗГРУЗКИ -","s",0,null,{"$f":"ROUND((F1191+F1194+F1195),0)","v":9539},null,null,null,null,null,null,null,"85"]
[86,"Погрузка-разгрузка БЦ ЭМ","s",0,null,{"$f":"ROUND((H1191),0)","v":4890},null,null,null,null,null,null,null,"86"]
[87,"Погрузка-разгрузка БЦ ЗПМ","s",0,null,{"$f":"ROUND((I1191),0)","v":693},null,null,null,null,null,null,null,"87"]
[88,"Погрузка-разгрузка ТЦ ЗП","k",21.324000000000002,null,{"$f":"ROUND((G1191)*D1200,0)","v":29043},null,null,null,null,null,null,null,"88"]
[89,"Погрузка-разгрузка ТЦ ЗПМ","k",21.324000000000002,null,{"$f":"ROUND((I1191)*D1201,0)","v":14778},null,null,null,null,null,null,null,"89"]
[90,"Погрузка-разгрузка ТЦ ЭМ","k",6.1520000000000001,null,{"$f":"ROUND((F1198)*D1202,0)","v":30083},null,null,null,null,null,null,null,"90"]
[91,"Погрузка-разгрузка ТЦ материалы","k",6.32,null,{"$f":"ROUND((L1190)*D1203,0)","v":0},null,null,null,null,null,null,null,"91"]
[92,"Погрузка-разгрузка ТЦ в т.ч. НР","k",21.324000000000002,null,{"$f":"ROUND((F1192)*D1204,0)","v":43842},null,null,null,null,null,null,null,"92"]
[93,"Погрузка-разгрузка ТЦ в т.ч. СП","k",21.324000000000002,null,{"$f":"ROUND((F1193)*D1205,0)","v":26250},null,null,null,null,null,null,null,"93"]
[94,"Погрузка-разгрузка ТЦ НР","k",21.324000000000002,null,{"$f":"ROUND((F1194)*D1206,0)","v":0},null,null,null,null,null,null,null,"94"]
[95,"Погрузка-разгрузка ТЦ СП","k",21.324000000000002,null,{"$f":"ROUND((F1195)*D1207,0)","v":0},null,null,null,null,null,null,null,"95"]
[96,"Погрузка-разгрузка ТЦ всего","s",0,null,{"$f":"ROUND((F1200+F1202+F1203+F1206+F1207+F1204+F1205),0)","v":129218},null,null,null,null,null,null,null,"96"]
[97,"ПЕРЕВОЗКА (таб.6)","f",0,null,null,null,null,null,null,null,null,null,"97"]
[98,"ПЕРЕВОЗКА (таб.7)","f",0,null,null,null,null,null,null,null,null,null,"98"]
[99,"ПЕРЕВОЗКА (таб.8)","f",0,null,7720,null,7720,null,null,null,null,null,"99"]
[100,"Перевозка (таб.6) ТЦ","k",1,null,{"$f":"ROUND((F1209)*D1212,0)","v":0},null,null,null,null,null,null,null,"100"]
[101,"Перевозка (таб.7) ТЦ","k",1,null,{"$f":"ROUND((F1210)*D1213,0)","v":0},null,null,null,null,null,null,null,"101"]
[102,"Перевозка (таб.8) ТЦ","k",10.144,null,{"$f":"ROUND((F1211)*D1214,0)","v":78312},null,null,null,null,null,null,null,"102"]
[103,"Перевозка ТЦ  всего","s",0,null,{"$f":"ROUND((F1212+F1213+F1214),0)","v":78312},null,null,null,null,null,null,null,"103"]
[104,"СТОИМОСТЬ ПУСКОНАЛАДОЧНЫХ РАБОТ -","Б",0,null,{"$f":"ROUND(SUMIF(Определители!I6:I69,\"=9\",'Базовые цены с учетом расхода'!B6:B69),0)","v":0},{"$f":"ROUND(SUMIF(Определители!I6:I69,\"=9\",'Базовые цены с учетом расхода'!C6:C69),0)","v":0},{"$f":"ROUND(SUMIF(Определители!I6:I69,\"=9\",'Базовые цены с учетом расхода'!D6:D69),0)","v":0},{"$f":"ROUND(SUMIF(Определители!I6:I69,\"=9\",'Базовые цены с учетом расхода'!E6:E69),0)","v":0},{"$f":"ROUND(SUMIF(Определители!I6:I69,\"=9\",'Базовые цены с учетом расхода'!I6:I69),8)","v":0},{"$f":"ROUND(SUMIF(Определители!I6:I69,\"=9\",'Базовые цены с учетом расхода'!K6:K69),8)","v":0},{"$f":"ROUND(SUMIF(Определители!I6:I69,\"=9\",'Базовые цены с учетом расхода'!F6:F69),0)","v":0},null,"104"]
[105,".   НАКЛАДНЫЕ РАСХОДЫ -","Б",0,null,{"$f":"ROUND(SUMIF(Определители!I6:I69,\"=9\",'Базовые цены с учетом расхода'!N6:N69),0)","v":0},null,null,null,null,null,null,null,"105"]
[106,".   СМЕТНАЯ ПРИБЫЛЬ -","Б",0,null,{"$f":"ROUND(SUMIF(Определители!I6:I69,\"=9\",'Базовые цены с учетом расхода'!O6:O69),0)","v":0},null,null,null,null,null,null,null,"106"]
[107,"ВСЕГО, СТОИМОСТЬ ПУСКОНАЛАДОЧНЫХ РАБОТ -","!",0,null,{"$f":"ROUND((F1216+F1217+F1218),0)","v":0},null,null,null,null,null,null,null,"107"]
[108,"Пусконаладочные работы ТЦ ЗП","k",1,null,{"$f":"ROUND((G1216)*D1220,0)","v":0},null,null,null,null,null,null,null,"108"]
[109,"Пусконаладочные работы ТЦ НР","k",1,null,{"$f":"ROUND((F1217)*D1221,0)","v":0},null,null,null,null,null,null,null,"109"]
[110,"Пусконаладочные работы ТЦ СП","k",1,null,{"$f":"ROUND((F1218)*D1222,0)","v":0},null,null,null,null,null,null,null,"110"]
[111,"Пусконаладочные работы ТЦ всего","s",0,null,{"$f":"ROUND((F1220+F1221+F1222),0)","v":0},null,null,null,null,null,null,null,"111"]
[112,"СТОИМОСТЬ ПРОЧИХ РАБОТ (с НР и СП) -","Б",0,null,{"$f":"ROUND(SUMIF(Определители!I6:I69,\"=:\",'Базовые цены с учетом расхода'!B6:B69),0)","v":0},{"$f":"ROUND(SUMIF(Определители!I6:I69,\"=:\",'Базовые цены с учетом расхода'!C6:C69),0)","v":0},{"$f":"ROUND(SUMIF(Определители!I6:I69,\"=:\",'Базовые цены с учетом расхода'!D6:D69),0)","v":0},{"$f":"ROUND(SUMIF(Определители!I6:I69,\"=:\",'Базовые цены с учетом расхода'!E6:E69),0)","v":0},{"$f":"ROUND(SUMIF(Определители!I6:I69,\"=:\",'Базовые цены с учетом расхода'!I6:I69),8)","v":0},{"$f":"ROUND(SUMIF(Определители!I6:I69,\"=:\",'Базовые цены с учетом расхода'!K6:K69),8)","v":0},{"$f":"ROUND(SUMIF(Определители!I6:I69,\"=:\",'Базовые цены с учетом расхода'!F6:F69),0)","v":0},null,"112"]
[113,".   СТОИМОСТЬ ВОЗВРАЩАЕМЫХ МАТЕРИАЛОВ -","Б",0,null,{"$f":"ROUND(SUMIF(Определители!I6:I69,\"=:\",'Базовые цены с учетом расхода'!H6:H69),0)","v":0},null,null,null,null,null,null,null,"113"]
[114,".   НАКЛАДНЫЕ РАСХОДЫ -","Б",0,null,{"$f":"ROUND(SUMIF(Определители!I6:I69,\"=:\",'Базовые цены с учетом расхода'!N6:N69),0)","v":0},null,null,null,null,null,null,null,"114"]
[115,".   СМЕТНАЯ ПРИБЫЛЬ -","Б",0,null,{"$f":"ROUND(SUMIF(Определители!I6:I69,\"=:\",'Базовые цены с учетом расхода'!O6:O69),0)","v":0},null,null,null,null,null,null,null,"115"]
[116,"ВСЕГО, СТОИМОСТЬ ПРОЧИХ РАБОТ (с НР и СП) -","!",0,null,{"$f":"ROUND((F1224+F1226+F1227),0)","v":0},null,null,null,null,null,null,null,"116"]
[117,"ВСЕГО, СТОИМОСТЬ ПРОЧИХ РАБОТ (без НР и СП) -","Б",0,null,{"$f":"ROUND(SUMIF(Определители!I6:I69,\"=8\",'Базовые цены с учетом расхода'!B6:B69),0)","v":0},{"$f":"ROUND(SUMIF(Определители!I6:I69,\"=8\",'Базовые цены с учетом расхода'!C6:C69),0)","v":0},{"$f":"ROUND(SUMIF(Определители!I6:I69,\"=8\",'Базовые цены с учетом расхода'!D6:D69),0)","v":0},{"$f":"ROUND(SUMIF(Определители!I6:I69,\"=8\",'Базовые цены с учетом расхода'!E6:E69),0)","v":0},{"$f":"ROUND(SUMIF(Определители!I6:I69,\"=8\",'Базовые цены с учетом расхода'!I6:I69),8)","v":0},{"$f":"ROUND(SUMIF(Определители!I6:I69,\"=8\",'Базовые цены с учетом расхода'!K6:K69),8)","v":0},{"$f":"ROUND(SUMIF(Определители!I6:I69,\"=8\",'Базовые цены с учетом расхода'!F6:F69),0)","v":0},null,"117"]
[118,".   СТОИМОСТЬ ВОЗВРАЩАЕМЫХ МАТЕРИАЛОВ -","Б",0,null,{"$f":"ROUND(SUMIF(Определители!I6:I69,\"=8\",'Базовые цены с учетом расхода'!H6:H69),0)","v":0},null,null,null,null,null,null,null,"118"]
[119,"Прочие работы БЦ ЭМ","s",0,null,{"$f":"ROUND((H1224+H1229),0)","v":0},null,null,null,null,null,null,null,"119"]
[120,"Прочие работы БЦ ЗПМ","s",0,null,{"$f":"ROUND((I1224+I1229),0)","v":0},null,null,null,null,null,null,null,"120"]
[121,"Прочие работы ТЦ ЗП","k",1,null,{"$f":"ROUND((G1224+G1229)*D1233,0)","v":0},null,null,null,null,null,null,null,"121"]
[122,"Прочие работы ТЦ ЗПМ","k",1,null,{"$f":"ROUND((F1232)*D1234,0)","v":0},null,null,null,null,null,null,null,"122"]
[123,"Прочие работы ТЦ ЭМ","k",1,null,{"$f":"ROUND((F1231)*D1235,0)","v":0},null,null,null,null,null,null,null,"123"]
[124,"Прочие работы ТЦ материалы","k",1,null,{"$f":"ROUND((L1224+L1229)*D1236,0)","v":0},null,null,null,null,null,null,null,"124"]
[125,"Прочие работы ТЦ НР","k",1,null,{"$f":"ROUND((F1226)*D1237,0)","v":0},null,null,null,null,null,null,null,"125"]
[126,"Прочие работы ТЦ СП","k",1,null,{"$f":"ROUND((F1227)*D1238,0)","v":0},null,null,null,null,null,null,null,"126"]
[127,"Прочие работы ТЦ всего","s",0,null,{"$f":"ROUND((F1233+F1235+F1236+F1237+F1238),0)","v":0},null,null,null,null,null,null,null,"127"]
[128,". ВСЕГО  ПО  СМЕТЕ","!",0,null,{"$f":"ROUND((F1123+F1134+F1150+F1155+F1163+F1168+F1173+F1180+F1196+F1219+F1228+F1229),0)","v":222454},{"$f":"ROUND((G1123+G1134+G1150+G1155+G1163+G1168+G1173+G1180+G1196+G1219+G1228+G1229),0)","v":0},{"$f":"ROUND((H1123+H1134+H1150+H1155+H1163+H1168+H1173+H1180+H1196+H1219+H1228+H1229),0)","v":0},{"$f":"ROUND((I1123+I1134+I1150+I1155+I1163+I1168+I1173+I1180+I1196+I1219+I1228+I1229),0)","v":0},{"$f":"ROUND((J1123+J1134+J1150+J1155+J1163+J1168+J1173+J1180+J1196+J1219+J1228+J1229),8)","v":0},{"$f":"ROUND((K1123+K1134+K1150+K1155+K1163+K1168+K1173+K1180+K1196+K1219+K1228+K1229),8)","v":0},{"$f":"ROUND((L1123+L1134+L1150+L1155+L1163+L1168+L1173+L1180+L1196+L1219+L1228+L1229),0)","v":0},null,"128"]
[129,"ВСЕГО СТОИМОСТЬ ВОЗВРАЩАЕМЫХ МАТЕРИАЛОВ -","!",0,null,{"$f":"ROUND((F1130+F1147+F1152+F1159+F1165+F1170+F1177+F1225+F1230),0)","v":0},null,null,null,null,null,null,null,"129"]
[130,"ВСЕГО НАКЛАДНЫЕ РАСХОДЫ","!",0,null,{"$f":"ROUND((F1131+F1148+F1153+F1160+F1166+F1171+F1178+F1194+F1217+F1226),0)","v":13224},null,null,null,null,null,null,null,"130"]
[131,"ВСЕГО НАКЛАДНЫЕ РАСХОДЫ","s",0,null,{"$f":"ROUND((F1242+F1192),0)","v":15280},null,null,null,null,null,null,null,"131"]
[132,"ВСЕГО СМЕТНАЯ ПРИБЫЛЬ","!",0,null,{"$f":"ROUND((F1132+F1149+F1154+F1161+F1167+F1172+F1179+F1195+F1218+F1227),0)","v":7699},null,null,null,null,null,null,null,"132"]
[133,"ВСЕГО СМЕТНАЯ ПРИБЫЛЬ","s",0,null,{"$f":"ROUND((F1244+F1193),0)","v":8930},null,null,null,null,null,null,null,"133"]
[134,"в т.ч. Вспомогательные материалы на монтаж","h",0,null,{"$f":"ROUND(SUM('Базовые цены с учетом расхода'!X6:X69),0)","v":0},null,null,null,null,null,{"$f":"ROUND(SUM('Базовые цены с учетом расхода'!X6:X69),0)","v":0},null,"134"]
[135,"в т.ч. Вспомогательные материалы от ОЗП","h",0,null,{"$f":"ROUND(SUM('Базовые цены с учетом расхода'!AE6:AE69),0)","v":0},null,null,null,null,null,null,null,"135"]
[136,"Оплата основных рабочих","h",0,null,{"$f":"ROUND(SUM('Базовые цены с учетом расхода'!C6:C69),0)","v":9345},null,null,null,null,null,null,null,"136"]
[137,"Оплата механизаторов","h",0,null,{"$f":"ROUND(SUM('Базовые цены с учетом расхода'!E6:E69),0)","v":2693},null,null,null,null,null,null,null,"137"]
[138,"Стоимость механизмов","h",0,null,{"$f":"ROUND(SUM('Базовые цены с учетом расхода'!D6:D69),0)","v":30893},null,null,null,null,null,null,null,"138"]
[139,"Сметная стоимость материалов","h",0,null,{"$f":"ROUND(SUM('Базовые цены с учетом расхода'!F6:F69),0)","v":158006},null,null,null,null,null,{"$f":"ROUND(SUM('Базовые цены с учетом расхода'!F6:F69),0)","v":158006},null,"139"]
[140,"Трудозатраты осн. рабочих","h",0,null,null,null,null,null,{"$f":"ROUND(SUM('Базовые цены с учетом расхода'!I6:I69),8)","v":922.54929000000004},null,null,null,"140"]
[141,"Трудозатраты механизаторов","h",0,null,null,null,null,null,{"$f":"ROUND(SUM('Базовые цены с учетом расхода'!K6:K69),8)","v":186.46529200000001},null,null,null,"141"]
[142,"Нормативная трудоемкость","s",0,null,null,null,null,null,{"$f":"ROUND((J1252+J1253),8)","v":1109.014582},null,null,null,"142"]
[143,"Оплата основных рабочих ТЦ","s",0,null,{"$f":"ROUND((F1137+F1183+F1200+F1233+F1220),0)","v":199272},null,null,null,null,null,null,null,"143"]
[144,"Оплата механизаторов ТЦ","s",0,null,{"$f":"ROUND((F1138+F1184+F1201+F1234),0)","v":57426},null,null,null,null,null,null,null,"144"]
[145,"Стоимость механизмов ТЦ","s",0,null,{"$f":"ROUND((F1139+F1185+F1202+F1235),0)","v":142560},null,null,null,null,null,null,null,"145"]
[146,"Стоимость материалов ТЦ","s",0,null,{"$f":"ROUND((F1140+F1186+F1203+F1236),0)","v":1139631},null,null,null,null,null,null,null,"146"]
[147,"Оборудование ТЦ","s",0,null,{"$f":"ROUND((F1124),0)","v":0},null,null,null,null,null,null,null,"147"]
[148,"Перевозка ТЦ","s",0,null,{"$f":"ROUND((F1215),0)","v":78312},null,null,null,null,null,null,null,"148"]
[149,"ИТОГО ТЦ","s",0,null,{"$f":"ROUND((F1255+F1257+F1258+F1259+F1260),0)","v":1559775},null,null,null,null,null,null,null,"149"]
[150,"В Т.Ч. НАКЛАДНЫЕ РАСХОДЫ ТЦ","s",0,null,{"$f":"ROUND((F1204),0)","v":43842},null,null,null,null,null,null,null,"150"]
[151,"В Т.Ч. СМЕТНАЯ ПРИБЫЛЬ ТЦ","s",0,null,{"$f":"ROUND((F1205),0)","v":26250},null,null,null,null,null,null,null,"151"]
[152,"НАКЛАДНЫЕ РАСХОДЫ ТЦ","s",0,null,{"$f":"ROUND((F1141+F1187+F1206+F1221+F1237+F1204),0)","v":248200},null,null,null,null,null,null,null,"152"]
[153,"СМЕТНАЯ ПРИБЫЛЬ ТЦ","s",0,null,{"$f":"ROUND((F1142+F1188+F1207+F1238+F1222+F1205),0)","v":138575},null,null,null,null,null,null,null,"153"]
[154,"ВСЕГО ТЦ","s",0,null,{"$f":"ROUND((F1261+F1264+F1265),0)","v":1946550},null,null,null,null,null,null,null,"154"]